BEGIN:VCALENDAR
VERSION:2.0
PRODID:-//Bridge &amp; Enrich Lives Society - ECPv6.15.13//NONSGML v1.0//EN
CALSCALE:GREGORIAN
METHOD:PUBLISH
X-WR-CALNAME:Bridge &amp; Enrich Lives Society
X-ORIGINAL-URL:https://www.bridgeandenrich.com
X-WR-CALDESC:Events for Bridge &amp; Enrich Lives Society
REFRESH-INTERVAL;VALUE=DURATION:PT1H
X-Robots-Tag:noindex
X-PUBLISHED-TTL:PT1H
BEGIN:VTIMEZONE
TZID:America/Vancouver
BEGIN:DAYLIGHT
TZOFFSETFROM:-0800
TZOFFSETTO:-0700
TZNAME:PDT
DTSTART:20260308T100000
END:DAYLIGHT
BEGIN:STANDARD
TZOFFSETFROM:-0700
TZOFFSETTO:-0800
TZNAME:PST
DTSTART:20261101T090000
END:STANDARD
BEGIN:DAYLIGHT
TZOFFSETFROM:-0800
TZOFFSETTO:-0700
TZNAME:PDT
DTSTART:20270314T100000
END:DAYLIGHT
BEGIN:STANDARD
TZOFFSETFROM:-0700
TZOFFSETTO:-0800
TZNAME:PST
DTSTART:20271107T090000
END:STANDARD
BEGIN:DAYLIGHT
TZOFFSETFROM:-0800
TZOFFSETTO:-0700
TZNAME:PDT
DTSTART:20280312T100000
END:DAYLIGHT
BEGIN:STANDARD
TZOFFSETFROM:-0700
TZOFFSETTO:-0800
TZNAME:PST
DTSTART:20281105T090000
END:STANDARD
END:VTIMEZONE
BEGIN:VEVENT
DTSTART;TZID=America/Vancouver:20270101T093000
DTEND;TZID=America/Vancouver:20270101T113000
DTSTAMP:20260420T011630
CREATED:20250719T172210Z
LAST-MODIFIED:20250803T184838Z
UID:10002457-1798795800-1798803000@www.bridgeandenrich.com
SUMMARY:Tai Chi
DESCRIPTION:Tuesdays\, Wednesdays and Fridays from 9:30am to 11:30am. \nFor students of Master Chu.
URL:https://www.bridgeandenrich.com/event/tai-chi-251/2027-01-01/
LOCATION:Bridge & Enrich Lives Society\, 718 East 20th Avenue\, Vancouver\, British Columbia\, V5V 1N3\, Canada
CATEGORIES:Regular Weekly Classes
END:VEVENT
BEGIN:VEVENT
DTSTART;TZID=America/Vancouver:20270105T093000
DTEND;TZID=America/Vancouver:20270105T113000
DTSTAMP:20260420T011630
CREATED:20250719T172210Z
LAST-MODIFIED:20250803T184838Z
UID:10002458-1799141400-1799148600@www.bridgeandenrich.com
SUMMARY:Tai Chi
DESCRIPTION:Tuesdays\, Wednesdays and Fridays from 9:30am to 11:30am. \nFor students of Master Chu.
URL:https://www.bridgeandenrich.com/event/tai-chi-251/2027-01-05/
LOCATION:Bridge & Enrich Lives Society\, 718 East 20th Avenue\, Vancouver\, British Columbia\, V5V 1N3\, Canada
CATEGORIES:Regular Weekly Classes
END:VEVENT
BEGIN:VEVENT
DTSTART;TZID=America/Vancouver:20270105T193000
DTEND;TZID=America/Vancouver:20270105T210000
DTSTAMP:20260420T011630
CREATED:20250719T172928Z
LAST-MODIFIED:20250803T184953Z
UID:10003344-1799177400-1799182800@www.bridgeandenrich.com
SUMMARY:Art of Living Sudarshan Kriya
DESCRIPTION:Join Karthik and MK from Vancouver’s vibrant Art of Living community for in-person yoga and a Guided Sudarshan Kriya Process (SKY). \nBut please note\, there is a prerequisite to joining: Attendance of their Level 1 Program in order to join in-person Tuesday SKY Meditation. Please contact Art of Living Vancouver for details on joining.\n 
URL:https://www.bridgeandenrich.com/event/art-of-living-sudarshan-kriya-155/2027-01-05/
LOCATION:Bridge & Enrich Lives Society\, 718 East 20th Avenue\, Vancouver\, British Columbia\, V5V 1N3\, Canada
CATEGORIES:Regular Weekly Classes
END:VEVENT
BEGIN:VEVENT
DTSTART;TZID=America/Vancouver:20270106T093000
DTEND;TZID=America/Vancouver:20270106T113000
DTSTAMP:20260420T011630
CREATED:20250719T172210Z
LAST-MODIFIED:20250803T184838Z
UID:10002459-1799227800-1799235000@www.bridgeandenrich.com
SUMMARY:Tai Chi
DESCRIPTION:Tuesdays\, Wednesdays and Fridays from 9:30am to 11:30am. \nFor students of Master Chu.
URL:https://www.bridgeandenrich.com/event/tai-chi-251/2027-01-06/
LOCATION:Bridge & Enrich Lives Society\, 718 East 20th Avenue\, Vancouver\, British Columbia\, V5V 1N3\, Canada
CATEGORIES:Regular Weekly Classes
END:VEVENT
BEGIN:VEVENT
DTSTART;TZID=America/Vancouver:20270108T093000
DTEND;TZID=America/Vancouver:20270108T113000
DTSTAMP:20260420T011630
CREATED:20250719T172210Z
LAST-MODIFIED:20250803T184838Z
UID:10002460-1799400600-1799407800@www.bridgeandenrich.com
SUMMARY:Tai Chi
DESCRIPTION:Tuesdays\, Wednesdays and Fridays from 9:30am to 11:30am. \nFor students of Master Chu.
URL:https://www.bridgeandenrich.com/event/tai-chi-251/2027-01-08/
LOCATION:Bridge & Enrich Lives Society\, 718 East 20th Avenue\, Vancouver\, British Columbia\, V5V 1N3\, Canada
CATEGORIES:Regular Weekly Classes
END:VEVENT
BEGIN:VEVENT
DTSTART;TZID=America/Vancouver:20270112T093000
DTEND;TZID=America/Vancouver:20270112T113000
DTSTAMP:20260420T011630
CREATED:20250719T172210Z
LAST-MODIFIED:20250803T184838Z
UID:10002461-1799746200-1799753400@www.bridgeandenrich.com
SUMMARY:Tai Chi
DESCRIPTION:Tuesdays\, Wednesdays and Fridays from 9:30am to 11:30am. \nFor students of Master Chu.
URL:https://www.bridgeandenrich.com/event/tai-chi-251/2027-01-12/
LOCATION:Bridge & Enrich Lives Society\, 718 East 20th Avenue\, Vancouver\, British Columbia\, V5V 1N3\, Canada
CATEGORIES:Regular Weekly Classes
END:VEVENT
BEGIN:VEVENT
DTSTART;TZID=America/Vancouver:20270112T193000
DTEND;TZID=America/Vancouver:20270112T210000
DTSTAMP:20260420T011630
CREATED:20250719T172928Z
LAST-MODIFIED:20250803T184953Z
UID:10003345-1799782200-1799787600@www.bridgeandenrich.com
SUMMARY:Art of Living Sudarshan Kriya
DESCRIPTION:Join Karthik and MK from Vancouver’s vibrant Art of Living community for in-person yoga and a Guided Sudarshan Kriya Process (SKY). \nBut please note\, there is a prerequisite to joining: Attendance of their Level 1 Program in order to join in-person Tuesday SKY Meditation. Please contact Art of Living Vancouver for details on joining.\n 
URL:https://www.bridgeandenrich.com/event/art-of-living-sudarshan-kriya-155/2027-01-12/
LOCATION:Bridge & Enrich Lives Society\, 718 East 20th Avenue\, Vancouver\, British Columbia\, V5V 1N3\, Canada
CATEGORIES:Regular Weekly Classes
END:VEVENT
BEGIN:VEVENT
DTSTART;TZID=America/Vancouver:20270113T093000
DTEND;TZID=America/Vancouver:20270113T113000
DTSTAMP:20260420T011630
CREATED:20250719T172210Z
LAST-MODIFIED:20250803T184838Z
UID:10002462-1799832600-1799839800@www.bridgeandenrich.com
SUMMARY:Tai Chi
DESCRIPTION:Tuesdays\, Wednesdays and Fridays from 9:30am to 11:30am. \nFor students of Master Chu.
URL:https://www.bridgeandenrich.com/event/tai-chi-251/2027-01-13/
LOCATION:Bridge & Enrich Lives Society\, 718 East 20th Avenue\, Vancouver\, British Columbia\, V5V 1N3\, Canada
CATEGORIES:Regular Weekly Classes
END:VEVENT
BEGIN:VEVENT
DTSTART;TZID=America/Vancouver:20270115T093000
DTEND;TZID=America/Vancouver:20270115T113000
DTSTAMP:20260420T011630
CREATED:20250719T172210Z
LAST-MODIFIED:20250803T184838Z
UID:10002463-1800005400-1800012600@www.bridgeandenrich.com
SUMMARY:Tai Chi
DESCRIPTION:Tuesdays\, Wednesdays and Fridays from 9:30am to 11:30am. \nFor students of Master Chu.
URL:https://www.bridgeandenrich.com/event/tai-chi-251/2027-01-15/
LOCATION:Bridge & Enrich Lives Society\, 718 East 20th Avenue\, Vancouver\, British Columbia\, V5V 1N3\, Canada
CATEGORIES:Regular Weekly Classes
END:VEVENT
BEGIN:VEVENT
DTSTART;TZID=America/Vancouver:20270119T093000
DTEND;TZID=America/Vancouver:20270119T113000
DTSTAMP:20260420T011630
CREATED:20250719T172210Z
LAST-MODIFIED:20250803T184838Z
UID:10002464-1800351000-1800358200@www.bridgeandenrich.com
SUMMARY:Tai Chi
DESCRIPTION:Tuesdays\, Wednesdays and Fridays from 9:30am to 11:30am. \nFor students of Master Chu.
URL:https://www.bridgeandenrich.com/event/tai-chi-251/2027-01-19/
LOCATION:Bridge & Enrich Lives Society\, 718 East 20th Avenue\, Vancouver\, British Columbia\, V5V 1N3\, Canada
CATEGORIES:Regular Weekly Classes
END:VEVENT
BEGIN:VEVENT
DTSTART;TZID=America/Vancouver:20270119T193000
DTEND;TZID=America/Vancouver:20270119T210000
DTSTAMP:20260420T011630
CREATED:20250719T172928Z
LAST-MODIFIED:20250803T184953Z
UID:10003346-1800387000-1800392400@www.bridgeandenrich.com
SUMMARY:Art of Living Sudarshan Kriya
DESCRIPTION:Join Karthik and MK from Vancouver’s vibrant Art of Living community for in-person yoga and a Guided Sudarshan Kriya Process (SKY). \nBut please note\, there is a prerequisite to joining: Attendance of their Level 1 Program in order to join in-person Tuesday SKY Meditation. Please contact Art of Living Vancouver for details on joining.\n 
URL:https://www.bridgeandenrich.com/event/art-of-living-sudarshan-kriya-155/2027-01-19/
LOCATION:Bridge & Enrich Lives Society\, 718 East 20th Avenue\, Vancouver\, British Columbia\, V5V 1N3\, Canada
CATEGORIES:Regular Weekly Classes
END:VEVENT
BEGIN:VEVENT
DTSTART;TZID=America/Vancouver:20270120T093000
DTEND;TZID=America/Vancouver:20270120T113000
DTSTAMP:20260420T011630
CREATED:20250719T172210Z
LAST-MODIFIED:20250803T184838Z
UID:10002465-1800437400-1800444600@www.bridgeandenrich.com
SUMMARY:Tai Chi
DESCRIPTION:Tuesdays\, Wednesdays and Fridays from 9:30am to 11:30am. \nFor students of Master Chu.
URL:https://www.bridgeandenrich.com/event/tai-chi-251/2027-01-20/
LOCATION:Bridge & Enrich Lives Society\, 718 East 20th Avenue\, Vancouver\, British Columbia\, V5V 1N3\, Canada
CATEGORIES:Regular Weekly Classes
END:VEVENT
BEGIN:VEVENT
DTSTART;TZID=America/Vancouver:20270122T093000
DTEND;TZID=America/Vancouver:20270122T113000
DTSTAMP:20260420T011630
CREATED:20250719T172210Z
LAST-MODIFIED:20250803T184838Z
UID:10002466-1800610200-1800617400@www.bridgeandenrich.com
SUMMARY:Tai Chi
DESCRIPTION:Tuesdays\, Wednesdays and Fridays from 9:30am to 11:30am. \nFor students of Master Chu.
URL:https://www.bridgeandenrich.com/event/tai-chi-251/2027-01-22/
LOCATION:Bridge & Enrich Lives Society\, 718 East 20th Avenue\, Vancouver\, British Columbia\, V5V 1N3\, Canada
CATEGORIES:Regular Weekly Classes
END:VEVENT
BEGIN:VEVENT
DTSTART;TZID=America/Vancouver:20270126T093000
DTEND;TZID=America/Vancouver:20270126T113000
DTSTAMP:20260420T011630
CREATED:20250719T172210Z
LAST-MODIFIED:20250803T184838Z
UID:10002467-1800955800-1800963000@www.bridgeandenrich.com
SUMMARY:Tai Chi
DESCRIPTION:Tuesdays\, Wednesdays and Fridays from 9:30am to 11:30am. \nFor students of Master Chu.
URL:https://www.bridgeandenrich.com/event/tai-chi-251/2027-01-26/
LOCATION:Bridge & Enrich Lives Society\, 718 East 20th Avenue\, Vancouver\, British Columbia\, V5V 1N3\, Canada
CATEGORIES:Regular Weekly Classes
END:VEVENT
BEGIN:VEVENT
DTSTART;TZID=America/Vancouver:20270126T193000
DTEND;TZID=America/Vancouver:20270126T210000
DTSTAMP:20260420T011630
CREATED:20250719T172928Z
LAST-MODIFIED:20250803T184953Z
UID:10003347-1800991800-1800997200@www.bridgeandenrich.com
SUMMARY:Art of Living Sudarshan Kriya
DESCRIPTION:Join Karthik and MK from Vancouver’s vibrant Art of Living community for in-person yoga and a Guided Sudarshan Kriya Process (SKY). \nBut please note\, there is a prerequisite to joining: Attendance of their Level 1 Program in order to join in-person Tuesday SKY Meditation. Please contact Art of Living Vancouver for details on joining.\n 
URL:https://www.bridgeandenrich.com/event/art-of-living-sudarshan-kriya-155/2027-01-26/
LOCATION:Bridge & Enrich Lives Society\, 718 East 20th Avenue\, Vancouver\, British Columbia\, V5V 1N3\, Canada
CATEGORIES:Regular Weekly Classes
END:VEVENT
BEGIN:VEVENT
DTSTART;TZID=America/Vancouver:20270127T093000
DTEND;TZID=America/Vancouver:20270127T113000
DTSTAMP:20260420T011630
CREATED:20250719T172210Z
LAST-MODIFIED:20250803T184838Z
UID:10002468-1801042200-1801049400@www.bridgeandenrich.com
SUMMARY:Tai Chi
DESCRIPTION:Tuesdays\, Wednesdays and Fridays from 9:30am to 11:30am. \nFor students of Master Chu.
URL:https://www.bridgeandenrich.com/event/tai-chi-251/2027-01-27/
LOCATION:Bridge & Enrich Lives Society\, 718 East 20th Avenue\, Vancouver\, British Columbia\, V5V 1N3\, Canada
CATEGORIES:Regular Weekly Classes
END:VEVENT
BEGIN:VEVENT
DTSTART;TZID=America/Vancouver:20270129T093000
DTEND;TZID=America/Vancouver:20270129T113000
DTSTAMP:20260420T011630
CREATED:20250719T172210Z
LAST-MODIFIED:20250803T184838Z
UID:10002469-1801215000-1801222200@www.bridgeandenrich.com
SUMMARY:Tai Chi
DESCRIPTION:Tuesdays\, Wednesdays and Fridays from 9:30am to 11:30am. \nFor students of Master Chu.
URL:https://www.bridgeandenrich.com/event/tai-chi-251/2027-01-29/
LOCATION:Bridge & Enrich Lives Society\, 718 East 20th Avenue\, Vancouver\, British Columbia\, V5V 1N3\, Canada
CATEGORIES:Regular Weekly Classes
END:VEVENT
BEGIN:VEVENT
DTSTART;TZID=America/Vancouver:20270202T093000
DTEND;TZID=America/Vancouver:20270202T113000
DTSTAMP:20260420T011630
CREATED:20250719T172210Z
LAST-MODIFIED:20250803T184838Z
UID:10002470-1801560600-1801567800@www.bridgeandenrich.com
SUMMARY:Tai Chi
DESCRIPTION:Tuesdays\, Wednesdays and Fridays from 9:30am to 11:30am. \nFor students of Master Chu.
URL:https://www.bridgeandenrich.com/event/tai-chi-251/2027-02-02/
LOCATION:Bridge & Enrich Lives Society\, 718 East 20th Avenue\, Vancouver\, British Columbia\, V5V 1N3\, Canada
CATEGORIES:Regular Weekly Classes
END:VEVENT
BEGIN:VEVENT
DTSTART;TZID=America/Vancouver:20270202T193000
DTEND;TZID=America/Vancouver:20270202T210000
DTSTAMP:20260420T011630
CREATED:20250719T172928Z
LAST-MODIFIED:20250803T184953Z
UID:10003348-1801596600-1801602000@www.bridgeandenrich.com
SUMMARY:Art of Living Sudarshan Kriya
DESCRIPTION:Join Karthik and MK from Vancouver’s vibrant Art of Living community for in-person yoga and a Guided Sudarshan Kriya Process (SKY). \nBut please note\, there is a prerequisite to joining: Attendance of their Level 1 Program in order to join in-person Tuesday SKY Meditation. Please contact Art of Living Vancouver for details on joining.\n 
URL:https://www.bridgeandenrich.com/event/art-of-living-sudarshan-kriya-155/2027-02-02/
LOCATION:Bridge & Enrich Lives Society\, 718 East 20th Avenue\, Vancouver\, British Columbia\, V5V 1N3\, Canada
CATEGORIES:Regular Weekly Classes
END:VEVENT
BEGIN:VEVENT
DTSTART;TZID=America/Vancouver:20270203T093000
DTEND;TZID=America/Vancouver:20270203T113000
DTSTAMP:20260420T011630
CREATED:20250719T172210Z
LAST-MODIFIED:20250803T184838Z
UID:10002471-1801647000-1801654200@www.bridgeandenrich.com
SUMMARY:Tai Chi
DESCRIPTION:Tuesdays\, Wednesdays and Fridays from 9:30am to 11:30am. \nFor students of Master Chu.
URL:https://www.bridgeandenrich.com/event/tai-chi-251/2027-02-03/
LOCATION:Bridge & Enrich Lives Society\, 718 East 20th Avenue\, Vancouver\, British Columbia\, V5V 1N3\, Canada
CATEGORIES:Regular Weekly Classes
END:VEVENT
BEGIN:VEVENT
DTSTART;TZID=America/Vancouver:20270205T093000
DTEND;TZID=America/Vancouver:20270205T113000
DTSTAMP:20260420T011630
CREATED:20250719T172210Z
LAST-MODIFIED:20250803T184838Z
UID:10002472-1801819800-1801827000@www.bridgeandenrich.com
SUMMARY:Tai Chi
DESCRIPTION:Tuesdays\, Wednesdays and Fridays from 9:30am to 11:30am. \nFor students of Master Chu.
URL:https://www.bridgeandenrich.com/event/tai-chi-251/2027-02-05/
LOCATION:Bridge & Enrich Lives Society\, 718 East 20th Avenue\, Vancouver\, British Columbia\, V5V 1N3\, Canada
CATEGORIES:Regular Weekly Classes
END:VEVENT
BEGIN:VEVENT
DTSTART;TZID=America/Vancouver:20270209T093000
DTEND;TZID=America/Vancouver:20270209T113000
DTSTAMP:20260420T011630
CREATED:20250719T172210Z
LAST-MODIFIED:20250803T184838Z
UID:10002473-1802165400-1802172600@www.bridgeandenrich.com
SUMMARY:Tai Chi
DESCRIPTION:Tuesdays\, Wednesdays and Fridays from 9:30am to 11:30am. \nFor students of Master Chu.
URL:https://www.bridgeandenrich.com/event/tai-chi-251/2027-02-09/
LOCATION:Bridge & Enrich Lives Society\, 718 East 20th Avenue\, Vancouver\, British Columbia\, V5V 1N3\, Canada
CATEGORIES:Regular Weekly Classes
END:VEVENT
BEGIN:VEVENT
DTSTART;TZID=America/Vancouver:20270209T193000
DTEND;TZID=America/Vancouver:20270209T210000
DTSTAMP:20260420T011630
CREATED:20250719T172928Z
LAST-MODIFIED:20250803T184953Z
UID:10003349-1802201400-1802206800@www.bridgeandenrich.com
SUMMARY:Art of Living Sudarshan Kriya
DESCRIPTION:Join Karthik and MK from Vancouver’s vibrant Art of Living community for in-person yoga and a Guided Sudarshan Kriya Process (SKY). \nBut please note\, there is a prerequisite to joining: Attendance of their Level 1 Program in order to join in-person Tuesday SKY Meditation. Please contact Art of Living Vancouver for details on joining.\n 
URL:https://www.bridgeandenrich.com/event/art-of-living-sudarshan-kriya-155/2027-02-09/
LOCATION:Bridge & Enrich Lives Society\, 718 East 20th Avenue\, Vancouver\, British Columbia\, V5V 1N3\, Canada
CATEGORIES:Regular Weekly Classes
END:VEVENT
BEGIN:VEVENT
DTSTART;TZID=America/Vancouver:20270210T093000
DTEND;TZID=America/Vancouver:20270210T113000
DTSTAMP:20260420T011630
CREATED:20250719T172210Z
LAST-MODIFIED:20250803T184838Z
UID:10002474-1802251800-1802259000@www.bridgeandenrich.com
SUMMARY:Tai Chi
DESCRIPTION:Tuesdays\, Wednesdays and Fridays from 9:30am to 11:30am. \nFor students of Master Chu.
URL:https://www.bridgeandenrich.com/event/tai-chi-251/2027-02-10/
LOCATION:Bridge & Enrich Lives Society\, 718 East 20th Avenue\, Vancouver\, British Columbia\, V5V 1N3\, Canada
CATEGORIES:Regular Weekly Classes
END:VEVENT
BEGIN:VEVENT
DTSTART;TZID=America/Vancouver:20270212T093000
DTEND;TZID=America/Vancouver:20270212T113000
DTSTAMP:20260420T011630
CREATED:20250719T172210Z
LAST-MODIFIED:20250803T184838Z
UID:10002475-1802424600-1802431800@www.bridgeandenrich.com
SUMMARY:Tai Chi
DESCRIPTION:Tuesdays\, Wednesdays and Fridays from 9:30am to 11:30am. \nFor students of Master Chu.
URL:https://www.bridgeandenrich.com/event/tai-chi-251/2027-02-12/
LOCATION:Bridge & Enrich Lives Society\, 718 East 20th Avenue\, Vancouver\, British Columbia\, V5V 1N3\, Canada
CATEGORIES:Regular Weekly Classes
END:VEVENT
BEGIN:VEVENT
DTSTART;TZID=America/Vancouver:20270216T093000
DTEND;TZID=America/Vancouver:20270216T113000
DTSTAMP:20260420T011630
CREATED:20250719T172210Z
LAST-MODIFIED:20250803T184838Z
UID:10002476-1802770200-1802777400@www.bridgeandenrich.com
SUMMARY:Tai Chi
DESCRIPTION:Tuesdays\, Wednesdays and Fridays from 9:30am to 11:30am. \nFor students of Master Chu.
URL:https://www.bridgeandenrich.com/event/tai-chi-251/2027-02-16/
LOCATION:Bridge & Enrich Lives Society\, 718 East 20th Avenue\, Vancouver\, British Columbia\, V5V 1N3\, Canada
CATEGORIES:Regular Weekly Classes
END:VEVENT
BEGIN:VEVENT
DTSTART;TZID=America/Vancouver:20270216T193000
DTEND;TZID=America/Vancouver:20270216T210000
DTSTAMP:20260420T011630
CREATED:20250719T172928Z
LAST-MODIFIED:20250803T184953Z
UID:10003350-1802806200-1802811600@www.bridgeandenrich.com
SUMMARY:Art of Living Sudarshan Kriya
DESCRIPTION:Join Karthik and MK from Vancouver’s vibrant Art of Living community for in-person yoga and a Guided Sudarshan Kriya Process (SKY). \nBut please note\, there is a prerequisite to joining: Attendance of their Level 1 Program in order to join in-person Tuesday SKY Meditation. Please contact Art of Living Vancouver for details on joining.\n 
URL:https://www.bridgeandenrich.com/event/art-of-living-sudarshan-kriya-155/2027-02-16/
LOCATION:Bridge & Enrich Lives Society\, 718 East 20th Avenue\, Vancouver\, British Columbia\, V5V 1N3\, Canada
CATEGORIES:Regular Weekly Classes
END:VEVENT
BEGIN:VEVENT
DTSTART;TZID=America/Vancouver:20270217T093000
DTEND;TZID=America/Vancouver:20270217T113000
DTSTAMP:20260420T011630
CREATED:20250719T172210Z
LAST-MODIFIED:20250803T184838Z
UID:10002477-1802856600-1802863800@www.bridgeandenrich.com
SUMMARY:Tai Chi
DESCRIPTION:Tuesdays\, Wednesdays and Fridays from 9:30am to 11:30am. \nFor students of Master Chu.
URL:https://www.bridgeandenrich.com/event/tai-chi-251/2027-02-17/
LOCATION:Bridge & Enrich Lives Society\, 718 East 20th Avenue\, Vancouver\, British Columbia\, V5V 1N3\, Canada
CATEGORIES:Regular Weekly Classes
END:VEVENT
BEGIN:VEVENT
DTSTART;TZID=America/Vancouver:20270219T093000
DTEND;TZID=America/Vancouver:20270219T113000
DTSTAMP:20260420T011630
CREATED:20250719T172210Z
LAST-MODIFIED:20250803T184838Z
UID:10002478-1803029400-1803036600@www.bridgeandenrich.com
SUMMARY:Tai Chi
DESCRIPTION:Tuesdays\, Wednesdays and Fridays from 9:30am to 11:30am. \nFor students of Master Chu.
URL:https://www.bridgeandenrich.com/event/tai-chi-251/2027-02-19/
LOCATION:Bridge & Enrich Lives Society\, 718 East 20th Avenue\, Vancouver\, British Columbia\, V5V 1N3\, Canada
CATEGORIES:Regular Weekly Classes
END:VEVENT
BEGIN:VEVENT
DTSTART;TZID=America/Vancouver:20270223T093000
DTEND;TZID=America/Vancouver:20270223T113000
DTSTAMP:20260420T011630
CREATED:20250719T172210Z
LAST-MODIFIED:20250803T184838Z
UID:10002479-1803375000-1803382200@www.bridgeandenrich.com
SUMMARY:Tai Chi
DESCRIPTION:Tuesdays\, Wednesdays and Fridays from 9:30am to 11:30am. \nFor students of Master Chu.
URL:https://www.bridgeandenrich.com/event/tai-chi-251/2027-02-23/
LOCATION:Bridge & Enrich Lives Society\, 718 East 20th Avenue\, Vancouver\, British Columbia\, V5V 1N3\, Canada
CATEGORIES:Regular Weekly Classes
END:VEVENT
END:VCALENDAR