BEGIN:VCALENDAR
VERSION:2.0
PRODID:-//Bridge &amp; Enrich Lives Society - ECPv6.15.13//NONSGML v1.0//EN
CALSCALE:GREGORIAN
METHOD:PUBLISH
X-WR-CALNAME:Bridge &amp; Enrich Lives Society
X-ORIGINAL-URL:https://www.bridgeandenrich.com
X-WR-CALDESC:Events for Bridge &amp; Enrich Lives Society
REFRESH-INTERVAL;VALUE=DURATION:PT1H
X-Robots-Tag:noindex
X-PUBLISHED-TTL:PT1H
BEGIN:VTIMEZONE
TZID:America/Vancouver
BEGIN:DAYLIGHT
TZOFFSETFROM:-0800
TZOFFSETTO:-0700
TZNAME:PDT
DTSTART:20270314T100000
END:DAYLIGHT
BEGIN:STANDARD
TZOFFSETFROM:-0700
TZOFFSETTO:-0800
TZNAME:PST
DTSTART:20271107T090000
END:STANDARD
BEGIN:DAYLIGHT
TZOFFSETFROM:-0800
TZOFFSETTO:-0700
TZNAME:PDT
DTSTART:20280312T100000
END:DAYLIGHT
BEGIN:STANDARD
TZOFFSETFROM:-0700
TZOFFSETTO:-0800
TZNAME:PST
DTSTART:20281105T090000
END:STANDARD
BEGIN:DAYLIGHT
TZOFFSETFROM:-0800
TZOFFSETTO:-0700
TZNAME:PDT
DTSTART:20290311T100000
END:DAYLIGHT
BEGIN:STANDARD
TZOFFSETFROM:-0700
TZOFFSETTO:-0800
TZNAME:PST
DTSTART:20291104T090000
END:STANDARD
END:VTIMEZONE
BEGIN:VEVENT
DTSTART;TZID=America/Vancouver:20280704T093000
DTEND;TZID=America/Vancouver:20280704T113000
DTSTAMP:20260422T155614
CREATED:20250719T172210Z
LAST-MODIFIED:20250803T184838Z
UID:10002692-1846315800-1846323000@www.bridgeandenrich.com
SUMMARY:Tai Chi
DESCRIPTION:Tuesdays\, Wednesdays and Fridays from 9:30am to 11:30am. \nFor students of Master Chu.
URL:https://www.bridgeandenrich.com/event/tai-chi-251/2028-07-04/
LOCATION:Bridge & Enrich Lives Society\, 718 East 20th Avenue\, Vancouver\, British Columbia\, V5V 1N3\, Canada
CATEGORIES:Regular Weekly Classes
END:VEVENT
BEGIN:VEVENT
DTSTART;TZID=America/Vancouver:20280704T193000
DTEND;TZID=America/Vancouver:20280704T210000
DTSTAMP:20260422T155614
CREATED:20250719T172928Z
LAST-MODIFIED:20250803T184953Z
UID:10003422-1846351800-1846357200@www.bridgeandenrich.com
SUMMARY:Art of Living Sudarshan Kriya
DESCRIPTION:Join Karthik and MK from Vancouver’s vibrant Art of Living community for in-person yoga and a Guided Sudarshan Kriya Process (SKY). \nBut please note\, there is a prerequisite to joining: Attendance of their Level 1 Program in order to join in-person Tuesday SKY Meditation. Please contact Art of Living Vancouver for details on joining.\n 
URL:https://www.bridgeandenrich.com/event/art-of-living-sudarshan-kriya-155/2028-07-04/
LOCATION:Bridge & Enrich Lives Society\, 718 East 20th Avenue\, Vancouver\, British Columbia\, V5V 1N3\, Canada
CATEGORIES:Regular Weekly Classes
END:VEVENT
BEGIN:VEVENT
DTSTART;TZID=America/Vancouver:20280705T093000
DTEND;TZID=America/Vancouver:20280705T113000
DTSTAMP:20260422T155614
CREATED:20250719T172210Z
LAST-MODIFIED:20250803T184838Z
UID:10002693-1846402200-1846409400@www.bridgeandenrich.com
SUMMARY:Tai Chi
DESCRIPTION:Tuesdays\, Wednesdays and Fridays from 9:30am to 11:30am. \nFor students of Master Chu.
URL:https://www.bridgeandenrich.com/event/tai-chi-251/2028-07-05/
LOCATION:Bridge & Enrich Lives Society\, 718 East 20th Avenue\, Vancouver\, British Columbia\, V5V 1N3\, Canada
CATEGORIES:Regular Weekly Classes
END:VEVENT
BEGIN:VEVENT
DTSTART;TZID=America/Vancouver:20280707T093000
DTEND;TZID=America/Vancouver:20280707T113000
DTSTAMP:20260422T155614
CREATED:20250719T172210Z
LAST-MODIFIED:20250803T184838Z
UID:10002694-1846575000-1846582200@www.bridgeandenrich.com
SUMMARY:Tai Chi
DESCRIPTION:Tuesdays\, Wednesdays and Fridays from 9:30am to 11:30am. \nFor students of Master Chu.
URL:https://www.bridgeandenrich.com/event/tai-chi-251/2028-07-07/
LOCATION:Bridge & Enrich Lives Society\, 718 East 20th Avenue\, Vancouver\, British Columbia\, V5V 1N3\, Canada
CATEGORIES:Regular Weekly Classes
END:VEVENT
BEGIN:VEVENT
DTSTART;TZID=America/Vancouver:20280711T093000
DTEND;TZID=America/Vancouver:20280711T113000
DTSTAMP:20260422T155614
CREATED:20250719T172210Z
LAST-MODIFIED:20250803T184838Z
UID:10002695-1846920600-1846927800@www.bridgeandenrich.com
SUMMARY:Tai Chi
DESCRIPTION:Tuesdays\, Wednesdays and Fridays from 9:30am to 11:30am. \nFor students of Master Chu.
URL:https://www.bridgeandenrich.com/event/tai-chi-251/2028-07-11/
LOCATION:Bridge & Enrich Lives Society\, 718 East 20th Avenue\, Vancouver\, British Columbia\, V5V 1N3\, Canada
CATEGORIES:Regular Weekly Classes
END:VEVENT
BEGIN:VEVENT
DTSTART;TZID=America/Vancouver:20280711T193000
DTEND;TZID=America/Vancouver:20280711T210000
DTSTAMP:20260422T155614
CREATED:20250719T172928Z
LAST-MODIFIED:20250803T184953Z
UID:10003423-1846956600-1846962000@www.bridgeandenrich.com
SUMMARY:Art of Living Sudarshan Kriya
DESCRIPTION:Join Karthik and MK from Vancouver’s vibrant Art of Living community for in-person yoga and a Guided Sudarshan Kriya Process (SKY). \nBut please note\, there is a prerequisite to joining: Attendance of their Level 1 Program in order to join in-person Tuesday SKY Meditation. Please contact Art of Living Vancouver for details on joining.\n 
URL:https://www.bridgeandenrich.com/event/art-of-living-sudarshan-kriya-155/2028-07-11/
LOCATION:Bridge & Enrich Lives Society\, 718 East 20th Avenue\, Vancouver\, British Columbia\, V5V 1N3\, Canada
CATEGORIES:Regular Weekly Classes
END:VEVENT
BEGIN:VEVENT
DTSTART;TZID=America/Vancouver:20280712T093000
DTEND;TZID=America/Vancouver:20280712T113000
DTSTAMP:20260422T155614
CREATED:20250719T172210Z
LAST-MODIFIED:20250803T184838Z
UID:10002696-1847007000-1847014200@www.bridgeandenrich.com
SUMMARY:Tai Chi
DESCRIPTION:Tuesdays\, Wednesdays and Fridays from 9:30am to 11:30am. \nFor students of Master Chu.
URL:https://www.bridgeandenrich.com/event/tai-chi-251/2028-07-12/
LOCATION:Bridge & Enrich Lives Society\, 718 East 20th Avenue\, Vancouver\, British Columbia\, V5V 1N3\, Canada
CATEGORIES:Regular Weekly Classes
END:VEVENT
BEGIN:VEVENT
DTSTART;TZID=America/Vancouver:20280714T093000
DTEND;TZID=America/Vancouver:20280714T113000
DTSTAMP:20260422T155614
CREATED:20250719T172210Z
LAST-MODIFIED:20250803T184838Z
UID:10002697-1847179800-1847187000@www.bridgeandenrich.com
SUMMARY:Tai Chi
DESCRIPTION:Tuesdays\, Wednesdays and Fridays from 9:30am to 11:30am. \nFor students of Master Chu.
URL:https://www.bridgeandenrich.com/event/tai-chi-251/2028-07-14/
LOCATION:Bridge & Enrich Lives Society\, 718 East 20th Avenue\, Vancouver\, British Columbia\, V5V 1N3\, Canada
CATEGORIES:Regular Weekly Classes
END:VEVENT
BEGIN:VEVENT
DTSTART;TZID=America/Vancouver:20280718T093000
DTEND;TZID=America/Vancouver:20280718T113000
DTSTAMP:20260422T155614
CREATED:20250719T172210Z
LAST-MODIFIED:20250803T184838Z
UID:10002698-1847525400-1847532600@www.bridgeandenrich.com
SUMMARY:Tai Chi
DESCRIPTION:Tuesdays\, Wednesdays and Fridays from 9:30am to 11:30am. \nFor students of Master Chu.
URL:https://www.bridgeandenrich.com/event/tai-chi-251/2028-07-18/
LOCATION:Bridge & Enrich Lives Society\, 718 East 20th Avenue\, Vancouver\, British Columbia\, V5V 1N3\, Canada
CATEGORIES:Regular Weekly Classes
END:VEVENT
BEGIN:VEVENT
DTSTART;TZID=America/Vancouver:20280718T193000
DTEND;TZID=America/Vancouver:20280718T210000
DTSTAMP:20260422T155614
CREATED:20250719T172928Z
LAST-MODIFIED:20250803T184953Z
UID:10003424-1847561400-1847566800@www.bridgeandenrich.com
SUMMARY:Art of Living Sudarshan Kriya
DESCRIPTION:Join Karthik and MK from Vancouver’s vibrant Art of Living community for in-person yoga and a Guided Sudarshan Kriya Process (SKY). \nBut please note\, there is a prerequisite to joining: Attendance of their Level 1 Program in order to join in-person Tuesday SKY Meditation. Please contact Art of Living Vancouver for details on joining.\n 
URL:https://www.bridgeandenrich.com/event/art-of-living-sudarshan-kriya-155/2028-07-18/
LOCATION:Bridge & Enrich Lives Society\, 718 East 20th Avenue\, Vancouver\, British Columbia\, V5V 1N3\, Canada
CATEGORIES:Regular Weekly Classes
END:VEVENT
BEGIN:VEVENT
DTSTART;TZID=America/Vancouver:20280719T093000
DTEND;TZID=America/Vancouver:20280719T113000
DTSTAMP:20260422T155614
CREATED:20250719T172210Z
LAST-MODIFIED:20250803T184838Z
UID:10002699-1847611800-1847619000@www.bridgeandenrich.com
SUMMARY:Tai Chi
DESCRIPTION:Tuesdays\, Wednesdays and Fridays from 9:30am to 11:30am. \nFor students of Master Chu.
URL:https://www.bridgeandenrich.com/event/tai-chi-251/2028-07-19/
LOCATION:Bridge & Enrich Lives Society\, 718 East 20th Avenue\, Vancouver\, British Columbia\, V5V 1N3\, Canada
CATEGORIES:Regular Weekly Classes
END:VEVENT
BEGIN:VEVENT
DTSTART;TZID=America/Vancouver:20280721T093000
DTEND;TZID=America/Vancouver:20280721T113000
DTSTAMP:20260422T155614
CREATED:20250719T172210Z
LAST-MODIFIED:20250803T184838Z
UID:10002700-1847784600-1847791800@www.bridgeandenrich.com
SUMMARY:Tai Chi
DESCRIPTION:Tuesdays\, Wednesdays and Fridays from 9:30am to 11:30am. \nFor students of Master Chu.
URL:https://www.bridgeandenrich.com/event/tai-chi-251/2028-07-21/
LOCATION:Bridge & Enrich Lives Society\, 718 East 20th Avenue\, Vancouver\, British Columbia\, V5V 1N3\, Canada
CATEGORIES:Regular Weekly Classes
END:VEVENT
BEGIN:VEVENT
DTSTART;TZID=America/Vancouver:20280725T093000
DTEND;TZID=America/Vancouver:20280725T113000
DTSTAMP:20260422T155614
CREATED:20250719T172210Z
LAST-MODIFIED:20250803T184838Z
UID:10002701-1848130200-1848137400@www.bridgeandenrich.com
SUMMARY:Tai Chi
DESCRIPTION:Tuesdays\, Wednesdays and Fridays from 9:30am to 11:30am. \nFor students of Master Chu.
URL:https://www.bridgeandenrich.com/event/tai-chi-251/2028-07-25/
LOCATION:Bridge & Enrich Lives Society\, 718 East 20th Avenue\, Vancouver\, British Columbia\, V5V 1N3\, Canada
CATEGORIES:Regular Weekly Classes
END:VEVENT
BEGIN:VEVENT
DTSTART;TZID=America/Vancouver:20280725T193000
DTEND;TZID=America/Vancouver:20280725T210000
DTSTAMP:20260422T155614
CREATED:20250719T172928Z
LAST-MODIFIED:20250803T184953Z
UID:10003425-1848166200-1848171600@www.bridgeandenrich.com
SUMMARY:Art of Living Sudarshan Kriya
DESCRIPTION:Join Karthik and MK from Vancouver’s vibrant Art of Living community for in-person yoga and a Guided Sudarshan Kriya Process (SKY). \nBut please note\, there is a prerequisite to joining: Attendance of their Level 1 Program in order to join in-person Tuesday SKY Meditation. Please contact Art of Living Vancouver for details on joining.\n 
URL:https://www.bridgeandenrich.com/event/art-of-living-sudarshan-kriya-155/2028-07-25/
LOCATION:Bridge & Enrich Lives Society\, 718 East 20th Avenue\, Vancouver\, British Columbia\, V5V 1N3\, Canada
CATEGORIES:Regular Weekly Classes
END:VEVENT
BEGIN:VEVENT
DTSTART;TZID=America/Vancouver:20280726T093000
DTEND;TZID=America/Vancouver:20280726T113000
DTSTAMP:20260422T155614
CREATED:20250719T172210Z
LAST-MODIFIED:20250803T184838Z
UID:10002702-1848216600-1848223800@www.bridgeandenrich.com
SUMMARY:Tai Chi
DESCRIPTION:Tuesdays\, Wednesdays and Fridays from 9:30am to 11:30am. \nFor students of Master Chu.
URL:https://www.bridgeandenrich.com/event/tai-chi-251/2028-07-26/
LOCATION:Bridge & Enrich Lives Society\, 718 East 20th Avenue\, Vancouver\, British Columbia\, V5V 1N3\, Canada
CATEGORIES:Regular Weekly Classes
END:VEVENT
BEGIN:VEVENT
DTSTART;TZID=America/Vancouver:20280728T093000
DTEND;TZID=America/Vancouver:20280728T113000
DTSTAMP:20260422T155614
CREATED:20250719T172210Z
LAST-MODIFIED:20250803T184838Z
UID:10002703-1848389400-1848396600@www.bridgeandenrich.com
SUMMARY:Tai Chi
DESCRIPTION:Tuesdays\, Wednesdays and Fridays from 9:30am to 11:30am. \nFor students of Master Chu.
URL:https://www.bridgeandenrich.com/event/tai-chi-251/2028-07-28/
LOCATION:Bridge & Enrich Lives Society\, 718 East 20th Avenue\, Vancouver\, British Columbia\, V5V 1N3\, Canada
CATEGORIES:Regular Weekly Classes
END:VEVENT
BEGIN:VEVENT
DTSTART;TZID=America/Vancouver:20280801T093000
DTEND;TZID=America/Vancouver:20280801T113000
DTSTAMP:20260422T155614
CREATED:20250719T172210Z
LAST-MODIFIED:20250803T184838Z
UID:10002704-1848735000-1848742200@www.bridgeandenrich.com
SUMMARY:Tai Chi
DESCRIPTION:Tuesdays\, Wednesdays and Fridays from 9:30am to 11:30am. \nFor students of Master Chu.
URL:https://www.bridgeandenrich.com/event/tai-chi-251/2028-08-01/
LOCATION:Bridge & Enrich Lives Society\, 718 East 20th Avenue\, Vancouver\, British Columbia\, V5V 1N3\, Canada
CATEGORIES:Regular Weekly Classes
END:VEVENT
BEGIN:VEVENT
DTSTART;TZID=America/Vancouver:20280801T193000
DTEND;TZID=America/Vancouver:20280801T210000
DTSTAMP:20260422T155614
CREATED:20250719T172928Z
LAST-MODIFIED:20250803T184953Z
UID:10003426-1848771000-1848776400@www.bridgeandenrich.com
SUMMARY:Art of Living Sudarshan Kriya
DESCRIPTION:Join Karthik and MK from Vancouver’s vibrant Art of Living community for in-person yoga and a Guided Sudarshan Kriya Process (SKY). \nBut please note\, there is a prerequisite to joining: Attendance of their Level 1 Program in order to join in-person Tuesday SKY Meditation. Please contact Art of Living Vancouver for details on joining.\n 
URL:https://www.bridgeandenrich.com/event/art-of-living-sudarshan-kriya-155/2028-08-01/
LOCATION:Bridge & Enrich Lives Society\, 718 East 20th Avenue\, Vancouver\, British Columbia\, V5V 1N3\, Canada
CATEGORIES:Regular Weekly Classes
END:VEVENT
BEGIN:VEVENT
DTSTART;TZID=America/Vancouver:20280802T093000
DTEND;TZID=America/Vancouver:20280802T113000
DTSTAMP:20260422T155614
CREATED:20250719T172210Z
LAST-MODIFIED:20250803T184838Z
UID:10002705-1848821400-1848828600@www.bridgeandenrich.com
SUMMARY:Tai Chi
DESCRIPTION:Tuesdays\, Wednesdays and Fridays from 9:30am to 11:30am. \nFor students of Master Chu.
URL:https://www.bridgeandenrich.com/event/tai-chi-251/2028-08-02/
LOCATION:Bridge & Enrich Lives Society\, 718 East 20th Avenue\, Vancouver\, British Columbia\, V5V 1N3\, Canada
CATEGORIES:Regular Weekly Classes
END:VEVENT
BEGIN:VEVENT
DTSTART;TZID=America/Vancouver:20280804T093000
DTEND;TZID=America/Vancouver:20280804T113000
DTSTAMP:20260422T155614
CREATED:20250719T172210Z
LAST-MODIFIED:20250803T184838Z
UID:10002706-1848994200-1849001400@www.bridgeandenrich.com
SUMMARY:Tai Chi
DESCRIPTION:Tuesdays\, Wednesdays and Fridays from 9:30am to 11:30am. \nFor students of Master Chu.
URL:https://www.bridgeandenrich.com/event/tai-chi-251/2028-08-04/
LOCATION:Bridge & Enrich Lives Society\, 718 East 20th Avenue\, Vancouver\, British Columbia\, V5V 1N3\, Canada
CATEGORIES:Regular Weekly Classes
END:VEVENT
BEGIN:VEVENT
DTSTART;TZID=America/Vancouver:20280808T093000
DTEND;TZID=America/Vancouver:20280808T113000
DTSTAMP:20260422T155614
CREATED:20250719T172210Z
LAST-MODIFIED:20250803T184838Z
UID:10002707-1849339800-1849347000@www.bridgeandenrich.com
SUMMARY:Tai Chi
DESCRIPTION:Tuesdays\, Wednesdays and Fridays from 9:30am to 11:30am. \nFor students of Master Chu.
URL:https://www.bridgeandenrich.com/event/tai-chi-251/2028-08-08/
LOCATION:Bridge & Enrich Lives Society\, 718 East 20th Avenue\, Vancouver\, British Columbia\, V5V 1N3\, Canada
CATEGORIES:Regular Weekly Classes
END:VEVENT
BEGIN:VEVENT
DTSTART;TZID=America/Vancouver:20280808T193000
DTEND;TZID=America/Vancouver:20280808T210000
DTSTAMP:20260422T155614
CREATED:20250719T172928Z
LAST-MODIFIED:20250803T184953Z
UID:10003427-1849375800-1849381200@www.bridgeandenrich.com
SUMMARY:Art of Living Sudarshan Kriya
DESCRIPTION:Join Karthik and MK from Vancouver’s vibrant Art of Living community for in-person yoga and a Guided Sudarshan Kriya Process (SKY). \nBut please note\, there is a prerequisite to joining: Attendance of their Level 1 Program in order to join in-person Tuesday SKY Meditation. Please contact Art of Living Vancouver for details on joining.\n 
URL:https://www.bridgeandenrich.com/event/art-of-living-sudarshan-kriya-155/2028-08-08/
LOCATION:Bridge & Enrich Lives Society\, 718 East 20th Avenue\, Vancouver\, British Columbia\, V5V 1N3\, Canada
CATEGORIES:Regular Weekly Classes
END:VEVENT
BEGIN:VEVENT
DTSTART;TZID=America/Vancouver:20280809T093000
DTEND;TZID=America/Vancouver:20280809T113000
DTSTAMP:20260422T155614
CREATED:20250719T172210Z
LAST-MODIFIED:20250803T184838Z
UID:10002708-1849426200-1849433400@www.bridgeandenrich.com
SUMMARY:Tai Chi
DESCRIPTION:Tuesdays\, Wednesdays and Fridays from 9:30am to 11:30am. \nFor students of Master Chu.
URL:https://www.bridgeandenrich.com/event/tai-chi-251/2028-08-09/
LOCATION:Bridge & Enrich Lives Society\, 718 East 20th Avenue\, Vancouver\, British Columbia\, V5V 1N3\, Canada
CATEGORIES:Regular Weekly Classes
END:VEVENT
BEGIN:VEVENT
DTSTART;TZID=America/Vancouver:20280811T093000
DTEND;TZID=America/Vancouver:20280811T113000
DTSTAMP:20260422T155614
CREATED:20250719T172210Z
LAST-MODIFIED:20250803T184838Z
UID:10002709-1849599000-1849606200@www.bridgeandenrich.com
SUMMARY:Tai Chi
DESCRIPTION:Tuesdays\, Wednesdays and Fridays from 9:30am to 11:30am. \nFor students of Master Chu.
URL:https://www.bridgeandenrich.com/event/tai-chi-251/2028-08-11/
LOCATION:Bridge & Enrich Lives Society\, 718 East 20th Avenue\, Vancouver\, British Columbia\, V5V 1N3\, Canada
CATEGORIES:Regular Weekly Classes
END:VEVENT
BEGIN:VEVENT
DTSTART;TZID=America/Vancouver:20280815T093000
DTEND;TZID=America/Vancouver:20280815T113000
DTSTAMP:20260422T155614
CREATED:20250719T172210Z
LAST-MODIFIED:20250803T184838Z
UID:10002710-1849944600-1849951800@www.bridgeandenrich.com
SUMMARY:Tai Chi
DESCRIPTION:Tuesdays\, Wednesdays and Fridays from 9:30am to 11:30am. \nFor students of Master Chu.
URL:https://www.bridgeandenrich.com/event/tai-chi-251/2028-08-15/
LOCATION:Bridge & Enrich Lives Society\, 718 East 20th Avenue\, Vancouver\, British Columbia\, V5V 1N3\, Canada
CATEGORIES:Regular Weekly Classes
END:VEVENT
BEGIN:VEVENT
DTSTART;TZID=America/Vancouver:20280815T193000
DTEND;TZID=America/Vancouver:20280815T210000
DTSTAMP:20260422T155614
CREATED:20250719T172928Z
LAST-MODIFIED:20250803T184953Z
UID:10003428-1849980600-1849986000@www.bridgeandenrich.com
SUMMARY:Art of Living Sudarshan Kriya
DESCRIPTION:Join Karthik and MK from Vancouver’s vibrant Art of Living community for in-person yoga and a Guided Sudarshan Kriya Process (SKY). \nBut please note\, there is a prerequisite to joining: Attendance of their Level 1 Program in order to join in-person Tuesday SKY Meditation. Please contact Art of Living Vancouver for details on joining.\n 
URL:https://www.bridgeandenrich.com/event/art-of-living-sudarshan-kriya-155/2028-08-15/
LOCATION:Bridge & Enrich Lives Society\, 718 East 20th Avenue\, Vancouver\, British Columbia\, V5V 1N3\, Canada
CATEGORIES:Regular Weekly Classes
END:VEVENT
BEGIN:VEVENT
DTSTART;TZID=America/Vancouver:20280816T093000
DTEND;TZID=America/Vancouver:20280816T113000
DTSTAMP:20260422T155614
CREATED:20250719T172210Z
LAST-MODIFIED:20250803T184838Z
UID:10002711-1850031000-1850038200@www.bridgeandenrich.com
SUMMARY:Tai Chi
DESCRIPTION:Tuesdays\, Wednesdays and Fridays from 9:30am to 11:30am. \nFor students of Master Chu.
URL:https://www.bridgeandenrich.com/event/tai-chi-251/2028-08-16/
LOCATION:Bridge & Enrich Lives Society\, 718 East 20th Avenue\, Vancouver\, British Columbia\, V5V 1N3\, Canada
CATEGORIES:Regular Weekly Classes
END:VEVENT
BEGIN:VEVENT
DTSTART;TZID=America/Vancouver:20280818T093000
DTEND;TZID=America/Vancouver:20280818T113000
DTSTAMP:20260422T155614
CREATED:20250719T172210Z
LAST-MODIFIED:20250803T184838Z
UID:10002712-1850203800-1850211000@www.bridgeandenrich.com
SUMMARY:Tai Chi
DESCRIPTION:Tuesdays\, Wednesdays and Fridays from 9:30am to 11:30am. \nFor students of Master Chu.
URL:https://www.bridgeandenrich.com/event/tai-chi-251/2028-08-18/
LOCATION:Bridge & Enrich Lives Society\, 718 East 20th Avenue\, Vancouver\, British Columbia\, V5V 1N3\, Canada
CATEGORIES:Regular Weekly Classes
END:VEVENT
BEGIN:VEVENT
DTSTART;TZID=America/Vancouver:20280822T093000
DTEND;TZID=America/Vancouver:20280822T113000
DTSTAMP:20260422T155614
CREATED:20250719T172210Z
LAST-MODIFIED:20250803T184838Z
UID:10002713-1850549400-1850556600@www.bridgeandenrich.com
SUMMARY:Tai Chi
DESCRIPTION:Tuesdays\, Wednesdays and Fridays from 9:30am to 11:30am. \nFor students of Master Chu.
URL:https://www.bridgeandenrich.com/event/tai-chi-251/2028-08-22/
LOCATION:Bridge & Enrich Lives Society\, 718 East 20th Avenue\, Vancouver\, British Columbia\, V5V 1N3\, Canada
CATEGORIES:Regular Weekly Classes
END:VEVENT
BEGIN:VEVENT
DTSTART;TZID=America/Vancouver:20280822T193000
DTEND;TZID=America/Vancouver:20280822T210000
DTSTAMP:20260422T155614
CREATED:20250719T172928Z
LAST-MODIFIED:20250803T184953Z
UID:10003429-1850585400-1850590800@www.bridgeandenrich.com
SUMMARY:Art of Living Sudarshan Kriya
DESCRIPTION:Join Karthik and MK from Vancouver’s vibrant Art of Living community for in-person yoga and a Guided Sudarshan Kriya Process (SKY). \nBut please note\, there is a prerequisite to joining: Attendance of their Level 1 Program in order to join in-person Tuesday SKY Meditation. Please contact Art of Living Vancouver for details on joining.\n 
URL:https://www.bridgeandenrich.com/event/art-of-living-sudarshan-kriya-155/2028-08-22/
LOCATION:Bridge & Enrich Lives Society\, 718 East 20th Avenue\, Vancouver\, British Columbia\, V5V 1N3\, Canada
CATEGORIES:Regular Weekly Classes
END:VEVENT
END:VCALENDAR