BEGIN:VCALENDAR
VERSION:2.0
PRODID:-//Bridge &amp; Enrich Lives Society - ECPv6.15.13//NONSGML v1.0//EN
CALSCALE:GREGORIAN
METHOD:PUBLISH
X-WR-CALNAME:Bridge &amp; Enrich Lives Society
X-ORIGINAL-URL:https://www.bridgeandenrich.com
X-WR-CALDESC:Events for Bridge &amp; Enrich Lives Society
REFRESH-INTERVAL;VALUE=DURATION:PT1H
X-Robots-Tag:noindex
X-PUBLISHED-TTL:PT1H
BEGIN:VTIMEZONE
TZID:America/Vancouver
BEGIN:DAYLIGHT
TZOFFSETFROM:-0800
TZOFFSETTO:-0700
TZNAME:PDT
DTSTART:20290311T100000
END:DAYLIGHT
BEGIN:STANDARD
TZOFFSETFROM:-0700
TZOFFSETTO:-0800
TZNAME:PST
DTSTART:20291104T090000
END:STANDARD
BEGIN:DAYLIGHT
TZOFFSETFROM:-0800
TZOFFSETTO:-0700
TZNAME:PDT
DTSTART:20300310T100000
END:DAYLIGHT
BEGIN:STANDARD
TZOFFSETFROM:-0700
TZOFFSETTO:-0800
TZNAME:PST
DTSTART:20301103T090000
END:STANDARD
BEGIN:DAYLIGHT
TZOFFSETFROM:-0800
TZOFFSETTO:-0700
TZNAME:PDT
DTSTART:20310309T100000
END:DAYLIGHT
BEGIN:STANDARD
TZOFFSETFROM:-0700
TZOFFSETTO:-0800
TZNAME:PST
DTSTART:20311102T090000
END:STANDARD
END:VTIMEZONE
BEGIN:VEVENT
DTSTART;TZID=America/Vancouver:20300101T093000
DTEND;TZID=America/Vancouver:20300101T113000
DTSTAMP:20260424T093936
CREATED:20250719T172210Z
LAST-MODIFIED:20250803T184838Z
UID:10002926-1893490200-1893497400@www.bridgeandenrich.com
SUMMARY:Tai Chi
DESCRIPTION:Tuesdays\, Wednesdays and Fridays from 9:30am to 11:30am. \nFor students of Master Chu.
URL:https://www.bridgeandenrich.com/event/tai-chi-251/2030-01-01/
LOCATION:Bridge & Enrich Lives Society\, 718 East 20th Avenue\, Vancouver\, British Columbia\, V5V 1N3\, Canada
CATEGORIES:Regular Weekly Classes
END:VEVENT
BEGIN:VEVENT
DTSTART;TZID=America/Vancouver:20300101T193000
DTEND;TZID=America/Vancouver:20300101T210000
DTSTAMP:20260424T093936
CREATED:20250719T172928Z
LAST-MODIFIED:20250803T184953Z
UID:10003500-1893526200-1893531600@www.bridgeandenrich.com
SUMMARY:Art of Living Sudarshan Kriya
DESCRIPTION:Join Karthik and MK from Vancouver’s vibrant Art of Living community for in-person yoga and a Guided Sudarshan Kriya Process (SKY). \nBut please note\, there is a prerequisite to joining: Attendance of their Level 1 Program in order to join in-person Tuesday SKY Meditation. Please contact Art of Living Vancouver for details on joining.\n 
URL:https://www.bridgeandenrich.com/event/art-of-living-sudarshan-kriya-155/2030-01-01/
LOCATION:Bridge & Enrich Lives Society\, 718 East 20th Avenue\, Vancouver\, British Columbia\, V5V 1N3\, Canada
CATEGORIES:Regular Weekly Classes
END:VEVENT
BEGIN:VEVENT
DTSTART;TZID=America/Vancouver:20300102T093000
DTEND;TZID=America/Vancouver:20300102T113000
DTSTAMP:20260424T093936
CREATED:20250719T172210Z
LAST-MODIFIED:20250803T184838Z
UID:10002927-1893576600-1893583800@www.bridgeandenrich.com
SUMMARY:Tai Chi
DESCRIPTION:Tuesdays\, Wednesdays and Fridays from 9:30am to 11:30am. \nFor students of Master Chu.
URL:https://www.bridgeandenrich.com/event/tai-chi-251/2030-01-02/
LOCATION:Bridge & Enrich Lives Society\, 718 East 20th Avenue\, Vancouver\, British Columbia\, V5V 1N3\, Canada
CATEGORIES:Regular Weekly Classes
END:VEVENT
BEGIN:VEVENT
DTSTART;TZID=America/Vancouver:20300104T093000
DTEND;TZID=America/Vancouver:20300104T113000
DTSTAMP:20260424T093936
CREATED:20250719T172210Z
LAST-MODIFIED:20250803T184838Z
UID:10002928-1893749400-1893756600@www.bridgeandenrich.com
SUMMARY:Tai Chi
DESCRIPTION:Tuesdays\, Wednesdays and Fridays from 9:30am to 11:30am. \nFor students of Master Chu.
URL:https://www.bridgeandenrich.com/event/tai-chi-251/2030-01-04/
LOCATION:Bridge & Enrich Lives Society\, 718 East 20th Avenue\, Vancouver\, British Columbia\, V5V 1N3\, Canada
CATEGORIES:Regular Weekly Classes
END:VEVENT
BEGIN:VEVENT
DTSTART;TZID=America/Vancouver:20300108T093000
DTEND;TZID=America/Vancouver:20300108T113000
DTSTAMP:20260424T093936
CREATED:20250719T172210Z
LAST-MODIFIED:20250803T184838Z
UID:10002929-1894095000-1894102200@www.bridgeandenrich.com
SUMMARY:Tai Chi
DESCRIPTION:Tuesdays\, Wednesdays and Fridays from 9:30am to 11:30am. \nFor students of Master Chu.
URL:https://www.bridgeandenrich.com/event/tai-chi-251/2030-01-08/
LOCATION:Bridge & Enrich Lives Society\, 718 East 20th Avenue\, Vancouver\, British Columbia\, V5V 1N3\, Canada
CATEGORIES:Regular Weekly Classes
END:VEVENT
BEGIN:VEVENT
DTSTART;TZID=America/Vancouver:20300108T193000
DTEND;TZID=America/Vancouver:20300108T210000
DTSTAMP:20260424T093936
CREATED:20250719T172928Z
LAST-MODIFIED:20250803T184953Z
UID:10003501-1894131000-1894136400@www.bridgeandenrich.com
SUMMARY:Art of Living Sudarshan Kriya
DESCRIPTION:Join Karthik and MK from Vancouver’s vibrant Art of Living community for in-person yoga and a Guided Sudarshan Kriya Process (SKY). \nBut please note\, there is a prerequisite to joining: Attendance of their Level 1 Program in order to join in-person Tuesday SKY Meditation. Please contact Art of Living Vancouver for details on joining.\n 
URL:https://www.bridgeandenrich.com/event/art-of-living-sudarshan-kriya-155/2030-01-08/
LOCATION:Bridge & Enrich Lives Society\, 718 East 20th Avenue\, Vancouver\, British Columbia\, V5V 1N3\, Canada
CATEGORIES:Regular Weekly Classes
END:VEVENT
BEGIN:VEVENT
DTSTART;TZID=America/Vancouver:20300109T093000
DTEND;TZID=America/Vancouver:20300109T113000
DTSTAMP:20260424T093936
CREATED:20250719T172210Z
LAST-MODIFIED:20250803T184838Z
UID:10002930-1894181400-1894188600@www.bridgeandenrich.com
SUMMARY:Tai Chi
DESCRIPTION:Tuesdays\, Wednesdays and Fridays from 9:30am to 11:30am. \nFor students of Master Chu.
URL:https://www.bridgeandenrich.com/event/tai-chi-251/2030-01-09/
LOCATION:Bridge & Enrich Lives Society\, 718 East 20th Avenue\, Vancouver\, British Columbia\, V5V 1N3\, Canada
CATEGORIES:Regular Weekly Classes
END:VEVENT
BEGIN:VEVENT
DTSTART;TZID=America/Vancouver:20300111T093000
DTEND;TZID=America/Vancouver:20300111T113000
DTSTAMP:20260424T093936
CREATED:20250719T172210Z
LAST-MODIFIED:20250803T184838Z
UID:10002931-1894354200-1894361400@www.bridgeandenrich.com
SUMMARY:Tai Chi
DESCRIPTION:Tuesdays\, Wednesdays and Fridays from 9:30am to 11:30am. \nFor students of Master Chu.
URL:https://www.bridgeandenrich.com/event/tai-chi-251/2030-01-11/
LOCATION:Bridge & Enrich Lives Society\, 718 East 20th Avenue\, Vancouver\, British Columbia\, V5V 1N3\, Canada
CATEGORIES:Regular Weekly Classes
END:VEVENT
BEGIN:VEVENT
DTSTART;TZID=America/Vancouver:20300115T093000
DTEND;TZID=America/Vancouver:20300115T113000
DTSTAMP:20260424T093936
CREATED:20250719T172210Z
LAST-MODIFIED:20250803T184838Z
UID:10002932-1894699800-1894707000@www.bridgeandenrich.com
SUMMARY:Tai Chi
DESCRIPTION:Tuesdays\, Wednesdays and Fridays from 9:30am to 11:30am. \nFor students of Master Chu.
URL:https://www.bridgeandenrich.com/event/tai-chi-251/2030-01-15/
LOCATION:Bridge & Enrich Lives Society\, 718 East 20th Avenue\, Vancouver\, British Columbia\, V5V 1N3\, Canada
CATEGORIES:Regular Weekly Classes
END:VEVENT
BEGIN:VEVENT
DTSTART;TZID=America/Vancouver:20300115T193000
DTEND;TZID=America/Vancouver:20300115T210000
DTSTAMP:20260424T093936
CREATED:20250719T172928Z
LAST-MODIFIED:20250803T184953Z
UID:10003502-1894735800-1894741200@www.bridgeandenrich.com
SUMMARY:Art of Living Sudarshan Kriya
DESCRIPTION:Join Karthik and MK from Vancouver’s vibrant Art of Living community for in-person yoga and a Guided Sudarshan Kriya Process (SKY). \nBut please note\, there is a prerequisite to joining: Attendance of their Level 1 Program in order to join in-person Tuesday SKY Meditation. Please contact Art of Living Vancouver for details on joining.\n 
URL:https://www.bridgeandenrich.com/event/art-of-living-sudarshan-kriya-155/2030-01-15/
LOCATION:Bridge & Enrich Lives Society\, 718 East 20th Avenue\, Vancouver\, British Columbia\, V5V 1N3\, Canada
CATEGORIES:Regular Weekly Classes
END:VEVENT
BEGIN:VEVENT
DTSTART;TZID=America/Vancouver:20300116T093000
DTEND;TZID=America/Vancouver:20300116T113000
DTSTAMP:20260424T093936
CREATED:20250719T172210Z
LAST-MODIFIED:20250803T184838Z
UID:10002933-1894786200-1894793400@www.bridgeandenrich.com
SUMMARY:Tai Chi
DESCRIPTION:Tuesdays\, Wednesdays and Fridays from 9:30am to 11:30am. \nFor students of Master Chu.
URL:https://www.bridgeandenrich.com/event/tai-chi-251/2030-01-16/
LOCATION:Bridge & Enrich Lives Society\, 718 East 20th Avenue\, Vancouver\, British Columbia\, V5V 1N3\, Canada
CATEGORIES:Regular Weekly Classes
END:VEVENT
BEGIN:VEVENT
DTSTART;TZID=America/Vancouver:20300118T093000
DTEND;TZID=America/Vancouver:20300118T113000
DTSTAMP:20260424T093936
CREATED:20250719T172210Z
LAST-MODIFIED:20250803T184838Z
UID:10002934-1894959000-1894966200@www.bridgeandenrich.com
SUMMARY:Tai Chi
DESCRIPTION:Tuesdays\, Wednesdays and Fridays from 9:30am to 11:30am. \nFor students of Master Chu.
URL:https://www.bridgeandenrich.com/event/tai-chi-251/2030-01-18/
LOCATION:Bridge & Enrich Lives Society\, 718 East 20th Avenue\, Vancouver\, British Columbia\, V5V 1N3\, Canada
CATEGORIES:Regular Weekly Classes
END:VEVENT
BEGIN:VEVENT
DTSTART;TZID=America/Vancouver:20300122T093000
DTEND;TZID=America/Vancouver:20300122T113000
DTSTAMP:20260424T093936
CREATED:20250719T172210Z
LAST-MODIFIED:20250803T184838Z
UID:10002935-1895304600-1895311800@www.bridgeandenrich.com
SUMMARY:Tai Chi
DESCRIPTION:Tuesdays\, Wednesdays and Fridays from 9:30am to 11:30am. \nFor students of Master Chu.
URL:https://www.bridgeandenrich.com/event/tai-chi-251/2030-01-22/
LOCATION:Bridge & Enrich Lives Society\, 718 East 20th Avenue\, Vancouver\, British Columbia\, V5V 1N3\, Canada
CATEGORIES:Regular Weekly Classes
END:VEVENT
BEGIN:VEVENT
DTSTART;TZID=America/Vancouver:20300122T193000
DTEND;TZID=America/Vancouver:20300122T210000
DTSTAMP:20260424T093936
CREATED:20250719T172928Z
LAST-MODIFIED:20250803T184953Z
UID:10003503-1895340600-1895346000@www.bridgeandenrich.com
SUMMARY:Art of Living Sudarshan Kriya
DESCRIPTION:Join Karthik and MK from Vancouver’s vibrant Art of Living community for in-person yoga and a Guided Sudarshan Kriya Process (SKY). \nBut please note\, there is a prerequisite to joining: Attendance of their Level 1 Program in order to join in-person Tuesday SKY Meditation. Please contact Art of Living Vancouver for details on joining.\n 
URL:https://www.bridgeandenrich.com/event/art-of-living-sudarshan-kriya-155/2030-01-22/
LOCATION:Bridge & Enrich Lives Society\, 718 East 20th Avenue\, Vancouver\, British Columbia\, V5V 1N3\, Canada
CATEGORIES:Regular Weekly Classes
END:VEVENT
BEGIN:VEVENT
DTSTART;TZID=America/Vancouver:20300123T093000
DTEND;TZID=America/Vancouver:20300123T113000
DTSTAMP:20260424T093936
CREATED:20250719T172210Z
LAST-MODIFIED:20250803T184838Z
UID:10002936-1895391000-1895398200@www.bridgeandenrich.com
SUMMARY:Tai Chi
DESCRIPTION:Tuesdays\, Wednesdays and Fridays from 9:30am to 11:30am. \nFor students of Master Chu.
URL:https://www.bridgeandenrich.com/event/tai-chi-251/2030-01-23/
LOCATION:Bridge & Enrich Lives Society\, 718 East 20th Avenue\, Vancouver\, British Columbia\, V5V 1N3\, Canada
CATEGORIES:Regular Weekly Classes
END:VEVENT
BEGIN:VEVENT
DTSTART;TZID=America/Vancouver:20300125T093000
DTEND;TZID=America/Vancouver:20300125T113000
DTSTAMP:20260424T093936
CREATED:20250719T172210Z
LAST-MODIFIED:20250803T184838Z
UID:10002937-1895563800-1895571000@www.bridgeandenrich.com
SUMMARY:Tai Chi
DESCRIPTION:Tuesdays\, Wednesdays and Fridays from 9:30am to 11:30am. \nFor students of Master Chu.
URL:https://www.bridgeandenrich.com/event/tai-chi-251/2030-01-25/
LOCATION:Bridge & Enrich Lives Society\, 718 East 20th Avenue\, Vancouver\, British Columbia\, V5V 1N3\, Canada
CATEGORIES:Regular Weekly Classes
END:VEVENT
BEGIN:VEVENT
DTSTART;TZID=America/Vancouver:20300129T093000
DTEND;TZID=America/Vancouver:20300129T113000
DTSTAMP:20260424T093936
CREATED:20250719T172210Z
LAST-MODIFIED:20250803T184838Z
UID:10002938-1895909400-1895916600@www.bridgeandenrich.com
SUMMARY:Tai Chi
DESCRIPTION:Tuesdays\, Wednesdays and Fridays from 9:30am to 11:30am. \nFor students of Master Chu.
URL:https://www.bridgeandenrich.com/event/tai-chi-251/2030-01-29/
LOCATION:Bridge & Enrich Lives Society\, 718 East 20th Avenue\, Vancouver\, British Columbia\, V5V 1N3\, Canada
CATEGORIES:Regular Weekly Classes
END:VEVENT
BEGIN:VEVENT
DTSTART;TZID=America/Vancouver:20300129T193000
DTEND;TZID=America/Vancouver:20300129T210000
DTSTAMP:20260424T093936
CREATED:20250719T172928Z
LAST-MODIFIED:20250803T184953Z
UID:10003504-1895945400-1895950800@www.bridgeandenrich.com
SUMMARY:Art of Living Sudarshan Kriya
DESCRIPTION:Join Karthik and MK from Vancouver’s vibrant Art of Living community for in-person yoga and a Guided Sudarshan Kriya Process (SKY). \nBut please note\, there is a prerequisite to joining: Attendance of their Level 1 Program in order to join in-person Tuesday SKY Meditation. Please contact Art of Living Vancouver for details on joining.\n 
URL:https://www.bridgeandenrich.com/event/art-of-living-sudarshan-kriya-155/2030-01-29/
LOCATION:Bridge & Enrich Lives Society\, 718 East 20th Avenue\, Vancouver\, British Columbia\, V5V 1N3\, Canada
CATEGORIES:Regular Weekly Classes
END:VEVENT
BEGIN:VEVENT
DTSTART;TZID=America/Vancouver:20300130T093000
DTEND;TZID=America/Vancouver:20300130T113000
DTSTAMP:20260424T093936
CREATED:20250719T172210Z
LAST-MODIFIED:20250803T184838Z
UID:10002939-1895995800-1896003000@www.bridgeandenrich.com
SUMMARY:Tai Chi
DESCRIPTION:Tuesdays\, Wednesdays and Fridays from 9:30am to 11:30am. \nFor students of Master Chu.
URL:https://www.bridgeandenrich.com/event/tai-chi-251/2030-01-30/
LOCATION:Bridge & Enrich Lives Society\, 718 East 20th Avenue\, Vancouver\, British Columbia\, V5V 1N3\, Canada
CATEGORIES:Regular Weekly Classes
END:VEVENT
BEGIN:VEVENT
DTSTART;TZID=America/Vancouver:20300201T093000
DTEND;TZID=America/Vancouver:20300201T113000
DTSTAMP:20260424T093936
CREATED:20250719T172210Z
LAST-MODIFIED:20250803T184838Z
UID:10002940-1896168600-1896175800@www.bridgeandenrich.com
SUMMARY:Tai Chi
DESCRIPTION:Tuesdays\, Wednesdays and Fridays from 9:30am to 11:30am. \nFor students of Master Chu.
URL:https://www.bridgeandenrich.com/event/tai-chi-251/2030-02-01/
LOCATION:Bridge & Enrich Lives Society\, 718 East 20th Avenue\, Vancouver\, British Columbia\, V5V 1N3\, Canada
CATEGORIES:Regular Weekly Classes
END:VEVENT
BEGIN:VEVENT
DTSTART;TZID=America/Vancouver:20300205T093000
DTEND;TZID=America/Vancouver:20300205T113000
DTSTAMP:20260424T093936
CREATED:20250719T172210Z
LAST-MODIFIED:20250803T184838Z
UID:10002941-1896514200-1896521400@www.bridgeandenrich.com
SUMMARY:Tai Chi
DESCRIPTION:Tuesdays\, Wednesdays and Fridays from 9:30am to 11:30am. \nFor students of Master Chu.
URL:https://www.bridgeandenrich.com/event/tai-chi-251/2030-02-05/
LOCATION:Bridge & Enrich Lives Society\, 718 East 20th Avenue\, Vancouver\, British Columbia\, V5V 1N3\, Canada
CATEGORIES:Regular Weekly Classes
END:VEVENT
BEGIN:VEVENT
DTSTART;TZID=America/Vancouver:20300205T193000
DTEND;TZID=America/Vancouver:20300205T210000
DTSTAMP:20260424T093936
CREATED:20250719T172928Z
LAST-MODIFIED:20250803T184953Z
UID:10003505-1896550200-1896555600@www.bridgeandenrich.com
SUMMARY:Art of Living Sudarshan Kriya
DESCRIPTION:Join Karthik and MK from Vancouver’s vibrant Art of Living community for in-person yoga and a Guided Sudarshan Kriya Process (SKY). \nBut please note\, there is a prerequisite to joining: Attendance of their Level 1 Program in order to join in-person Tuesday SKY Meditation. Please contact Art of Living Vancouver for details on joining.\n 
URL:https://www.bridgeandenrich.com/event/art-of-living-sudarshan-kriya-155/2030-02-05/
LOCATION:Bridge & Enrich Lives Society\, 718 East 20th Avenue\, Vancouver\, British Columbia\, V5V 1N3\, Canada
CATEGORIES:Regular Weekly Classes
END:VEVENT
BEGIN:VEVENT
DTSTART;TZID=America/Vancouver:20300206T093000
DTEND;TZID=America/Vancouver:20300206T113000
DTSTAMP:20260424T093936
CREATED:20250719T172210Z
LAST-MODIFIED:20250803T184838Z
UID:10002942-1896600600-1896607800@www.bridgeandenrich.com
SUMMARY:Tai Chi
DESCRIPTION:Tuesdays\, Wednesdays and Fridays from 9:30am to 11:30am. \nFor students of Master Chu.
URL:https://www.bridgeandenrich.com/event/tai-chi-251/2030-02-06/
LOCATION:Bridge & Enrich Lives Society\, 718 East 20th Avenue\, Vancouver\, British Columbia\, V5V 1N3\, Canada
CATEGORIES:Regular Weekly Classes
END:VEVENT
BEGIN:VEVENT
DTSTART;TZID=America/Vancouver:20300208T093000
DTEND;TZID=America/Vancouver:20300208T113000
DTSTAMP:20260424T093936
CREATED:20250719T172210Z
LAST-MODIFIED:20250803T184838Z
UID:10002943-1896773400-1896780600@www.bridgeandenrich.com
SUMMARY:Tai Chi
DESCRIPTION:Tuesdays\, Wednesdays and Fridays from 9:30am to 11:30am. \nFor students of Master Chu.
URL:https://www.bridgeandenrich.com/event/tai-chi-251/2030-02-08/
LOCATION:Bridge & Enrich Lives Society\, 718 East 20th Avenue\, Vancouver\, British Columbia\, V5V 1N3\, Canada
CATEGORIES:Regular Weekly Classes
END:VEVENT
BEGIN:VEVENT
DTSTART;TZID=America/Vancouver:20300212T093000
DTEND;TZID=America/Vancouver:20300212T113000
DTSTAMP:20260424T093936
CREATED:20250719T172210Z
LAST-MODIFIED:20250803T184838Z
UID:10002944-1897119000-1897126200@www.bridgeandenrich.com
SUMMARY:Tai Chi
DESCRIPTION:Tuesdays\, Wednesdays and Fridays from 9:30am to 11:30am. \nFor students of Master Chu.
URL:https://www.bridgeandenrich.com/event/tai-chi-251/2030-02-12/
LOCATION:Bridge & Enrich Lives Society\, 718 East 20th Avenue\, Vancouver\, British Columbia\, V5V 1N3\, Canada
CATEGORIES:Regular Weekly Classes
END:VEVENT
BEGIN:VEVENT
DTSTART;TZID=America/Vancouver:20300212T193000
DTEND;TZID=America/Vancouver:20300212T210000
DTSTAMP:20260424T093936
CREATED:20250719T172928Z
LAST-MODIFIED:20250803T184953Z
UID:10003506-1897155000-1897160400@www.bridgeandenrich.com
SUMMARY:Art of Living Sudarshan Kriya
DESCRIPTION:Join Karthik and MK from Vancouver’s vibrant Art of Living community for in-person yoga and a Guided Sudarshan Kriya Process (SKY). \nBut please note\, there is a prerequisite to joining: Attendance of their Level 1 Program in order to join in-person Tuesday SKY Meditation. Please contact Art of Living Vancouver for details on joining.\n 
URL:https://www.bridgeandenrich.com/event/art-of-living-sudarshan-kriya-155/2030-02-12/
LOCATION:Bridge & Enrich Lives Society\, 718 East 20th Avenue\, Vancouver\, British Columbia\, V5V 1N3\, Canada
CATEGORIES:Regular Weekly Classes
END:VEVENT
BEGIN:VEVENT
DTSTART;TZID=America/Vancouver:20300213T093000
DTEND;TZID=America/Vancouver:20300213T113000
DTSTAMP:20260424T093936
CREATED:20250719T172210Z
LAST-MODIFIED:20250803T184838Z
UID:10002945-1897205400-1897212600@www.bridgeandenrich.com
SUMMARY:Tai Chi
DESCRIPTION:Tuesdays\, Wednesdays and Fridays from 9:30am to 11:30am. \nFor students of Master Chu.
URL:https://www.bridgeandenrich.com/event/tai-chi-251/2030-02-13/
LOCATION:Bridge & Enrich Lives Society\, 718 East 20th Avenue\, Vancouver\, British Columbia\, V5V 1N3\, Canada
CATEGORIES:Regular Weekly Classes
END:VEVENT
BEGIN:VEVENT
DTSTART;TZID=America/Vancouver:20300215T093000
DTEND;TZID=America/Vancouver:20300215T113000
DTSTAMP:20260424T093936
CREATED:20250719T172210Z
LAST-MODIFIED:20250803T184838Z
UID:10002946-1897378200-1897385400@www.bridgeandenrich.com
SUMMARY:Tai Chi
DESCRIPTION:Tuesdays\, Wednesdays and Fridays from 9:30am to 11:30am. \nFor students of Master Chu.
URL:https://www.bridgeandenrich.com/event/tai-chi-251/2030-02-15/
LOCATION:Bridge & Enrich Lives Society\, 718 East 20th Avenue\, Vancouver\, British Columbia\, V5V 1N3\, Canada
CATEGORIES:Regular Weekly Classes
END:VEVENT
BEGIN:VEVENT
DTSTART;TZID=America/Vancouver:20300219T093000
DTEND;TZID=America/Vancouver:20300219T113000
DTSTAMP:20260424T093936
CREATED:20250719T172210Z
LAST-MODIFIED:20250803T184838Z
UID:10002947-1897723800-1897731000@www.bridgeandenrich.com
SUMMARY:Tai Chi
DESCRIPTION:Tuesdays\, Wednesdays and Fridays from 9:30am to 11:30am. \nFor students of Master Chu.
URL:https://www.bridgeandenrich.com/event/tai-chi-251/2030-02-19/
LOCATION:Bridge & Enrich Lives Society\, 718 East 20th Avenue\, Vancouver\, British Columbia\, V5V 1N3\, Canada
CATEGORIES:Regular Weekly Classes
END:VEVENT
BEGIN:VEVENT
DTSTART;TZID=America/Vancouver:20300219T193000
DTEND;TZID=America/Vancouver:20300219T210000
DTSTAMP:20260424T093936
CREATED:20250719T172928Z
LAST-MODIFIED:20250803T184953Z
UID:10003507-1897759800-1897765200@www.bridgeandenrich.com
SUMMARY:Art of Living Sudarshan Kriya
DESCRIPTION:Join Karthik and MK from Vancouver’s vibrant Art of Living community for in-person yoga and a Guided Sudarshan Kriya Process (SKY). \nBut please note\, there is a prerequisite to joining: Attendance of their Level 1 Program in order to join in-person Tuesday SKY Meditation. Please contact Art of Living Vancouver for details on joining.\n 
URL:https://www.bridgeandenrich.com/event/art-of-living-sudarshan-kriya-155/2030-02-19/
LOCATION:Bridge & Enrich Lives Society\, 718 East 20th Avenue\, Vancouver\, British Columbia\, V5V 1N3\, Canada
CATEGORIES:Regular Weekly Classes
END:VEVENT
END:VCALENDAR