BEGIN:VCALENDAR
VERSION:2.0
PRODID:-//Bridge &amp; Enrich Lives Society - ECPv6.15.13//NONSGML v1.0//EN
CALSCALE:GREGORIAN
METHOD:PUBLISH
X-ORIGINAL-URL:https://www.bridgeandenrich.com
X-WR-CALDESC:Events for Bridge &amp; Enrich Lives Society
REFRESH-INTERVAL;VALUE=DURATION:PT1H
X-Robots-Tag:noindex
X-PUBLISHED-TTL:PT1H
BEGIN:VTIMEZONE
TZID:America/Vancouver
BEGIN:DAYLIGHT
TZOFFSETFROM:-0800
TZOFFSETTO:-0700
TZNAME:PDT
DTSTART:20250309T100000
END:DAYLIGHT
BEGIN:STANDARD
TZOFFSETFROM:-0700
TZOFFSETTO:-0800
TZNAME:PST
DTSTART:20251102T090000
END:STANDARD
BEGIN:DAYLIGHT
TZOFFSETFROM:-0800
TZOFFSETTO:-0700
TZNAME:PDT
DTSTART:20260308T100000
END:DAYLIGHT
BEGIN:STANDARD
TZOFFSETFROM:-0700
TZOFFSETTO:-0800
TZNAME:PST
DTSTART:20261101T090000
END:STANDARD
BEGIN:DAYLIGHT
TZOFFSETFROM:-0800
TZOFFSETTO:-0700
TZNAME:PDT
DTSTART:20270314T100000
END:DAYLIGHT
BEGIN:STANDARD
TZOFFSETFROM:-0700
TZOFFSETTO:-0800
TZNAME:PST
DTSTART:20271107T090000
END:STANDARD
END:VTIMEZONE
BEGIN:VEVENT
DTSTART;TZID=America/Vancouver:20260828T093000
DTEND;TZID=America/Vancouver:20260828T113000
DTSTAMP:20260419T170127
CREATED:20250719T172210Z
LAST-MODIFIED:20250803T184838Z
UID:10002403-1787909400-1787916600@www.bridgeandenrich.com
SUMMARY:Tai Chi
DESCRIPTION:Tuesdays\, Wednesdays and Fridays from 9:30am to 11:30am. \nFor students of Master Chu.
URL:https://www.bridgeandenrich.com/event/tai-chi-251/2026-08-28/
LOCATION:Bridge & Enrich Lives Society\, 718 East 20th Avenue\, Vancouver\, British Columbia\, V5V 1N3\, Canada
CATEGORIES:Regular Weekly Classes
END:VEVENT
BEGIN:VEVENT
DTSTART;TZID=America/Vancouver:20260901T093000
DTEND;TZID=America/Vancouver:20260901T113000
DTSTAMP:20260419T170127
CREATED:20250719T172210Z
LAST-MODIFIED:20250803T184838Z
UID:10002404-1788255000-1788262200@www.bridgeandenrich.com
SUMMARY:Tai Chi
DESCRIPTION:Tuesdays\, Wednesdays and Fridays from 9:30am to 11:30am. \nFor students of Master Chu.
URL:https://www.bridgeandenrich.com/event/tai-chi-251/2026-09-01/
LOCATION:Bridge & Enrich Lives Society\, 718 East 20th Avenue\, Vancouver\, British Columbia\, V5V 1N3\, Canada
CATEGORIES:Regular Weekly Classes
END:VEVENT
BEGIN:VEVENT
DTSTART;TZID=America/Vancouver:20260901T193000
DTEND;TZID=America/Vancouver:20260901T210000
DTSTAMP:20260419T170127
CREATED:20250719T172928Z
LAST-MODIFIED:20250803T184953Z
UID:10003326-1788291000-1788296400@www.bridgeandenrich.com
SUMMARY:Art of Living Sudarshan Kriya
DESCRIPTION:Join Karthik and MK from Vancouver’s vibrant Art of Living community for in-person yoga and a Guided Sudarshan Kriya Process (SKY). \nBut please note\, there is a prerequisite to joining: Attendance of their Level 1 Program in order to join in-person Tuesday SKY Meditation. Please contact Art of Living Vancouver for details on joining.\n 
URL:https://www.bridgeandenrich.com/event/art-of-living-sudarshan-kriya-155/2026-09-01/
LOCATION:Bridge & Enrich Lives Society\, 718 East 20th Avenue\, Vancouver\, British Columbia\, V5V 1N3\, Canada
CATEGORIES:Regular Weekly Classes
END:VEVENT
BEGIN:VEVENT
DTSTART;TZID=America/Vancouver:20260902T093000
DTEND;TZID=America/Vancouver:20260902T113000
DTSTAMP:20260419T170127
CREATED:20250719T172210Z
LAST-MODIFIED:20250803T184838Z
UID:10002405-1788341400-1788348600@www.bridgeandenrich.com
SUMMARY:Tai Chi
DESCRIPTION:Tuesdays\, Wednesdays and Fridays from 9:30am to 11:30am. \nFor students of Master Chu.
URL:https://www.bridgeandenrich.com/event/tai-chi-251/2026-09-02/
LOCATION:Bridge & Enrich Lives Society\, 718 East 20th Avenue\, Vancouver\, British Columbia\, V5V 1N3\, Canada
CATEGORIES:Regular Weekly Classes
END:VEVENT
BEGIN:VEVENT
DTSTART;TZID=America/Vancouver:20260904T093000
DTEND;TZID=America/Vancouver:20260904T113000
DTSTAMP:20260419T170127
CREATED:20250719T172210Z
LAST-MODIFIED:20250803T184838Z
UID:10002406-1788514200-1788521400@www.bridgeandenrich.com
SUMMARY:Tai Chi
DESCRIPTION:Tuesdays\, Wednesdays and Fridays from 9:30am to 11:30am. \nFor students of Master Chu.
URL:https://www.bridgeandenrich.com/event/tai-chi-251/2026-09-04/
LOCATION:Bridge & Enrich Lives Society\, 718 East 20th Avenue\, Vancouver\, British Columbia\, V5V 1N3\, Canada
CATEGORIES:Regular Weekly Classes
END:VEVENT
BEGIN:VEVENT
DTSTART;TZID=America/Vancouver:20260908T093000
DTEND;TZID=America/Vancouver:20260908T113000
DTSTAMP:20260419T170127
CREATED:20250719T172210Z
LAST-MODIFIED:20250803T184838Z
UID:10002407-1788859800-1788867000@www.bridgeandenrich.com
SUMMARY:Tai Chi
DESCRIPTION:Tuesdays\, Wednesdays and Fridays from 9:30am to 11:30am. \nFor students of Master Chu.
URL:https://www.bridgeandenrich.com/event/tai-chi-251/2026-09-08/
LOCATION:Bridge & Enrich Lives Society\, 718 East 20th Avenue\, Vancouver\, British Columbia\, V5V 1N3\, Canada
CATEGORIES:Regular Weekly Classes
END:VEVENT
BEGIN:VEVENT
DTSTART;TZID=America/Vancouver:20260908T193000
DTEND;TZID=America/Vancouver:20260908T210000
DTSTAMP:20260419T170127
CREATED:20250719T172928Z
LAST-MODIFIED:20250803T184953Z
UID:10003327-1788895800-1788901200@www.bridgeandenrich.com
SUMMARY:Art of Living Sudarshan Kriya
DESCRIPTION:Join Karthik and MK from Vancouver’s vibrant Art of Living community for in-person yoga and a Guided Sudarshan Kriya Process (SKY). \nBut please note\, there is a prerequisite to joining: Attendance of their Level 1 Program in order to join in-person Tuesday SKY Meditation. Please contact Art of Living Vancouver for details on joining.\n 
URL:https://www.bridgeandenrich.com/event/art-of-living-sudarshan-kriya-155/2026-09-08/
LOCATION:Bridge & Enrich Lives Society\, 718 East 20th Avenue\, Vancouver\, British Columbia\, V5V 1N3\, Canada
CATEGORIES:Regular Weekly Classes
END:VEVENT
BEGIN:VEVENT
DTSTART;TZID=America/Vancouver:20260909T093000
DTEND;TZID=America/Vancouver:20260909T113000
DTSTAMP:20260419T170127
CREATED:20250719T172210Z
LAST-MODIFIED:20250803T184838Z
UID:10002408-1788946200-1788953400@www.bridgeandenrich.com
SUMMARY:Tai Chi
DESCRIPTION:Tuesdays\, Wednesdays and Fridays from 9:30am to 11:30am. \nFor students of Master Chu.
URL:https://www.bridgeandenrich.com/event/tai-chi-251/2026-09-09/
LOCATION:Bridge & Enrich Lives Society\, 718 East 20th Avenue\, Vancouver\, British Columbia\, V5V 1N3\, Canada
CATEGORIES:Regular Weekly Classes
END:VEVENT
BEGIN:VEVENT
DTSTART;TZID=America/Vancouver:20260911T093000
DTEND;TZID=America/Vancouver:20260911T113000
DTSTAMP:20260419T170127
CREATED:20250719T172210Z
LAST-MODIFIED:20250803T184838Z
UID:10002409-1789119000-1789126200@www.bridgeandenrich.com
SUMMARY:Tai Chi
DESCRIPTION:Tuesdays\, Wednesdays and Fridays from 9:30am to 11:30am. \nFor students of Master Chu.
URL:https://www.bridgeandenrich.com/event/tai-chi-251/2026-09-11/
LOCATION:Bridge & Enrich Lives Society\, 718 East 20th Avenue\, Vancouver\, British Columbia\, V5V 1N3\, Canada
CATEGORIES:Regular Weekly Classes
END:VEVENT
BEGIN:VEVENT
DTSTART;TZID=America/Vancouver:20260915T093000
DTEND;TZID=America/Vancouver:20260915T113000
DTSTAMP:20260419T170127
CREATED:20250719T172210Z
LAST-MODIFIED:20250803T184838Z
UID:10002410-1789464600-1789471800@www.bridgeandenrich.com
SUMMARY:Tai Chi
DESCRIPTION:Tuesdays\, Wednesdays and Fridays from 9:30am to 11:30am. \nFor students of Master Chu.
URL:https://www.bridgeandenrich.com/event/tai-chi-251/2026-09-15/
LOCATION:Bridge & Enrich Lives Society\, 718 East 20th Avenue\, Vancouver\, British Columbia\, V5V 1N3\, Canada
CATEGORIES:Regular Weekly Classes
END:VEVENT
BEGIN:VEVENT
DTSTART;TZID=America/Vancouver:20260915T193000
DTEND;TZID=America/Vancouver:20260915T210000
DTSTAMP:20260419T170127
CREATED:20250719T172928Z
LAST-MODIFIED:20250803T184953Z
UID:10003328-1789500600-1789506000@www.bridgeandenrich.com
SUMMARY:Art of Living Sudarshan Kriya
DESCRIPTION:Join Karthik and MK from Vancouver’s vibrant Art of Living community for in-person yoga and a Guided Sudarshan Kriya Process (SKY). \nBut please note\, there is a prerequisite to joining: Attendance of their Level 1 Program in order to join in-person Tuesday SKY Meditation. Please contact Art of Living Vancouver for details on joining.\n 
URL:https://www.bridgeandenrich.com/event/art-of-living-sudarshan-kriya-155/2026-09-15/
LOCATION:Bridge & Enrich Lives Society\, 718 East 20th Avenue\, Vancouver\, British Columbia\, V5V 1N3\, Canada
CATEGORIES:Regular Weekly Classes
END:VEVENT
BEGIN:VEVENT
DTSTART;TZID=America/Vancouver:20260916T093000
DTEND;TZID=America/Vancouver:20260916T113000
DTSTAMP:20260419T170127
CREATED:20250719T172210Z
LAST-MODIFIED:20250803T184838Z
UID:10002411-1789551000-1789558200@www.bridgeandenrich.com
SUMMARY:Tai Chi
DESCRIPTION:Tuesdays\, Wednesdays and Fridays from 9:30am to 11:30am. \nFor students of Master Chu.
URL:https://www.bridgeandenrich.com/event/tai-chi-251/2026-09-16/
LOCATION:Bridge & Enrich Lives Society\, 718 East 20th Avenue\, Vancouver\, British Columbia\, V5V 1N3\, Canada
CATEGORIES:Regular Weekly Classes
END:VEVENT
BEGIN:VEVENT
DTSTART;TZID=America/Vancouver:20260918T093000
DTEND;TZID=America/Vancouver:20260918T113000
DTSTAMP:20260419T170127
CREATED:20250719T172210Z
LAST-MODIFIED:20250803T184838Z
UID:10002412-1789723800-1789731000@www.bridgeandenrich.com
SUMMARY:Tai Chi
DESCRIPTION:Tuesdays\, Wednesdays and Fridays from 9:30am to 11:30am. \nFor students of Master Chu.
URL:https://www.bridgeandenrich.com/event/tai-chi-251/2026-09-18/
LOCATION:Bridge & Enrich Lives Society\, 718 East 20th Avenue\, Vancouver\, British Columbia\, V5V 1N3\, Canada
CATEGORIES:Regular Weekly Classes
END:VEVENT
BEGIN:VEVENT
DTSTART;TZID=America/Vancouver:20260922T093000
DTEND;TZID=America/Vancouver:20260922T113000
DTSTAMP:20260419T170127
CREATED:20250719T172210Z
LAST-MODIFIED:20250803T184838Z
UID:10002413-1790069400-1790076600@www.bridgeandenrich.com
SUMMARY:Tai Chi
DESCRIPTION:Tuesdays\, Wednesdays and Fridays from 9:30am to 11:30am. \nFor students of Master Chu.
URL:https://www.bridgeandenrich.com/event/tai-chi-251/2026-09-22/
LOCATION:Bridge & Enrich Lives Society\, 718 East 20th Avenue\, Vancouver\, British Columbia\, V5V 1N3\, Canada
CATEGORIES:Regular Weekly Classes
END:VEVENT
BEGIN:VEVENT
DTSTART;TZID=America/Vancouver:20260922T193000
DTEND;TZID=America/Vancouver:20260922T210000
DTSTAMP:20260419T170127
CREATED:20250719T172928Z
LAST-MODIFIED:20250803T184953Z
UID:10003329-1790105400-1790110800@www.bridgeandenrich.com
SUMMARY:Art of Living Sudarshan Kriya
DESCRIPTION:Join Karthik and MK from Vancouver’s vibrant Art of Living community for in-person yoga and a Guided Sudarshan Kriya Process (SKY). \nBut please note\, there is a prerequisite to joining: Attendance of their Level 1 Program in order to join in-person Tuesday SKY Meditation. Please contact Art of Living Vancouver for details on joining.\n 
URL:https://www.bridgeandenrich.com/event/art-of-living-sudarshan-kriya-155/2026-09-22/
LOCATION:Bridge & Enrich Lives Society\, 718 East 20th Avenue\, Vancouver\, British Columbia\, V5V 1N3\, Canada
CATEGORIES:Regular Weekly Classes
END:VEVENT
BEGIN:VEVENT
DTSTART;TZID=America/Vancouver:20260923T093000
DTEND;TZID=America/Vancouver:20260923T113000
DTSTAMP:20260419T170127
CREATED:20250719T172210Z
LAST-MODIFIED:20250803T184838Z
UID:10002414-1790155800-1790163000@www.bridgeandenrich.com
SUMMARY:Tai Chi
DESCRIPTION:Tuesdays\, Wednesdays and Fridays from 9:30am to 11:30am. \nFor students of Master Chu.
URL:https://www.bridgeandenrich.com/event/tai-chi-251/2026-09-23/
LOCATION:Bridge & Enrich Lives Society\, 718 East 20th Avenue\, Vancouver\, British Columbia\, V5V 1N3\, Canada
CATEGORIES:Regular Weekly Classes
END:VEVENT
BEGIN:VEVENT
DTSTART;TZID=America/Vancouver:20260925T093000
DTEND;TZID=America/Vancouver:20260925T113000
DTSTAMP:20260419T170127
CREATED:20250719T172210Z
LAST-MODIFIED:20250803T184838Z
UID:10002415-1790328600-1790335800@www.bridgeandenrich.com
SUMMARY:Tai Chi
DESCRIPTION:Tuesdays\, Wednesdays and Fridays from 9:30am to 11:30am. \nFor students of Master Chu.
URL:https://www.bridgeandenrich.com/event/tai-chi-251/2026-09-25/
LOCATION:Bridge & Enrich Lives Society\, 718 East 20th Avenue\, Vancouver\, British Columbia\, V5V 1N3\, Canada
CATEGORIES:Regular Weekly Classes
END:VEVENT
BEGIN:VEVENT
DTSTART;TZID=America/Vancouver:20260929T093000
DTEND;TZID=America/Vancouver:20260929T113000
DTSTAMP:20260419T170127
CREATED:20250719T172210Z
LAST-MODIFIED:20250803T184838Z
UID:10002416-1790674200-1790681400@www.bridgeandenrich.com
SUMMARY:Tai Chi
DESCRIPTION:Tuesdays\, Wednesdays and Fridays from 9:30am to 11:30am. \nFor students of Master Chu.
URL:https://www.bridgeandenrich.com/event/tai-chi-251/2026-09-29/
LOCATION:Bridge & Enrich Lives Society\, 718 East 20th Avenue\, Vancouver\, British Columbia\, V5V 1N3\, Canada
CATEGORIES:Regular Weekly Classes
END:VEVENT
BEGIN:VEVENT
DTSTART;TZID=America/Vancouver:20260929T193000
DTEND;TZID=America/Vancouver:20260929T210000
DTSTAMP:20260419T170127
CREATED:20250719T172928Z
LAST-MODIFIED:20250803T184953Z
UID:10003330-1790710200-1790715600@www.bridgeandenrich.com
SUMMARY:Art of Living Sudarshan Kriya
DESCRIPTION:Join Karthik and MK from Vancouver’s vibrant Art of Living community for in-person yoga and a Guided Sudarshan Kriya Process (SKY). \nBut please note\, there is a prerequisite to joining: Attendance of their Level 1 Program in order to join in-person Tuesday SKY Meditation. Please contact Art of Living Vancouver for details on joining.\n 
URL:https://www.bridgeandenrich.com/event/art-of-living-sudarshan-kriya-155/2026-09-29/
LOCATION:Bridge & Enrich Lives Society\, 718 East 20th Avenue\, Vancouver\, British Columbia\, V5V 1N3\, Canada
CATEGORIES:Regular Weekly Classes
END:VEVENT
BEGIN:VEVENT
DTSTART;TZID=America/Vancouver:20260930T093000
DTEND;TZID=America/Vancouver:20260930T113000
DTSTAMP:20260419T170127
CREATED:20250719T172210Z
LAST-MODIFIED:20250803T184838Z
UID:10002417-1790760600-1790767800@www.bridgeandenrich.com
SUMMARY:Tai Chi
DESCRIPTION:Tuesdays\, Wednesdays and Fridays from 9:30am to 11:30am. \nFor students of Master Chu.
URL:https://www.bridgeandenrich.com/event/tai-chi-251/2026-09-30/
LOCATION:Bridge & Enrich Lives Society\, 718 East 20th Avenue\, Vancouver\, British Columbia\, V5V 1N3\, Canada
CATEGORIES:Regular Weekly Classes
END:VEVENT
BEGIN:VEVENT
DTSTART;TZID=America/Vancouver:20261002T093000
DTEND;TZID=America/Vancouver:20261002T113000
DTSTAMP:20260419T170127
CREATED:20250719T172210Z
LAST-MODIFIED:20250803T184838Z
UID:10002418-1790933400-1790940600@www.bridgeandenrich.com
SUMMARY:Tai Chi
DESCRIPTION:Tuesdays\, Wednesdays and Fridays from 9:30am to 11:30am. \nFor students of Master Chu.
URL:https://www.bridgeandenrich.com/event/tai-chi-251/2026-10-02/
LOCATION:Bridge & Enrich Lives Society\, 718 East 20th Avenue\, Vancouver\, British Columbia\, V5V 1N3\, Canada
CATEGORIES:Regular Weekly Classes
END:VEVENT
BEGIN:VEVENT
DTSTART;TZID=America/Vancouver:20261006T093000
DTEND;TZID=America/Vancouver:20261006T113000
DTSTAMP:20260419T170127
CREATED:20250719T172210Z
LAST-MODIFIED:20250803T184838Z
UID:10002419-1791279000-1791286200@www.bridgeandenrich.com
SUMMARY:Tai Chi
DESCRIPTION:Tuesdays\, Wednesdays and Fridays from 9:30am to 11:30am. \nFor students of Master Chu.
URL:https://www.bridgeandenrich.com/event/tai-chi-251/2026-10-06/
LOCATION:Bridge & Enrich Lives Society\, 718 East 20th Avenue\, Vancouver\, British Columbia\, V5V 1N3\, Canada
CATEGORIES:Regular Weekly Classes
END:VEVENT
BEGIN:VEVENT
DTSTART;TZID=America/Vancouver:20261006T193000
DTEND;TZID=America/Vancouver:20261006T210000
DTSTAMP:20260419T170127
CREATED:20250719T172928Z
LAST-MODIFIED:20250803T184953Z
UID:10003331-1791315000-1791320400@www.bridgeandenrich.com
SUMMARY:Art of Living Sudarshan Kriya
DESCRIPTION:Join Karthik and MK from Vancouver’s vibrant Art of Living community for in-person yoga and a Guided Sudarshan Kriya Process (SKY). \nBut please note\, there is a prerequisite to joining: Attendance of their Level 1 Program in order to join in-person Tuesday SKY Meditation. Please contact Art of Living Vancouver for details on joining.\n 
URL:https://www.bridgeandenrich.com/event/art-of-living-sudarshan-kriya-155/2026-10-06/
LOCATION:Bridge & Enrich Lives Society\, 718 East 20th Avenue\, Vancouver\, British Columbia\, V5V 1N3\, Canada
CATEGORIES:Regular Weekly Classes
END:VEVENT
BEGIN:VEVENT
DTSTART;TZID=America/Vancouver:20261007T093000
DTEND;TZID=America/Vancouver:20261007T113000
DTSTAMP:20260419T170127
CREATED:20250719T172210Z
LAST-MODIFIED:20250803T184838Z
UID:10002420-1791365400-1791372600@www.bridgeandenrich.com
SUMMARY:Tai Chi
DESCRIPTION:Tuesdays\, Wednesdays and Fridays from 9:30am to 11:30am. \nFor students of Master Chu.
URL:https://www.bridgeandenrich.com/event/tai-chi-251/2026-10-07/
LOCATION:Bridge & Enrich Lives Society\, 718 East 20th Avenue\, Vancouver\, British Columbia\, V5V 1N3\, Canada
CATEGORIES:Regular Weekly Classes
END:VEVENT
BEGIN:VEVENT
DTSTART;TZID=America/Vancouver:20261009T093000
DTEND;TZID=America/Vancouver:20261009T113000
DTSTAMP:20260419T170127
CREATED:20250719T172210Z
LAST-MODIFIED:20250803T184838Z
UID:10002421-1791538200-1791545400@www.bridgeandenrich.com
SUMMARY:Tai Chi
DESCRIPTION:Tuesdays\, Wednesdays and Fridays from 9:30am to 11:30am. \nFor students of Master Chu.
URL:https://www.bridgeandenrich.com/event/tai-chi-251/2026-10-09/
LOCATION:Bridge & Enrich Lives Society\, 718 East 20th Avenue\, Vancouver\, British Columbia\, V5V 1N3\, Canada
CATEGORIES:Regular Weekly Classes
END:VEVENT
BEGIN:VEVENT
DTSTART;TZID=America/Vancouver:20261013T093000
DTEND;TZID=America/Vancouver:20261013T113000
DTSTAMP:20260419T170127
CREATED:20250719T172210Z
LAST-MODIFIED:20250803T184838Z
UID:10002422-1791883800-1791891000@www.bridgeandenrich.com
SUMMARY:Tai Chi
DESCRIPTION:Tuesdays\, Wednesdays and Fridays from 9:30am to 11:30am. \nFor students of Master Chu.
URL:https://www.bridgeandenrich.com/event/tai-chi-251/2026-10-13/
LOCATION:Bridge & Enrich Lives Society\, 718 East 20th Avenue\, Vancouver\, British Columbia\, V5V 1N3\, Canada
CATEGORIES:Regular Weekly Classes
END:VEVENT
BEGIN:VEVENT
DTSTART;TZID=America/Vancouver:20261013T193000
DTEND;TZID=America/Vancouver:20261013T210000
DTSTAMP:20260419T170127
CREATED:20250719T172928Z
LAST-MODIFIED:20250803T184953Z
UID:10003332-1791919800-1791925200@www.bridgeandenrich.com
SUMMARY:Art of Living Sudarshan Kriya
DESCRIPTION:Join Karthik and MK from Vancouver’s vibrant Art of Living community for in-person yoga and a Guided Sudarshan Kriya Process (SKY). \nBut please note\, there is a prerequisite to joining: Attendance of their Level 1 Program in order to join in-person Tuesday SKY Meditation. Please contact Art of Living Vancouver for details on joining.\n 
URL:https://www.bridgeandenrich.com/event/art-of-living-sudarshan-kriya-155/2026-10-13/
LOCATION:Bridge & Enrich Lives Society\, 718 East 20th Avenue\, Vancouver\, British Columbia\, V5V 1N3\, Canada
CATEGORIES:Regular Weekly Classes
END:VEVENT
BEGIN:VEVENT
DTSTART;TZID=America/Vancouver:20261014T093000
DTEND;TZID=America/Vancouver:20261014T113000
DTSTAMP:20260419T170127
CREATED:20250719T172210Z
LAST-MODIFIED:20250803T184838Z
UID:10002423-1791970200-1791977400@www.bridgeandenrich.com
SUMMARY:Tai Chi
DESCRIPTION:Tuesdays\, Wednesdays and Fridays from 9:30am to 11:30am. \nFor students of Master Chu.
URL:https://www.bridgeandenrich.com/event/tai-chi-251/2026-10-14/
LOCATION:Bridge & Enrich Lives Society\, 718 East 20th Avenue\, Vancouver\, British Columbia\, V5V 1N3\, Canada
CATEGORIES:Regular Weekly Classes
END:VEVENT
BEGIN:VEVENT
DTSTART;TZID=America/Vancouver:20261016T093000
DTEND;TZID=America/Vancouver:20261016T113000
DTSTAMP:20260419T170127
CREATED:20250719T172210Z
LAST-MODIFIED:20250803T184838Z
UID:10002424-1792143000-1792150200@www.bridgeandenrich.com
SUMMARY:Tai Chi
DESCRIPTION:Tuesdays\, Wednesdays and Fridays from 9:30am to 11:30am. \nFor students of Master Chu.
URL:https://www.bridgeandenrich.com/event/tai-chi-251/2026-10-16/
LOCATION:Bridge & Enrich Lives Society\, 718 East 20th Avenue\, Vancouver\, British Columbia\, V5V 1N3\, Canada
CATEGORIES:Regular Weekly Classes
END:VEVENT
BEGIN:VEVENT
DTSTART;TZID=America/Vancouver:20261020T093000
DTEND;TZID=America/Vancouver:20261020T113000
DTSTAMP:20260419T170127
CREATED:20250719T172210Z
LAST-MODIFIED:20250803T184838Z
UID:10002425-1792488600-1792495800@www.bridgeandenrich.com
SUMMARY:Tai Chi
DESCRIPTION:Tuesdays\, Wednesdays and Fridays from 9:30am to 11:30am. \nFor students of Master Chu.
URL:https://www.bridgeandenrich.com/event/tai-chi-251/2026-10-20/
LOCATION:Bridge & Enrich Lives Society\, 718 East 20th Avenue\, Vancouver\, British Columbia\, V5V 1N3\, Canada
CATEGORIES:Regular Weekly Classes
END:VEVENT
END:VCALENDAR