BEGIN:VCALENDAR
VERSION:2.0
PRODID:-//Bridge &amp; Enrich Lives Society - ECPv6.15.13//NONSGML v1.0//EN
CALSCALE:GREGORIAN
METHOD:PUBLISH
X-WR-CALNAME:Bridge &amp; Enrich Lives Society
X-ORIGINAL-URL:https://www.bridgeandenrich.com
X-WR-CALDESC:Events for Bridge &amp; Enrich Lives Society
REFRESH-INTERVAL;VALUE=DURATION:PT1H
X-Robots-Tag:noindex
X-PUBLISHED-TTL:PT1H
BEGIN:VTIMEZONE
TZID:America/Vancouver
BEGIN:DAYLIGHT
TZOFFSETFROM:-0800
TZOFFSETTO:-0700
TZNAME:PDT
DTSTART:20230312T100000
END:DAYLIGHT
BEGIN:STANDARD
TZOFFSETFROM:-0700
TZOFFSETTO:-0800
TZNAME:PST
DTSTART:20231105T090000
END:STANDARD
BEGIN:DAYLIGHT
TZOFFSETFROM:-0800
TZOFFSETTO:-0700
TZNAME:PDT
DTSTART:20240310T100000
END:DAYLIGHT
BEGIN:STANDARD
TZOFFSETFROM:-0700
TZOFFSETTO:-0800
TZNAME:PST
DTSTART:20241103T090000
END:STANDARD
BEGIN:DAYLIGHT
TZOFFSETFROM:-0800
TZOFFSETTO:-0700
TZNAME:PDT
DTSTART:20250309T100000
END:DAYLIGHT
BEGIN:STANDARD
TZOFFSETFROM:-0700
TZOFFSETTO:-0800
TZNAME:PST
DTSTART:20251102T090000
END:STANDARD
END:VTIMEZONE
BEGIN:VEVENT
DTSTART;VALUE=DATE:20241122
DTEND;VALUE=DATE:20241125
DTSTAMP:20260424T142117
CREATED:20241027T223031Z
LAST-MODIFIED:20241027T223031Z
UID:10002100-1732233600-1732492799@www.bridgeandenrich.com
SUMMARY:Art of Living - Part 1
DESCRIPTION:Enjoy a transformative\, life-changing experience with an authentic practice designed by Gurudev Sri Sri Ravi Shankar. \n\n\nFee: \n\nRegular : CAD395.00\nStudent : CAD295.00\nRepeater : CAD125.00\n\n\n\n\n\n\n \nTimes: \nFRI: 6:00pm – 8:15pm\nSAT\, SUN: 9:00am – 12:00pm\n\n\n\n\n \nTeachers: \nPranjali Jagtap\, Chitrali Sharma\n\n\n\n\n\n \nAssistant Teacher: \nNikhil Sarwate\n\n\n\n\n \nContact:\nNikhil\, 604-786-2552\, northvan@artofliving.ca\n\n \nCourse Id:\nBC2470
URL:https://www.bridgeandenrich.com/event/art-of-living-part-1-3/
LOCATION:Bridge & Enrich Lives Society\, 718 East 20th Avenue\, Vancouver\, British Columbia\, V5V 1N3\, Canada
CATEGORIES:Weekend Workshops
END:VEVENT
END:VCALENDAR