BEGIN:VCALENDAR
VERSION:2.0
PRODID:-//Bridge &amp; Enrich Lives Society - ECPv6.15.13//NONSGML v1.0//EN
CALSCALE:GREGORIAN
METHOD:PUBLISH
X-WR-CALNAME:Bridge &amp; Enrich Lives Society
X-ORIGINAL-URL:https://www.bridgeandenrich.com
X-WR-CALDESC:Events for Bridge &amp; Enrich Lives Society
REFRESH-INTERVAL;VALUE=DURATION:PT1H
X-Robots-Tag:noindex
X-PUBLISHED-TTL:PT1H
BEGIN:VTIMEZONE
TZID:America/Vancouver
BEGIN:DAYLIGHT
TZOFFSETFROM:-0800
TZOFFSETTO:-0700
TZNAME:PDT
DTSTART:20240310T100000
END:DAYLIGHT
BEGIN:STANDARD
TZOFFSETFROM:-0700
TZOFFSETTO:-0800
TZNAME:PST
DTSTART:20241103T090000
END:STANDARD
BEGIN:DAYLIGHT
TZOFFSETFROM:-0800
TZOFFSETTO:-0700
TZNAME:PDT
DTSTART:20250309T100000
END:DAYLIGHT
BEGIN:STANDARD
TZOFFSETFROM:-0700
TZOFFSETTO:-0800
TZNAME:PST
DTSTART:20251102T090000
END:STANDARD
BEGIN:DAYLIGHT
TZOFFSETFROM:-0800
TZOFFSETTO:-0700
TZNAME:PDT
DTSTART:20260308T100000
END:DAYLIGHT
BEGIN:STANDARD
TZOFFSETFROM:-0700
TZOFFSETTO:-0800
TZNAME:PST
DTSTART:20261101T090000
END:STANDARD
END:VTIMEZONE
BEGIN:VEVENT
DTSTART;VALUE=DATE:20250509
DTEND;VALUE=DATE:20250512
DTSTAMP:20260423T141900
CREATED:20250424T161919Z
LAST-MODIFIED:20250424T161919Z
UID:10002199-1746748800-1747007999@www.bridgeandenrich.com
SUMMARY:AOL Part 1 Course
DESCRIPTION:Times: \nFRI: 6:00pm – 9:00pm\nSAT\, SUN: 9:00am – 12:00pm\n\n\n\n\n\nEnjoy a transformative\, life-changing experience with an authentic practice designed by Gurudev Sri Sri Ravi Shankar \n \n\n\n\n\n\n\n\n\n\n\n\n\n\n\nFee: \n\nRegular : CAD395.00\nStudent : CAD295.00\nRepeater : CAD125.00\n\n \nContact: Nikhil\, 604-803-2952\, nikhil.sarwate@artofliving.ca\n\n \nREGISTER HERE
URL:https://www.bridgeandenrich.com/event/aol-part-1-course/
LOCATION:Bridge & Enrich Lives Society\, 718 East 20th Avenue\, Vancouver\, British Columbia\, V5V 1N3\, Canada
CATEGORIES:Weekend Workshops
END:VEVENT
END:VCALENDAR