BEGIN:VCALENDAR
VERSION:2.0
PRODID:-//Bridge &amp; Enrich Lives Society - ECPv6.15.13//NONSGML v1.0//EN
CALSCALE:GREGORIAN
METHOD:PUBLISH
X-ORIGINAL-URL:https://www.bridgeandenrich.com
X-WR-CALDESC:Events for Bridge &amp; Enrich Lives Society
REFRESH-INTERVAL;VALUE=DURATION:PT1H
X-Robots-Tag:noindex
X-PUBLISHED-TTL:PT1H
BEGIN:VTIMEZONE
TZID:America/Vancouver
BEGIN:DAYLIGHT
TZOFFSETFROM:-0800
TZOFFSETTO:-0700
TZNAME:PDT
DTSTART:20250309T100000
END:DAYLIGHT
BEGIN:STANDARD
TZOFFSETFROM:-0700
TZOFFSETTO:-0800
TZNAME:PST
DTSTART:20251102T090000
END:STANDARD
BEGIN:DAYLIGHT
TZOFFSETFROM:-0800
TZOFFSETTO:-0700
TZNAME:PDT
DTSTART:20260308T100000
END:DAYLIGHT
BEGIN:STANDARD
TZOFFSETFROM:-0700
TZOFFSETTO:-0800
TZNAME:PST
DTSTART:20261101T090000
END:STANDARD
BEGIN:DAYLIGHT
TZOFFSETFROM:-0800
TZOFFSETTO:-0700
TZNAME:PDT
DTSTART:20270314T100000
END:DAYLIGHT
BEGIN:STANDARD
TZOFFSETFROM:-0700
TZOFFSETTO:-0800
TZNAME:PST
DTSTART:20271107T090000
END:STANDARD
END:VTIMEZONE
BEGIN:VEVENT
DTSTART;VALUE=DATE:20260116
DTEND;VALUE=DATE:20260119
DTSTAMP:20260422T145754
CREATED:20260103T193355Z
LAST-MODIFIED:20260103T193355Z
UID:10003877-1768521600-1768780799@www.bridgeandenrich.com
SUMMARY:Art of Living: Part 1
DESCRIPTION: \n\n\n\n\nThe Art of Living Part 1 Course\nGet equipped with a comprehensive toolkit for a peaceful\, happy state of mind. \nWHAT’S INCLUDED? \nAdvanced Breathing Exercises \n\nExperience the Sudarshan Kriya – effectively reduces stress and takes you into a state of deep meditation\n \nThe power of pranayama – learn a series of breathing exercises to calm and energize your mind\n \nBacked by research – 70 independent studies confirm a full range of mind-body benefits from Sudarshan Kriya\, home kriya and related practices (yoga and pranayama)\n \nGet expert training on how to practice Sudarshan Kriya and pranayamas on your own \n\nMind Mastery \n\nTraditionally\, yoga is more than movement – it’s also an outlook on life. On The SKY Breath Meditation\, we’ll explore a profound and practical yogic thinking framework\, which when understood and practiced\, can act like a force-field against stress. Sudarshan Kriya helps us remove stress; wisdom helps us not accumulate stress to begin with.\n \nThese aren’t just intellectual lectures – you’ll engage in interactive discussions and experiential processes based on adult learning theory to maximize your understanding and retention. \n\nYoga and Meditation \n\nLearn easy yoga poses you can incorporate into your day for greater health\, focus and relaxation.\n \nEnjoy unique guided meditations and get a taste of the beauty within.\n\n\n\nINFORMATION AND REGISTRATION HERE \n\nDate & Time\n\n\n\n16.Jan.2026: 06:30 PM – 09:00 PM \n\n\n17.Jan.2026: 08:30 AM – 11:30 AM \n\n\n18.Jan.2026: 08:30 AM – 11:30 AM \nREGISTER HERE
URL:https://www.bridgeandenrich.com/event/art-of-living-part-1-6/
LOCATION:British Columbia
CATEGORIES:Weekend Workshops
END:VEVENT
END:VCALENDAR