BEGIN:VCALENDAR
VERSION:2.0
PRODID:-//Bridge &amp; Enrich Lives Society - ECPv6.15.13//NONSGML v1.0//EN
CALSCALE:GREGORIAN
METHOD:PUBLISH
X-WR-CALNAME:Bridge &amp; Enrich Lives Society
X-ORIGINAL-URL:https://www.bridgeandenrich.com
X-WR-CALDESC:Events for Bridge &amp; Enrich Lives Society
REFRESH-INTERVAL;VALUE=DURATION:PT1H
X-Robots-Tag:noindex
X-PUBLISHED-TTL:PT1H
BEGIN:VTIMEZONE
TZID:America/Vancouver
BEGIN:DAYLIGHT
TZOFFSETFROM:-0800
TZOFFSETTO:-0700
TZNAME:PDT
DTSTART:20230312T100000
END:DAYLIGHT
BEGIN:STANDARD
TZOFFSETFROM:-0700
TZOFFSETTO:-0800
TZNAME:PST
DTSTART:20231105T090000
END:STANDARD
BEGIN:DAYLIGHT
TZOFFSETFROM:-0800
TZOFFSETTO:-0700
TZNAME:PDT
DTSTART:20240310T100000
END:DAYLIGHT
BEGIN:STANDARD
TZOFFSETFROM:-0700
TZOFFSETTO:-0800
TZNAME:PST
DTSTART:20241103T090000
END:STANDARD
BEGIN:DAYLIGHT
TZOFFSETFROM:-0800
TZOFFSETTO:-0700
TZNAME:PDT
DTSTART:20250309T100000
END:DAYLIGHT
BEGIN:STANDARD
TZOFFSETFROM:-0700
TZOFFSETTO:-0800
TZNAME:PST
DTSTART:20251102T090000
END:STANDARD
END:VTIMEZONE
BEGIN:VEVENT
DTSTART;TZID=America/Vancouver:20240910T174500
DTEND;TZID=America/Vancouver:20240910T184500
DTSTAMP:20260422T115649
CREATED:20240818T170442Z
LAST-MODIFIED:20240909T163502Z
UID:10002048-1725990300-1725993900@www.bridgeandenrich.com
SUMMARY:Hatha Yoga with Megha
DESCRIPTION:Description: 4 class pass to Traditional Hatha yoga with Megha on Tuesdays. Indian style hatha yoga session. All levels welcome. \nTime: 5:45pm to 6:45pm \nInstructor: Learn more about Megha here
URL:https://www.bridgeandenrich.com/event/hatha-yoga-with-megha-14/
LOCATION:Bridge & Enrich Lives Society\, 718 East 20th Avenue\, Vancouver\, British Columbia\, V5V 1N3\, Canada
CATEGORIES:Regular Weekly Classes
END:VEVENT
BEGIN:VEVENT
DTSTART;TZID=America/Vancouver:20240910T093000
DTEND;TZID=America/Vancouver:20240911T113000
DTSTAMP:20260422T115649
CREATED:20240818T165919Z
LAST-MODIFIED:20240818T165919Z
UID:10002040-1725960600-1726054200@www.bridgeandenrich.com
SUMMARY:Tai Chi
DESCRIPTION:Tuesdays\, Wednesdays and Fridays from 9:30am to 11:30am. \nFor students of Master Chu.
URL:https://www.bridgeandenrich.com/event/tai-chi-154/
LOCATION:Bridge & Enrich Lives Society\, 718 East 20th Avenue\, Vancouver\, British Columbia\, V5V 1N3\, Canada
CATEGORIES:Regular Weekly Classes
END:VEVENT
BEGIN:VEVENT
DTSTART;TZID=America/Vancouver:20240906T093000
DTEND;TZID=America/Vancouver:20240906T113000
DTSTAMP:20260422T115649
CREATED:20240818T170043Z
LAST-MODIFIED:20240818T170055Z
UID:10002043-1725615000-1725622200@www.bridgeandenrich.com
SUMMARY:Tai Chi
DESCRIPTION:Tuesdays\, Wednesdays and Fridays from 9:30am to 11:30am. \nFor students of Master Chu.
URL:https://www.bridgeandenrich.com/event/tai-chi-157/
LOCATION:Bridge & Enrich Lives Society\, 718 East 20th Avenue\, Vancouver\, British Columbia\, V5V 1N3\, Canada
CATEGORIES:Regular Weekly Classes
END:VEVENT
BEGIN:VEVENT
DTSTART;TZID=America/Vancouver:20240905T190000
DTEND;TZID=America/Vancouver:20240905T213000
DTSTAMP:20260422T115649
CREATED:20240825T175644Z
LAST-MODIFIED:20240825T175644Z
UID:10002051-1725562800-1725571800@www.bridgeandenrich.com
SUMMARY:Fall In-Person Song Circle with Julie Blue
DESCRIPTION:Are you hearing the call to use your voice to clear old energy\, access your feminine power\, and activate your inner singer? The benefits of singing and chanting are profound including more energy\, increased confidence\, and more musical fun. \nJoin Julie Blue on a journey of continued discovery of voice\, music\, and a supportive community. We’ll learn new songs and chants\, deepen our practices of connection with self and others\, and experience as much fun\, healing\, and connection as possible.\nFall In-Person Song Circles – 8-week sessions\, starting with free open houses on the first week. \nBeginning Thursday\, Sept. 5th\, 7:00 – 9:30 – We gather at the beautiful Bridge & Enrich in Vancouver for our soulful singing sessions. \n \n“The song Circle with Julie not only helped me to be a better singer\, it helped me be more assertive and confident with the way I carry myself throughout the world.” – Antonina
URL:https://www.bridgeandenrich.com/event/fall-in-person-song-circle-with-julie-blue/
LOCATION:Bridge & Enrich Lives Society\, 718 East 20th Avenue\, Vancouver\, British Columbia\, V5V 1N3\, Canada
CATEGORIES:5 to 8 Week Progressive Classes
END:VEVENT
BEGIN:VEVENT
DTSTART;TZID=America/Vancouver:20240903T193000
DTEND;TZID=America/Vancouver:20240903T210000
DTSTAMP:20260422T115649
CREATED:20240818T170917Z
LAST-MODIFIED:20240818T170917Z
UID:10001686-1725391800-1725397200@www.bridgeandenrich.com
SUMMARY:Art of Living Sudarshan Kriya
DESCRIPTION:Join Karthik and MK from Vancouver’s vibrant Art of Living community for in-person yoga and a Guided Sudarshan Kriya Process (SKY). \nBut please note\, there is a prerequisite to joining: Attendance of their Level 1 Program in order to join in-person Tuesday SKY Meditation. Please contact Art of Living Vancouver for details on joining.
URL:https://www.bridgeandenrich.com/event/art-of-living-sudarshan-kriya-106/
LOCATION:Bridge & Enrich Lives Society\, 718 East 20th Avenue\, Vancouver\, British Columbia\, V5V 1N3\, Canada
CATEGORIES:Regular Weekly Classes
END:VEVENT
BEGIN:VEVENT
DTSTART;TZID=America/Vancouver:20240903T192000
DTEND;TZID=America/Vancouver:20240903T210000
DTSTAMP:20260422T115649
CREATED:20240818T170652Z
LAST-MODIFIED:20240818T170652Z
UID:10002049-1725391200-1725397200@www.bridgeandenrich.com
SUMMARY:BE Silent Meditation (online)
DESCRIPTION:Silent Meditation\nWelcoming you to our weekly ONLINE Silent Meditation Gathering!  \nA meditation space is being offered to all to come and sit in silence together. \nSome of us sit in the tradition of Soto Zen (Serene Reflection Meditation). \nAll traditions of silent meditation are welcome! \nFirst Sitting for 30 minutes starts at: \n7:20pm PST    (Tuesday evening)\n10:20pm EST  (Tuesday evening)\n7:50am IST     (Wednesday morning INDIA Time) \nWe will have 2 Sitting Meditation periods. \nWalking Meditation of 5 minutes follows the first sitting\, in turn followed by a 3-4 minute break. \nWe will usually play a recorded Dharma Talk/s before the 2nd sitting: Non-duality teachings from various traditions are featured. \nTo Attend:\nTo join this gathering\, an orientation session is first required. Please contact Supriti if you are interested in joining\, and we will help you set up for our gathering\, sharing with you what to expect and addressing any questions you may have.. \nBe inspired: read our Silent Meditation quotes here! \nJoin the discussion: see highlights from our latest sessions here!
URL:https://www.bridgeandenrich.com/event/be-silent-meditation-online-90/
LOCATION:Online via Zoom
CATEGORIES:Regular Online Classes
ORGANIZER;CN="Supriti / Sindoori":MAILTO:contact@bridgeandenrich.com
END:VEVENT
BEGIN:VEVENT
DTSTART;TZID=America/Vancouver:20240903T174500
DTEND;TZID=America/Vancouver:20240903T184500
DTSTAMP:20260422T115649
CREATED:20240818T170419Z
LAST-MODIFIED:20240818T170419Z
UID:10002047-1725385500-1725389100@www.bridgeandenrich.com
SUMMARY:Hatha Yoga with Megha
DESCRIPTION:Description: 4 class pass to Traditional Hatha yoga with Megha on Tuesdays. Indian style hatha yoga session. All levels welcome. \nTime: 5:45pm to 6:45pm \nInstructor: Learn more about Megha here
URL:https://www.bridgeandenrich.com/event/hatha-yoga-with-megha-13/
LOCATION:Bridge & Enrich Lives Society\, 718 East 20th Avenue\, Vancouver\, British Columbia\, V5V 1N3\, Canada
CATEGORIES:Regular Weekly Classes
END:VEVENT
BEGIN:VEVENT
DTSTART;TZID=America/Vancouver:20240903T093000
DTEND;TZID=America/Vancouver:20240904T113000
DTSTAMP:20260422T115649
CREATED:20240818T165858Z
LAST-MODIFIED:20240818T165858Z
UID:10002039-1725355800-1725449400@www.bridgeandenrich.com
SUMMARY:Tai Chi
DESCRIPTION:Tuesdays\, Wednesdays and Fridays from 9:30am to 11:30am. \nFor students of Master Chu.
URL:https://www.bridgeandenrich.com/event/tai-chi-153/
LOCATION:Bridge & Enrich Lives Society\, 718 East 20th Avenue\, Vancouver\, British Columbia\, V5V 1N3\, Canada
CATEGORIES:Regular Weekly Classes
END:VEVENT
BEGIN:VEVENT
DTSTART;TZID=America/Vancouver:20240830T093000
DTEND;TZID=America/Vancouver:20240830T113000
DTSTAMP:20260422T115649
CREATED:20240726T152656Z
LAST-MODIFIED:20240726T152656Z
UID:10002035-1725010200-1725017400@www.bridgeandenrich.com
SUMMARY:Tai Chi
DESCRIPTION:Tuesdays\, Wednesdays and Fridays from 9:30am to 11:30am. \nFor students of Master Chu.
URL:https://www.bridgeandenrich.com/event/tai-chi-152/
LOCATION:Bridge & Enrich Lives Society\, 718 East 20th Avenue\, Vancouver\, British Columbia\, V5V 1N3\, Canada
CATEGORIES:Regular Weekly Classes
END:VEVENT
BEGIN:VEVENT
DTSTART;TZID=America/Vancouver:20240827T193000
DTEND;TZID=America/Vancouver:20240827T210000
DTSTAMP:20260422T115649
CREATED:20240714T173215Z
LAST-MODIFIED:20240714T173215Z
UID:10001670-1724787000-1724792400@www.bridgeandenrich.com
SUMMARY:Art of Living Sudarshan Kriya
DESCRIPTION:Join Karthik and MK from Vancouver’s vibrant Art of Living community for in-person yoga and a Guided Sudarshan Kriya Process (SKY). \nBut please note\, there is a prerequisite to joining: Attendance of their Level 1 Program in order to join in-person Tuesday SKY Meditation. Please contact Art of Living Vancouver for details on joining.
URL:https://www.bridgeandenrich.com/event/art-of-living-sudarshan-kriya-105/
LOCATION:Bridge & Enrich Lives Society\, 718 East 20th Avenue\, Vancouver\, British Columbia\, V5V 1N3\, Canada
CATEGORIES:Regular Weekly Classes
END:VEVENT
BEGIN:VEVENT
DTSTART;TZID=America/Vancouver:20240827T192000
DTEND;TZID=America/Vancouver:20240827T210000
DTSTAMP:20260422T115649
CREATED:20240714T172939Z
LAST-MODIFIED:20240714T172939Z
UID:10001666-1724786400-1724792400@www.bridgeandenrich.com
SUMMARY:BE Silent Meditation (online)
DESCRIPTION:Silent Meditation\nWelcoming you to our weekly ONLINE Silent Meditation Gathering!  \nA meditation space is being offered to all to come and sit in silence together. \nSome of us sit in the tradition of Soto Zen (Serene Reflection Meditation). \nAll traditions of silent meditation are welcome! \nFirst Sitting for 30 minutes starts at: \n7:20pm PST    (Tuesday evening)\n10:20pm EST  (Tuesday evening)\n7:50am IST     (Wednesday morning INDIA Time) \nWe will have 2 Sitting Meditation periods. \nWalking Meditation of 5 minutes follows the first sitting\, in turn followed by a 3-4 minute break. \nWe will usually play a recorded Dharma Talk/s before the 2nd sitting: Non-duality teachings from various traditions are featured. \nTo Attend:\nTo join this gathering\, an orientation session is first required. Please contact Supriti if you are interested in joining\, and we will help you set up for our gathering\, sharing with you what to expect and addressing any questions you may have.. \nBe inspired: read our Silent Meditation quotes here! \nJoin the discussion: see highlights from our latest sessions here!
URL:https://www.bridgeandenrich.com/event/be-silent-meditation-online-89/
LOCATION:Bridge & Enrich Lives Society\, 718 East 20th Avenue\, Vancouver\, British Columbia\, V5V 1N3\, Canada
CATEGORIES:Regular Online Classes
ORGANIZER;CN="Supriti / Sindoori":MAILTO:contact@bridgeandenrich.com
END:VEVENT
BEGIN:VEVENT
DTSTART;TZID=America/Vancouver:20240827T174500
DTEND;TZID=America/Vancouver:20240827T184500
DTSTAMP:20260422T115649
CREATED:20240726T152340Z
LAST-MODIFIED:20240726T152340Z
UID:10002031-1724780700-1724784300@www.bridgeandenrich.com
SUMMARY:Hatha Yoga with Megha
DESCRIPTION:Description: 4 class pass to Traditional Hatha yoga with Megha on Tuesdays. Indian style hatha yoga session. All levels welcome. \nTime: 5:45pm to 6:45pm \nInstructor: Learn more about Megha here
URL:https://www.bridgeandenrich.com/event/hatha-yoga-with-megha-12/
LOCATION:Bridge & Enrich Lives Society\, 718 East 20th Avenue\, Vancouver\, British Columbia\, V5V 1N3\, Canada
CATEGORIES:Regular Weekly Classes
END:VEVENT
BEGIN:VEVENT
DTSTART;TZID=America/Vancouver:20240827T093000
DTEND;TZID=America/Vancouver:20240828T113000
DTSTAMP:20260422T115649
CREATED:20240714T172723Z
LAST-MODIFIED:20240726T152455Z
UID:10002029-1724751000-1724844600@www.bridgeandenrich.com
SUMMARY:Tai Chi
DESCRIPTION:Tuesdays\, Wednesdays and Fridays from 9:30am to 11:30am. \nFor students of Master Chu.
URL:https://www.bridgeandenrich.com/event/tai-chi-148/
LOCATION:Bridge & Enrich Lives Society\, 718 East 20th Avenue\, Vancouver\, British Columbia\, V5V 1N3\, Canada
CATEGORIES:Regular Weekly Classes
END:VEVENT
BEGIN:VEVENT
DTSTART;TZID=America/Vancouver:20240824T160000
DTEND;TZID=America/Vancouver:20240824T200000
DTSTAMP:20260422T115649
CREATED:20240818T165205Z
LAST-MODIFIED:20240818T165205Z
UID:10002038-1724515200-1724529600@www.bridgeandenrich.com
SUMMARY:Indian Musicians
DESCRIPTION:
URL:https://www.bridgeandenrich.com/event/indian-musicians/
LOCATION:Bridge & Enrich Lives Society\, 718 East 20th Avenue\, Vancouver\, British Columbia\, V5V 1N3\, Canada
CATEGORIES:Special Event
END:VEVENT
BEGIN:VEVENT
DTSTART;TZID=America/Vancouver:20240823T190000
DTEND;TZID=America/Vancouver:20240823T203000
DTSTAMP:20260422T115649
CREATED:20240726T153039Z
LAST-MODIFIED:20240726T153039Z
UID:10002037-1724439600-1724445000@www.bridgeandenrich.com
SUMMARY:Ride The Rhythm (RtR): Ecstatic Dance/Conscious Movement/ Freestyle Dance
DESCRIPTION:RtR is a regular Ecstatic Dance in Vancouver\, a safe space to dive deep and connect with your body\, mind and soul! \n\n\n\n\nRefund Policy\n\nContact the organizer to request a refund.\nEventbrite’s fee is nonrefundable. Follow Hassti Hamidi on EventBrite for event details and future event listings.\n\n\n\n\n\n\n\nAbout this event\n\n\n1 hour 30 minutes\nMobile eTicket\n\n\n\n\n\nWe welcome all! All religions\, all gender identities\, all races\, all shapes and sizes\, all sexual orientations\, all abilities and disabilities\, all languages\, and all ages\, we welcome all!
URL:https://www.bridgeandenrich.com/event/ride-the-rhythm-rtr-ecstatic-dance-conscious-movement-freestyle-dance-11/
LOCATION:Bridge & Enrich Lives Society\, 718 East 20th Avenue\, Vancouver\, British Columbia\, V5V 1N3\, Canada
CATEGORIES:Special Event
ATTACH;FMTTYPE=image/jpeg:https://www.bridgeandenrich.com/wp-content/uploads/2024/07/https___cdn.evbuc_.com_images_810321409_378213886551_1_original.jpeg
END:VEVENT
BEGIN:VEVENT
DTSTART;TZID=America/Vancouver:20240823T093000
DTEND;TZID=America/Vancouver:20240823T113000
DTSTAMP:20260422T115649
CREATED:20240726T152638Z
LAST-MODIFIED:20240726T152638Z
UID:10002034-1724405400-1724412600@www.bridgeandenrich.com
SUMMARY:Tai Chi
DESCRIPTION:Tuesdays\, Wednesdays and Fridays from 9:30am to 11:30am. \nFor students of Master Chu.
URL:https://www.bridgeandenrich.com/event/tai-chi-151/
LOCATION:Bridge & Enrich Lives Society\, 718 East 20th Avenue\, Vancouver\, British Columbia\, V5V 1N3\, Canada
CATEGORIES:Regular Weekly Classes
END:VEVENT
BEGIN:VEVENT
DTSTART;TZID=America/Vancouver:20240821T190000
DTEND;TZID=America/Vancouver:20240821T210000
DTSTAMP:20260422T115649
CREATED:20240726T152758Z
LAST-MODIFIED:20240820T155018Z
UID:10002036-1724266800-1724274000@www.bridgeandenrich.com
SUMMARY:World Chant/Kirtan & Nāda Yoga Workshop with Gina Salā
DESCRIPTION:Let your heart bloom\, Let your mind rest\, Let your body be refreshed and renewed. Join us for a very special evening of mantra and chant with Global Vocalist Gina Salā.  \nLife-long chanter Gina Salā shares meditative mantra\, grooving kirtan\, and heart opening stories\, song and chant. Gina is joined by wonderful musicians including Amir O’Loughlin\, Ron Radar Stelting and others to help co-create the vibrations that leave us feeling connected\, joyful and at peace. \n—August 21st from 7:00pm to 9:00pm at Bridge & Enrich—\n— BUY YOUR TICKETS HERE — \nGina Salá ~ With a repertoire spanning 20 languages and performance credits that include Cirque du Soleil\, the United Nations\, festivals and huts\, Gina Salā invites us into music and chant that open the heart and relax the mind. She began chanting in her early childhood ashram days. With warmth\, humor and devotion\, Gina Salá weaves together her passions for Indian classical music\, refined sanskrit\, relaxing grooves\, medicine songs and story in her offerings. She leads retreats and classes internationally and online\, as well as Monday mantra and her signature Awakening Voice Power of Love Sound School. Her passion is helping us sing ourselves awake to the Magnificence within. www.ginasala.com \nAmir O’Loughlin has been one of Vancouver’s foremost ambassadors of Interspiritual music for over 40 years. He has led hundreds of spiritual music events\, is a multi-instrumentalist\, and shares an interfaith approach to Kirtan chanting and song. In his professional life\, Amir is a psychotherapist.
URL:https://www.bridgeandenrich.com/event/kirtan-with-gina/
LOCATION:Bridge & Enrich Lives Society\, 718 East 20th Avenue\, Vancouver\, British Columbia\, V5V 1N3\, Canada
CATEGORIES:Special Event
END:VEVENT
BEGIN:VEVENT
DTSTART;TZID=America/Vancouver:20240820T193000
DTEND;TZID=America/Vancouver:20240820T210000
DTSTAMP:20260422T115649
CREATED:20240714T173158Z
LAST-MODIFIED:20240714T173158Z
UID:10001669-1724182200-1724187600@www.bridgeandenrich.com
SUMMARY:Art of Living Sudarshan Kriya
DESCRIPTION:Join Karthik and MK from Vancouver’s vibrant Art of Living community for in-person yoga and a Guided Sudarshan Kriya Process (SKY). \nBut please note\, there is a prerequisite to joining: Attendance of their Level 1 Program in order to join in-person Tuesday SKY Meditation. Please contact Art of Living Vancouver for details on joining.
URL:https://www.bridgeandenrich.com/event/art-of-living-sudarshan-kriya-104/
LOCATION:Bridge & Enrich Lives Society\, 718 East 20th Avenue\, Vancouver\, British Columbia\, V5V 1N3\, Canada
CATEGORIES:Regular Weekly Classes
END:VEVENT
BEGIN:VEVENT
DTSTART;TZID=America/Vancouver:20240820T192000
DTEND;TZID=America/Vancouver:20240820T210000
DTSTAMP:20260422T115649
CREATED:20240714T172915Z
LAST-MODIFIED:20240714T172915Z
UID:10001664-1724181600-1724187600@www.bridgeandenrich.com
SUMMARY:BE Silent Meditation (online)
DESCRIPTION:Silent Meditation\nWelcoming you to our weekly ONLINE Silent Meditation Gathering!  \nA meditation space is being offered to all to come and sit in silence together. \nSome of us sit in the tradition of Soto Zen (Serene Reflection Meditation). \nAll traditions of silent meditation are welcome! \nFirst Sitting for 30 minutes starts at: \n7:20pm PST    (Tuesday evening)\n10:20pm EST  (Tuesday evening)\n7:50am IST     (Wednesday morning INDIA Time) \nWe will have 2 Sitting Meditation periods. \nWalking Meditation of 5 minutes follows the first sitting\, in turn followed by a 3-4 minute break. \nWe will usually play a recorded Dharma Talk/s before the 2nd sitting: Non-duality teachings from various traditions are featured. \nTo Attend:\nTo join this gathering\, an orientation session is first required. Please contact Supriti if you are interested in joining\, and we will help you set up for our gathering\, sharing with you what to expect and addressing any questions you may have.. \nBe inspired: read our Silent Meditation quotes here! \nJoin the discussion: see highlights from our latest sessions here!
URL:https://www.bridgeandenrich.com/event/be-silent-meditation-online-88/
LOCATION:Online via Zoom
CATEGORIES:Regular Online Classes
ORGANIZER;CN="Supriti / Sindoori":MAILTO:contact@bridgeandenrich.com
END:VEVENT
BEGIN:VEVENT
DTSTART;TZID=America/Vancouver:20240820T174500
DTEND;TZID=America/Vancouver:20240820T184500
DTSTAMP:20260422T115649
CREATED:20240726T152318Z
LAST-MODIFIED:20240726T152318Z
UID:10002030-1724175900-1724179500@www.bridgeandenrich.com
SUMMARY:Hatha Yoga with Megha
DESCRIPTION:Description: 4 class pass to Traditional Hatha yoga with Megha on Tuesdays. Indian style hatha yoga session. All levels welcome. \nTime: 5:45pm to 6:45pm \nInstructor: Learn more about Megha here
URL:https://www.bridgeandenrich.com/event/hatha-yoga-with-megha-11/
LOCATION:Bridge & Enrich Lives Society\, 718 East 20th Avenue\, Vancouver\, British Columbia\, V5V 1N3\, Canada
CATEGORIES:Regular Weekly Classes
END:VEVENT
BEGIN:VEVENT
DTSTART;TZID=America/Vancouver:20240820T093000
DTEND;TZID=America/Vancouver:20240821T113000
DTSTAMP:20260422T115649
CREATED:20240714T172707Z
LAST-MODIFIED:20240726T152449Z
UID:10002028-1724146200-1724239800@www.bridgeandenrich.com
SUMMARY:Tai Chi
DESCRIPTION:Tuesdays\, Wednesdays and Fridays from 9:30am to 11:30am. \nFor students of Master Chu.
URL:https://www.bridgeandenrich.com/event/tai-chi-147/
LOCATION:Bridge & Enrich Lives Society\, 718 East 20th Avenue\, Vancouver\, British Columbia\, V5V 1N3\, Canada
CATEGORIES:Regular Weekly Classes
END:VEVENT
BEGIN:VEVENT
DTSTART;TZID=America/Vancouver:20240816T093000
DTEND;TZID=America/Vancouver:20240816T113000
DTSTAMP:20260422T115649
CREATED:20240726T152622Z
LAST-MODIFIED:20240726T152622Z
UID:10002033-1723800600-1723807800@www.bridgeandenrich.com
SUMMARY:Tai Chi
DESCRIPTION:Tuesdays\, Wednesdays and Fridays from 9:30am to 11:30am. \nFor students of Master Chu.
URL:https://www.bridgeandenrich.com/event/tai-chi-150/
LOCATION:Bridge & Enrich Lives Society\, 718 East 20th Avenue\, Vancouver\, British Columbia\, V5V 1N3\, Canada
CATEGORIES:Regular Weekly Classes
END:VEVENT
BEGIN:VEVENT
DTSTART;TZID=America/Vancouver:20240813T193000
DTEND;TZID=America/Vancouver:20240813T210000
DTSTAMP:20260422T115649
CREATED:20240714T173140Z
LAST-MODIFIED:20240714T173140Z
UID:10001668-1723577400-1723582800@www.bridgeandenrich.com
SUMMARY:Art of Living Sudarshan Kriya
DESCRIPTION:Join Karthik and MK from Vancouver’s vibrant Art of Living community for in-person yoga and a Guided Sudarshan Kriya Process (SKY). \nBut please note\, there is a prerequisite to joining: Attendance of their Level 1 Program in order to join in-person Tuesday SKY Meditation. Please contact Art of Living Vancouver for details on joining.
URL:https://www.bridgeandenrich.com/event/art-of-living-sudarshan-kriya-103/
LOCATION:Bridge & Enrich Lives Society\, 718 East 20th Avenue\, Vancouver\, British Columbia\, V5V 1N3\, Canada
CATEGORIES:Regular Weekly Classes
END:VEVENT
BEGIN:VEVENT
DTSTART;TZID=America/Vancouver:20240813T192000
DTEND;TZID=America/Vancouver:20240813T210000
DTSTAMP:20260422T115649
CREATED:20240714T172854Z
LAST-MODIFIED:20240714T172854Z
UID:10001662-1723576800-1723582800@www.bridgeandenrich.com
SUMMARY:BE Silent Meditation (online)
DESCRIPTION:Silent Meditation\nWelcoming you to our weekly ONLINE Silent Meditation Gathering!  \nA meditation space is being offered to all to come and sit in silence together. \nSome of us sit in the tradition of Soto Zen (Serene Reflection Meditation). \nAll traditions of silent meditation are welcome! \nFirst Sitting for 30 minutes starts at: \n7:20pm PST    (Tuesday evening)\n10:20pm EST  (Tuesday evening)\n7:50am IST     (Wednesday morning INDIA Time) \nWe will have 2 Sitting Meditation periods. \nWalking Meditation of 5 minutes follows the first sitting\, in turn followed by a 3-4 minute break. \nWe will usually play a recorded Dharma Talk/s before the 2nd sitting: Non-duality teachings from various traditions are featured. \nTo Attend:\nTo join this gathering\, an orientation session is first required. Please contact Supriti if you are interested in joining\, and we will help you set up for our gathering\, sharing with you what to expect and addressing any questions you may have.. \nBe inspired: read our Silent Meditation quotes here! \nJoin the discussion: see highlights from our latest sessions here!
URL:https://www.bridgeandenrich.com/event/be-silent-meditation-online-87/
LOCATION:Online via Zoom
CATEGORIES:Regular Online Classes
ORGANIZER;CN="Susan Horning (Unity Yoga)":MAILTO:Sue@UnityYoga.ca
END:VEVENT
BEGIN:VEVENT
DTSTART;TZID=America/Vancouver:20240813T174500
DTEND;TZID=America/Vancouver:20240813T184500
DTSTAMP:20260422T115649
CREATED:20240726T152252Z
LAST-MODIFIED:20240726T152252Z
UID:10001674-1723571100-1723574700@www.bridgeandenrich.com
SUMMARY:Hatha Yoga with Megha
DESCRIPTION:Description: 4 class pass to Traditional Hatha yoga with Megha on Tuesdays. Indian style hatha yoga session. All levels welcome. \nTime: 5:45pm to 6:45pm \nInstructor: Learn more about Megha here
URL:https://www.bridgeandenrich.com/event/hatha-yoga-with-megha-10/
LOCATION:Bridge & Enrich Lives Society\, 718 East 20th Avenue\, Vancouver\, British Columbia\, V5V 1N3\, Canada
CATEGORIES:Regular Weekly Classes
END:VEVENT
BEGIN:VEVENT
DTSTART;TZID=America/Vancouver:20240813T093000
DTEND;TZID=America/Vancouver:20240814T113000
DTSTAMP:20260422T115649
CREATED:20240714T172653Z
LAST-MODIFIED:20240726T152444Z
UID:10002027-1723541400-1723635000@www.bridgeandenrich.com
SUMMARY:Tai Chi
DESCRIPTION:Tuesdays\, Wednesdays and Fridays from 9:30am to 11:30am. \nFor students of Master Chu.
URL:https://www.bridgeandenrich.com/event/tai-chi-146/
LOCATION:Bridge & Enrich Lives Society\, 718 East 20th Avenue\, Vancouver\, British Columbia\, V5V 1N3\, Canada
CATEGORIES:Regular Weekly Classes
END:VEVENT
BEGIN:VEVENT
DTSTART;TZID=America/Vancouver:20240809T093000
DTEND;TZID=America/Vancouver:20240809T113000
DTSTAMP:20260422T115649
CREATED:20240726T152608Z
LAST-MODIFIED:20240726T152608Z
UID:10002032-1723195800-1723203000@www.bridgeandenrich.com
SUMMARY:Tai Chi
DESCRIPTION:Tuesdays\, Wednesdays and Fridays from 9:30am to 11:30am. \nFor students of Master Chu.
URL:https://www.bridgeandenrich.com/event/tai-chi-149/
LOCATION:Bridge & Enrich Lives Society\, 718 East 20th Avenue\, Vancouver\, British Columbia\, V5V 1N3\, Canada
CATEGORIES:Regular Weekly Classes
END:VEVENT
BEGIN:VEVENT
DTSTART;TZID=America/Vancouver:20240806T193000
DTEND;TZID=America/Vancouver:20240806T210000
DTSTAMP:20260422T115649
CREATED:20240714T173114Z
LAST-MODIFIED:20240714T173114Z
UID:10001667-1722972600-1722978000@www.bridgeandenrich.com
SUMMARY:Art of Living Sudarshan Kriya
DESCRIPTION:Join Karthik and MK from Vancouver’s vibrant Art of Living community for in-person yoga and a Guided Sudarshan Kriya Process (SKY). \nBut please note\, there is a prerequisite to joining: Attendance of their Level 1 Program in order to join in-person Tuesday SKY Meditation. Please contact Art of Living Vancouver for details on joining.
URL:https://www.bridgeandenrich.com/event/art-of-living-sudarshan-kriya-102/
LOCATION:Bridge & Enrich Lives Society\, 718 East 20th Avenue\, Vancouver\, British Columbia\, V5V 1N3\, Canada
CATEGORIES:Regular Weekly Classes
END:VEVENT
BEGIN:VEVENT
DTSTART;TZID=America/Vancouver:20240806T192000
DTEND;TZID=America/Vancouver:20240806T210000
DTSTAMP:20260422T115649
CREATED:20240714T172837Z
LAST-MODIFIED:20240714T172837Z
UID:10001660-1722972000-1722978000@www.bridgeandenrich.com
SUMMARY:BE Silent Meditation (online)
DESCRIPTION:Silent Meditation\nWelcoming you to our weekly ONLINE Silent Meditation Gathering!  \nA meditation space is being offered to all to come and sit in silence together. \nSome of us sit in the tradition of Soto Zen (Serene Reflection Meditation). \nAll traditions of silent meditation are welcome! \nFirst Sitting for 30 minutes starts at: \n7:20pm PST    (Tuesday evening)\n10:20pm EST  (Tuesday evening)\n7:50am IST     (Wednesday morning INDIA Time) \nWe will have 2 Sitting Meditation periods. \nWalking Meditation of 5 minutes follows the first sitting\, in turn followed by a 3-4 minute break. \nWe will usually play a recorded Dharma Talk/s before the 2nd sitting: Non-duality teachings from various traditions are featured. \nTo Attend:\nTo join this gathering\, an orientation session is first required. Please contact Supriti if you are interested in joining\, and we will help you set up for our gathering\, sharing with you what to expect and addressing any questions you may have.. \nBe inspired: read our Silent Meditation quotes here! \nJoin the discussion: see highlights from our latest sessions here!
URL:https://www.bridgeandenrich.com/event/be-silent-meditation-online-86/
LOCATION:Online via Zoom
CATEGORIES:Regular Online Classes
ORGANIZER;CN="Supriti / Sindoori":MAILTO:contact@bridgeandenrich.com
END:VEVENT
BEGIN:VEVENT
DTSTART;TZID=America/Vancouver:20240806T174500
DTEND;TZID=America/Vancouver:20240806T184500
DTSTAMP:20260422T115649
CREATED:20240726T152227Z
LAST-MODIFIED:20240726T152227Z
UID:10001672-1722966300-1722969900@www.bridgeandenrich.com
SUMMARY:Hatha Yoga with Megha
DESCRIPTION:Description: 4 class pass to Traditional Hatha yoga with Megha on Tuesdays. Indian style hatha yoga session. All levels welcome. \nTime: 5:45pm to 6:45pm \nInstructor: Learn more about Megha here
URL:https://www.bridgeandenrich.com/event/hatha-yoga-with-megha-9/
LOCATION:Bridge & Enrich Lives Society\, 718 East 20th Avenue\, Vancouver\, British Columbia\, V5V 1N3\, Canada
CATEGORIES:Regular Weekly Classes
END:VEVENT
END:VCALENDAR