BEGIN:VCALENDAR
VERSION:2.0
PRODID:-//Bridge &amp; Enrich Lives Society - ECPv6.15.13//NONSGML v1.0//EN
CALSCALE:GREGORIAN
METHOD:PUBLISH
X-WR-CALNAME:Bridge &amp; Enrich Lives Society
X-ORIGINAL-URL:https://www.bridgeandenrich.com
X-WR-CALDESC:Events for Bridge &amp; Enrich Lives Society
REFRESH-INTERVAL;VALUE=DURATION:PT1H
X-Robots-Tag:noindex
X-PUBLISHED-TTL:PT1H
BEGIN:VTIMEZONE
TZID:America/Vancouver
BEGIN:DAYLIGHT
TZOFFSETFROM:-0800
TZOFFSETTO:-0700
TZNAME:PDT
DTSTART:20240310T100000
END:DAYLIGHT
BEGIN:STANDARD
TZOFFSETFROM:-0700
TZOFFSETTO:-0800
TZNAME:PST
DTSTART:20241103T090000
END:STANDARD
BEGIN:DAYLIGHT
TZOFFSETFROM:-0800
TZOFFSETTO:-0700
TZNAME:PDT
DTSTART:20250309T100000
END:DAYLIGHT
BEGIN:STANDARD
TZOFFSETFROM:-0700
TZOFFSETTO:-0800
TZNAME:PST
DTSTART:20251102T090000
END:STANDARD
BEGIN:DAYLIGHT
TZOFFSETFROM:-0800
TZOFFSETTO:-0700
TZNAME:PDT
DTSTART:20260308T100000
END:DAYLIGHT
BEGIN:STANDARD
TZOFFSETFROM:-0700
TZOFFSETTO:-0800
TZNAME:PST
DTSTART:20261101T090000
END:STANDARD
END:VTIMEZONE
BEGIN:VEVENT
DTSTART;TZID=America/Vancouver:20251007T093000
DTEND;TZID=America/Vancouver:20251007T113000
DTSTAMP:20260420T221931
CREATED:20250831T180242Z
LAST-MODIFIED:20250831T180244Z
UID:10002263-1759829400-1759836600@www.bridgeandenrich.com
SUMMARY:Tai Chi
DESCRIPTION:Tuesdays\, Wednesdays and Fridays from 9:30am to 11:30am. \nFor students of Master Chu.
URL:https://www.bridgeandenrich.com/event/tai-chi-251-4/
LOCATION:Bridge & Enrich Lives Society\, 718 East 20th Avenue\, Vancouver\, British Columbia\, V5V 1N3\, Canada
CATEGORIES:Regular Weekly Classes
END:VEVENT
BEGIN:VEVENT
DTSTART;VALUE=DATE:20251004
DTEND;VALUE=DATE:20251011
DTSTAMP:20260420T221931
CREATED:20250803T190449Z
LAST-MODIFIED:20250831T181015Z
UID:10003793-1759536000-1760140799@www.bridgeandenrich.com
SUMMARY:Improv with Margie
DESCRIPTION:
URL:https://www.bridgeandenrich.com/event/improv-with-margie/
LOCATION:Bridge & Enrich Lives Society\, 718 East 20th Avenue\, Vancouver\, British Columbia\, V5V 1N3\, Canada
CATEGORIES:Special Event
END:VEVENT
BEGIN:VEVENT
DTSTART;TZID=America/Vancouver:20251003T093000
DTEND;TZID=America/Vancouver:20251003T113000
DTSTAMP:20260420T221931
CREATED:20250719T172210Z
LAST-MODIFIED:20250803T184838Z
UID:10002262-1759483800-1759491000@www.bridgeandenrich.com
SUMMARY:Tai Chi
DESCRIPTION:Tuesdays\, Wednesdays and Fridays from 9:30am to 11:30am. \nFor students of Master Chu.
URL:https://www.bridgeandenrich.com/event/tai-chi-251/2025-10-03/
LOCATION:Bridge & Enrich Lives Society\, 718 East 20th Avenue\, Vancouver\, British Columbia\, V5V 1N3\, Canada
CATEGORIES:Regular Weekly Classes
END:VEVENT
BEGIN:VEVENT
DTSTART;TZID=America/Vancouver:20251001T093000
DTEND;TZID=America/Vancouver:20251001T113000
DTSTAMP:20260420T221931
CREATED:20250831T180144Z
LAST-MODIFIED:20250831T180145Z
UID:10002261-1759311000-1759318200@www.bridgeandenrich.com
SUMMARY:Tai Chi
DESCRIPTION:Tuesdays\, Wednesdays and Fridays from 9:30am to 11:30am. \nFor students of Master Chu.
URL:https://www.bridgeandenrich.com/event/tai-chi-251-3/
LOCATION:Bridge & Enrich Lives Society\, 718 East 20th Avenue\, Vancouver\, British Columbia\, V5V 1N3\, Canada
CATEGORIES:Regular Weekly Classes
END:VEVENT
BEGIN:VEVENT
DTSTART;TZID=America/Vancouver:20250930T193000
DTEND;TZID=America/Vancouver:20250930T210000
DTSTAMP:20260420T221931
CREATED:20250719T172928Z
LAST-MODIFIED:20250803T184953Z
UID:10003278-1759260600-1759266000@www.bridgeandenrich.com
SUMMARY:Art of Living Sudarshan Kriya
DESCRIPTION:Join Karthik and MK from Vancouver’s vibrant Art of Living community for in-person yoga and a Guided Sudarshan Kriya Process (SKY). \nBut please note\, there is a prerequisite to joining: Attendance of their Level 1 Program in order to join in-person Tuesday SKY Meditation. Please contact Art of Living Vancouver for details on joining.\n 
URL:https://www.bridgeandenrich.com/event/art-of-living-sudarshan-kriya-155/2025-09-30/
LOCATION:Bridge & Enrich Lives Society\, 718 East 20th Avenue\, Vancouver\, British Columbia\, V5V 1N3\, Canada
CATEGORIES:Regular Weekly Classes
END:VEVENT
BEGIN:VEVENT
DTSTART;TZID=America/Vancouver:20250930T192000
DTEND;TZID=America/Vancouver:20250930T210000
DTSTAMP:20260420T221931
CREATED:20250719T172608Z
LAST-MODIFIED:20250803T184920Z
UID:10003022-1759260000-1759266000@www.bridgeandenrich.com
SUMMARY:BE Silent Meditation with a Sprinkling of Ayurveda (online)
DESCRIPTION:Silent Meditation… with a Sprinkling of Ayurveda\nWelcoming you to our weekly ONLINE Silent Meditation Gathering!  \nA meditation space is being offered to all to come and sit in silence together. \nSome of us sit in the tradition of Soto Zen (Serene Reflection Meditation). \nAll traditions of silent meditation are welcome! \nFirst Sitting for 30 minutes starts at: \n7:20pm PST    (Tuesday evening)\n10:20pm EST  (Tuesday evening)\n7:50am IST     (Wednesday morning INDIA Time) \nWe will have 2 Sitting Meditation periods. \nWalking Meditation of 5 minutes follows the first sitting\, in turn followed by a 3-4 minute break. \nWe will usually play a recorded Dharma Talk/s before the 2nd sitting: Non-duality teachings from various traditions are featured. \nTo Attend:\nTo join this gathering\, an orientation session is first required. Please contact Supriti if you are interested in joining\, and we will help you set up for our gathering\, sharing with you what to expect and addressing any questions you may have.. \nBe inspired: read our Silent Meditation quotes here! \nJoin the discussion: see highlights from our latest sessions here!
URL:https://www.bridgeandenrich.com/event/be-silent-meditation-with-a-sprinkling-of-ayurveda-online-41/2025-09-30/
LOCATION:Online via Zoom
CATEGORIES:Regular Online Classes
ORGANIZER;CN="Supriti / Sindoori":MAILTO:contact@bridgeandenrich.com
END:VEVENT
BEGIN:VEVENT
DTSTART;TZID=America/Vancouver:20250930T093000
DTEND;TZID=America/Vancouver:20250930T113000
DTSTAMP:20260420T221931
CREATED:20250831T180126Z
LAST-MODIFIED:20250831T180128Z
UID:10002260-1759224600-1759231800@www.bridgeandenrich.com
SUMMARY:Tai Chi
DESCRIPTION:Tuesdays\, Wednesdays and Fridays from 9:30am to 11:30am. \nFor students of Master Chu.
URL:https://www.bridgeandenrich.com/event/tai-chi-251-2/
LOCATION:Bridge & Enrich Lives Society\, 718 East 20th Avenue\, Vancouver\, British Columbia\, V5V 1N3\, Canada
CATEGORIES:Regular Weekly Classes
END:VEVENT
BEGIN:VEVENT
DTSTART;VALUE=DATE:20250927
DTEND;VALUE=DATE:20251002
DTSTAMP:20260420T221931
CREATED:20250831T174359Z
LAST-MODIFIED:20250831T174431Z
UID:10003795-1758931200-1759363199@www.bridgeandenrich.com
SUMMARY:Murmuration Workshop with Rhiannon Music
DESCRIPTION:5 day murmuration workshop with RHIANNON & MARGIE GILLIS \n9:30 am – 12:30\nlunch break\n2:00-4:00pm \n$1500 \nTICKETS AND MORE INFORMATION HERE \n \n\n\nThe Murmuration Project is the realization of a dream.\nIt began with watching the starlings move by the thousands in the sky and imagining how humans might do that.\nWatching dancers use this concept because the body is a powerful source for inspiring the voice. \nYears of working with singers combining improvised sound and movement.\nThen we begin crossing the space together allowing the next sound and movement to emerge spontaneously.\nLearning to articulate physical shapes and musically sophisticated patterns inside this powerful immersion that occurs because. we don’t stop during the performance but continue deeper and deeper into our imaginations.\nSpending two weeks in Montreal  in the fall of 2023 with Margie Gillis and 28 singers who wanted to explore this with me yielded a beautiful deepening of the ideas that now are ready to become innovative improvisation scores.
URL:https://www.bridgeandenrich.com/event/murmuration-workshop-with-rhiannon-music/
LOCATION:Bridge & Enrich Lives Society\, 718 East 20th Avenue\, Vancouver\, British Columbia\, V5V 1N3\, Canada
CATEGORIES:Special Event
ORGANIZER;CN="Rhiannon Music":MAILTO:margiecaot@gmail.com
END:VEVENT
BEGIN:VEVENT
DTSTART;TZID=America/Vancouver:20250926T190000
DTEND;TZID=America/Vancouver:20250926T203000
DTSTAMP:20260420T221931
CREATED:20250803T185927Z
LAST-MODIFIED:20250803T185927Z
UID:10003791-1758913200-1758918600@www.bridgeandenrich.com
SUMMARY:Conscious Movement Practice/Ecstatic Dance - Ride the Rhythm (RtR)
DESCRIPTION:RtR is a regular conscious movement practice in Vancouver\, a safe space to dive deep and connect with your body\, mind\, soul and spirit! \nJoin Ride the Rhythm on September 26th at 7 PM for an evening of Conscious Movement Practice and ecstatic dance. \nStay tuned\, we’ll be announcing the facilitator and DJ for the evening soon. Trust that it will be a soulful and spacious journey\, held with care and intention. \nTICKETS AND MORE INFO HERE \n~~~~~~~~~~~~~~~~~~~~~~~~~~~ \nEvent Details:\nDate: Friday\, September 26\, 2025 \nTime: 7:00 PM – 8:30 PM \nThe Door opens at 6:45 PM \nThe Door closes at 7:15 PM (Please try to arrive on time to land into the space with the community) \n~~~~~~~~~~~~~~~~~~~~~~~~~~~ \nTicket Price: \n\nRegular Rate: $25.00\nSupported Rate: $20.00\n\n* To keep Ride the Rhythm accessible to all\, we offer a supported rate of $20 for those experiencing financial challenges. We believe in the power of movement and connection\, and we’re committed to making this experience available to as many people as possible! \n~~~~~~~~~~~~~~~~~~~~~~~~~~~ \nHow to get your ticket: \n\nReserve your spot with an e-transfer to ridetherhythmdance@gmail.com (No Security question and answer\, auto deposit)\nTickets are available on Eventbrite (Fees will apply)\n\n\nDrop in and pay cash (capacity permitting)\n\nTICKETS AND MORE INFO HERE \n~~~~~~~~~~~~~~~~~~~~~~~~~~~ \nHere’s some extra information: \n\nNo experience is required\nBring your water bottle\nWear movement-friendly clothing\, preferably in layers\nWheelchair-accessible space\nThe space is drug-free\, substance-free\, scent-free\, and judgment-free\, and all participants are expected to respect themselves and one another\nPlease share the space respectfully and check in before hugging or touching another dancer (consent practices keep spaces safe)\nThe dance floor is a nonverbal space\, If you need to have a conversation\, however brief\, please step outside\nBring your openness and curiosity\n\n\nNo street shoes on the dance floor\nPlease do not attend if you feel unwell or have any flu-related symptoms.\nPlease turn off your cell phone and put it away for the duration of the event\n\n~~~~~~~~~~~~~~~~~~~~~~~~~~~ \nAt RtR\, we open our doors to all! We welcome all gender identities\, races\, sizes\, sexual orientations\, abilities and disabilities\, all languages\, and anyone 18 and older!
URL:https://www.bridgeandenrich.com/event/conscious-movement-practice-ecstatic-dance-ride-the-rhythm-rtr/
LOCATION:British Columbia
CATEGORIES:Special Event
END:VEVENT
BEGIN:VEVENT
DTSTART;TZID=America/Vancouver:20250926T093000
DTEND;TZID=America/Vancouver:20250926T113000
DTSTAMP:20260420T221931
CREATED:20250719T172210Z
LAST-MODIFIED:20250803T184838Z
UID:10002259-1758879000-1758886200@www.bridgeandenrich.com
SUMMARY:Tai Chi
DESCRIPTION:Tuesdays\, Wednesdays and Fridays from 9:30am to 11:30am. \nFor students of Master Chu.
URL:https://www.bridgeandenrich.com/event/tai-chi-251/2025-09-26/
LOCATION:Bridge & Enrich Lives Society\, 718 East 20th Avenue\, Vancouver\, British Columbia\, V5V 1N3\, Canada
CATEGORIES:Regular Weekly Classes
END:VEVENT
BEGIN:VEVENT
DTSTART;TZID=America/Vancouver:20250924T093000
DTEND;TZID=America/Vancouver:20250924T113000
DTSTAMP:20260420T221931
CREATED:20250719T172210Z
LAST-MODIFIED:20250803T184838Z
UID:10002258-1758706200-1758713400@www.bridgeandenrich.com
SUMMARY:Tai Chi
DESCRIPTION:Tuesdays\, Wednesdays and Fridays from 9:30am to 11:30am. \nFor students of Master Chu.
URL:https://www.bridgeandenrich.com/event/tai-chi-251/2025-09-24/
LOCATION:Bridge & Enrich Lives Society\, 718 East 20th Avenue\, Vancouver\, British Columbia\, V5V 1N3\, Canada
CATEGORIES:Regular Weekly Classes
END:VEVENT
BEGIN:VEVENT
DTSTART;TZID=America/Vancouver:20250923T193000
DTEND;TZID=America/Vancouver:20250923T210000
DTSTAMP:20260420T221931
CREATED:20250719T172928Z
LAST-MODIFIED:20250803T184953Z
UID:10003277-1758655800-1758661200@www.bridgeandenrich.com
SUMMARY:Art of Living Sudarshan Kriya
DESCRIPTION:Join Karthik and MK from Vancouver’s vibrant Art of Living community for in-person yoga and a Guided Sudarshan Kriya Process (SKY). \nBut please note\, there is a prerequisite to joining: Attendance of their Level 1 Program in order to join in-person Tuesday SKY Meditation. Please contact Art of Living Vancouver for details on joining.\n 
URL:https://www.bridgeandenrich.com/event/art-of-living-sudarshan-kriya-155/2025-09-23/
LOCATION:Bridge & Enrich Lives Society\, 718 East 20th Avenue\, Vancouver\, British Columbia\, V5V 1N3\, Canada
CATEGORIES:Regular Weekly Classes
END:VEVENT
BEGIN:VEVENT
DTSTART;TZID=America/Vancouver:20250923T192000
DTEND;TZID=America/Vancouver:20250923T210000
DTSTAMP:20260420T221931
CREATED:20250719T172608Z
LAST-MODIFIED:20250803T184920Z
UID:10003021-1758655200-1758661200@www.bridgeandenrich.com
SUMMARY:BE Silent Meditation with a Sprinkling of Ayurveda (online)
DESCRIPTION:Silent Meditation… with a Sprinkling of Ayurveda\nWelcoming you to our weekly ONLINE Silent Meditation Gathering!  \nA meditation space is being offered to all to come and sit in silence together. \nSome of us sit in the tradition of Soto Zen (Serene Reflection Meditation). \nAll traditions of silent meditation are welcome! \nFirst Sitting for 30 minutes starts at: \n7:20pm PST    (Tuesday evening)\n10:20pm EST  (Tuesday evening)\n7:50am IST     (Wednesday morning INDIA Time) \nWe will have 2 Sitting Meditation periods. \nWalking Meditation of 5 minutes follows the first sitting\, in turn followed by a 3-4 minute break. \nWe will usually play a recorded Dharma Talk/s before the 2nd sitting: Non-duality teachings from various traditions are featured. \nTo Attend:\nTo join this gathering\, an orientation session is first required. Please contact Supriti if you are interested in joining\, and we will help you set up for our gathering\, sharing with you what to expect and addressing any questions you may have.. \nBe inspired: read our Silent Meditation quotes here! \nJoin the discussion: see highlights from our latest sessions here!
URL:https://www.bridgeandenrich.com/event/be-silent-meditation-with-a-sprinkling-of-ayurveda-online-41/2025-09-23/
LOCATION:Online via Zoom
CATEGORIES:Regular Online Classes
ORGANIZER;CN="Supriti / Sindoori":MAILTO:contact@bridgeandenrich.com
END:VEVENT
BEGIN:VEVENT
DTSTART;TZID=America/Vancouver:20250923T093000
DTEND;TZID=America/Vancouver:20250923T113000
DTSTAMP:20260420T221931
CREATED:20250719T172210Z
LAST-MODIFIED:20250803T184838Z
UID:10002257-1758619800-1758627000@www.bridgeandenrich.com
SUMMARY:Tai Chi
DESCRIPTION:Tuesdays\, Wednesdays and Fridays from 9:30am to 11:30am. \nFor students of Master Chu.
URL:https://www.bridgeandenrich.com/event/tai-chi-251/2025-09-23/
LOCATION:Bridge & Enrich Lives Society\, 718 East 20th Avenue\, Vancouver\, British Columbia\, V5V 1N3\, Canada
CATEGORIES:Regular Weekly Classes
END:VEVENT
BEGIN:VEVENT
DTSTART;TZID=America/Vancouver:20250919T093000
DTEND;TZID=America/Vancouver:20250919T113000
DTSTAMP:20260420T221931
CREATED:20250719T172210Z
LAST-MODIFIED:20250803T184838Z
UID:10002256-1758274200-1758281400@www.bridgeandenrich.com
SUMMARY:Tai Chi
DESCRIPTION:Tuesdays\, Wednesdays and Fridays from 9:30am to 11:30am. \nFor students of Master Chu.
URL:https://www.bridgeandenrich.com/event/tai-chi-251/2025-09-19/
LOCATION:Bridge & Enrich Lives Society\, 718 East 20th Avenue\, Vancouver\, British Columbia\, V5V 1N3\, Canada
CATEGORIES:Regular Weekly Classes
END:VEVENT
BEGIN:VEVENT
DTSTART;TZID=America/Vancouver:20250917T093000
DTEND;TZID=America/Vancouver:20250917T113000
DTSTAMP:20260420T221931
CREATED:20250719T172210Z
LAST-MODIFIED:20250803T184838Z
UID:10002255-1758101400-1758108600@www.bridgeandenrich.com
SUMMARY:Tai Chi
DESCRIPTION:Tuesdays\, Wednesdays and Fridays from 9:30am to 11:30am. \nFor students of Master Chu.
URL:https://www.bridgeandenrich.com/event/tai-chi-251/2025-09-17/
LOCATION:Bridge & Enrich Lives Society\, 718 East 20th Avenue\, Vancouver\, British Columbia\, V5V 1N3\, Canada
CATEGORIES:Regular Weekly Classes
END:VEVENT
BEGIN:VEVENT
DTSTART;TZID=America/Vancouver:20250916T193000
DTEND;TZID=America/Vancouver:20250916T210000
DTSTAMP:20260420T221931
CREATED:20250719T172928Z
LAST-MODIFIED:20250803T184953Z
UID:10003276-1758051000-1758056400@www.bridgeandenrich.com
SUMMARY:Art of Living Sudarshan Kriya
DESCRIPTION:Join Karthik and MK from Vancouver’s vibrant Art of Living community for in-person yoga and a Guided Sudarshan Kriya Process (SKY). \nBut please note\, there is a prerequisite to joining: Attendance of their Level 1 Program in order to join in-person Tuesday SKY Meditation. Please contact Art of Living Vancouver for details on joining.\n 
URL:https://www.bridgeandenrich.com/event/art-of-living-sudarshan-kriya-155/2025-09-16/
LOCATION:Bridge & Enrich Lives Society\, 718 East 20th Avenue\, Vancouver\, British Columbia\, V5V 1N3\, Canada
CATEGORIES:Regular Weekly Classes
END:VEVENT
BEGIN:VEVENT
DTSTART;TZID=America/Vancouver:20250916T192000
DTEND;TZID=America/Vancouver:20250916T210000
DTSTAMP:20260420T221931
CREATED:20250719T172608Z
LAST-MODIFIED:20250803T184920Z
UID:10003020-1758050400-1758056400@www.bridgeandenrich.com
SUMMARY:BE Silent Meditation with a Sprinkling of Ayurveda (online)
DESCRIPTION:Silent Meditation… with a Sprinkling of Ayurveda\nWelcoming you to our weekly ONLINE Silent Meditation Gathering!  \nA meditation space is being offered to all to come and sit in silence together. \nSome of us sit in the tradition of Soto Zen (Serene Reflection Meditation). \nAll traditions of silent meditation are welcome! \nFirst Sitting for 30 minutes starts at: \n7:20pm PST    (Tuesday evening)\n10:20pm EST  (Tuesday evening)\n7:50am IST     (Wednesday morning INDIA Time) \nWe will have 2 Sitting Meditation periods. \nWalking Meditation of 5 minutes follows the first sitting\, in turn followed by a 3-4 minute break. \nWe will usually play a recorded Dharma Talk/s before the 2nd sitting: Non-duality teachings from various traditions are featured. \nTo Attend:\nTo join this gathering\, an orientation session is first required. Please contact Supriti if you are interested in joining\, and we will help you set up for our gathering\, sharing with you what to expect and addressing any questions you may have.. \nBe inspired: read our Silent Meditation quotes here! \nJoin the discussion: see highlights from our latest sessions here!
URL:https://www.bridgeandenrich.com/event/be-silent-meditation-with-a-sprinkling-of-ayurveda-online-41/2025-09-16/
LOCATION:Online via Zoom
CATEGORIES:Regular Online Classes
ORGANIZER;CN="Supriti / Sindoori":MAILTO:contact@bridgeandenrich.com
END:VEVENT
BEGIN:VEVENT
DTSTART;TZID=America/Vancouver:20250916T093000
DTEND;TZID=America/Vancouver:20250916T113000
DTSTAMP:20260420T221931
CREATED:20250719T172210Z
LAST-MODIFIED:20250803T184838Z
UID:10002254-1758015000-1758022200@www.bridgeandenrich.com
SUMMARY:Tai Chi
DESCRIPTION:Tuesdays\, Wednesdays and Fridays from 9:30am to 11:30am. \nFor students of Master Chu.
URL:https://www.bridgeandenrich.com/event/tai-chi-251/2025-09-16/
LOCATION:Bridge & Enrich Lives Society\, 718 East 20th Avenue\, Vancouver\, British Columbia\, V5V 1N3\, Canada
CATEGORIES:Regular Weekly Classes
END:VEVENT
BEGIN:VEVENT
DTSTART;TZID=America/Vancouver:20250912T093000
DTEND;TZID=America/Vancouver:20250912T113000
DTSTAMP:20260420T221931
CREATED:20250719T172210Z
LAST-MODIFIED:20250803T184838Z
UID:10002253-1757669400-1757676600@www.bridgeandenrich.com
SUMMARY:Tai Chi
DESCRIPTION:Tuesdays\, Wednesdays and Fridays from 9:30am to 11:30am. \nFor students of Master Chu.
URL:https://www.bridgeandenrich.com/event/tai-chi-251/2025-09-12/
LOCATION:Bridge & Enrich Lives Society\, 718 East 20th Avenue\, Vancouver\, British Columbia\, V5V 1N3\, Canada
CATEGORIES:Regular Weekly Classes
END:VEVENT
BEGIN:VEVENT
DTSTART;VALUE=DATE:20250912
DTEND;VALUE=DATE:20250915
DTSTAMP:20260420T221931
CREATED:20250803T190311Z
LAST-MODIFIED:20250803T190311Z
UID:10003792-1757635200-1757894399@www.bridgeandenrich.com
SUMMARY:AOL Part 1 Course (3-Day Course)
DESCRIPTION:Friday: 6:30pm-9:00pm\nSaturday and Sunday: 8:30am-12:30pm
URL:https://www.bridgeandenrich.com/event/aol-part-1-course-3-day-course/
LOCATION:Bridge & Enrich Lives Society\, 718 East 20th Avenue\, Vancouver\, British Columbia\, V5V 1N3\, Canada
CATEGORIES:Weekend Workshops
END:VEVENT
BEGIN:VEVENT
DTSTART;TZID=America/Vancouver:20250910T093000
DTEND;TZID=America/Vancouver:20250910T113000
DTSTAMP:20260420T221931
CREATED:20250719T172210Z
LAST-MODIFIED:20250803T184838Z
UID:10002252-1757496600-1757503800@www.bridgeandenrich.com
SUMMARY:Tai Chi
DESCRIPTION:Tuesdays\, Wednesdays and Fridays from 9:30am to 11:30am. \nFor students of Master Chu.
URL:https://www.bridgeandenrich.com/event/tai-chi-251/2025-09-10/
LOCATION:Bridge & Enrich Lives Society\, 718 East 20th Avenue\, Vancouver\, British Columbia\, V5V 1N3\, Canada
CATEGORIES:Regular Weekly Classes
END:VEVENT
BEGIN:VEVENT
DTSTART;TZID=America/Vancouver:20250909T193000
DTEND;TZID=America/Vancouver:20250909T210000
DTSTAMP:20260420T221931
CREATED:20250719T172928Z
LAST-MODIFIED:20250803T184953Z
UID:10003275-1757446200-1757451600@www.bridgeandenrich.com
SUMMARY:Art of Living Sudarshan Kriya
DESCRIPTION:Join Karthik and MK from Vancouver’s vibrant Art of Living community for in-person yoga and a Guided Sudarshan Kriya Process (SKY). \nBut please note\, there is a prerequisite to joining: Attendance of their Level 1 Program in order to join in-person Tuesday SKY Meditation. Please contact Art of Living Vancouver for details on joining.\n 
URL:https://www.bridgeandenrich.com/event/art-of-living-sudarshan-kriya-155/2025-09-09/
LOCATION:Bridge & Enrich Lives Society\, 718 East 20th Avenue\, Vancouver\, British Columbia\, V5V 1N3\, Canada
CATEGORIES:Regular Weekly Classes
END:VEVENT
BEGIN:VEVENT
DTSTART;TZID=America/Vancouver:20250909T192000
DTEND;TZID=America/Vancouver:20250909T210000
DTSTAMP:20260420T221931
CREATED:20250719T172608Z
LAST-MODIFIED:20250803T184920Z
UID:10003019-1757445600-1757451600@www.bridgeandenrich.com
SUMMARY:BE Silent Meditation with a Sprinkling of Ayurveda (online)
DESCRIPTION:Silent Meditation… with a Sprinkling of Ayurveda\nWelcoming you to our weekly ONLINE Silent Meditation Gathering!  \nA meditation space is being offered to all to come and sit in silence together. \nSome of us sit in the tradition of Soto Zen (Serene Reflection Meditation). \nAll traditions of silent meditation are welcome! \nFirst Sitting for 30 minutes starts at: \n7:20pm PST    (Tuesday evening)\n10:20pm EST  (Tuesday evening)\n7:50am IST     (Wednesday morning INDIA Time) \nWe will have 2 Sitting Meditation periods. \nWalking Meditation of 5 minutes follows the first sitting\, in turn followed by a 3-4 minute break. \nWe will usually play a recorded Dharma Talk/s before the 2nd sitting: Non-duality teachings from various traditions are featured. \nTo Attend:\nTo join this gathering\, an orientation session is first required. Please contact Supriti if you are interested in joining\, and we will help you set up for our gathering\, sharing with you what to expect and addressing any questions you may have.. \nBe inspired: read our Silent Meditation quotes here! \nJoin the discussion: see highlights from our latest sessions here!
URL:https://www.bridgeandenrich.com/event/be-silent-meditation-with-a-sprinkling-of-ayurveda-online-41/2025-09-09/
LOCATION:Online via Zoom
CATEGORIES:Regular Online Classes
ORGANIZER;CN="Supriti / Sindoori":MAILTO:contact@bridgeandenrich.com
END:VEVENT
BEGIN:VEVENT
DTSTART;TZID=America/Vancouver:20250909T093000
DTEND;TZID=America/Vancouver:20250909T113000
DTSTAMP:20260420T221931
CREATED:20250719T172210Z
LAST-MODIFIED:20250803T184838Z
UID:10002251-1757410200-1757417400@www.bridgeandenrich.com
SUMMARY:Tai Chi
DESCRIPTION:Tuesdays\, Wednesdays and Fridays from 9:30am to 11:30am. \nFor students of Master Chu.
URL:https://www.bridgeandenrich.com/event/tai-chi-251/2025-09-09/
LOCATION:Bridge & Enrich Lives Society\, 718 East 20th Avenue\, Vancouver\, British Columbia\, V5V 1N3\, Canada
CATEGORIES:Regular Weekly Classes
END:VEVENT
BEGIN:VEVENT
DTSTART;TZID=America/Vancouver:20250905T093000
DTEND;TZID=America/Vancouver:20250905T113000
DTSTAMP:20260420T221931
CREATED:20250719T172210Z
LAST-MODIFIED:20250803T184838Z
UID:10001880-1757064600-1757071800@www.bridgeandenrich.com
SUMMARY:Tai Chi
DESCRIPTION:Tuesdays\, Wednesdays and Fridays from 9:30am to 11:30am. \nFor students of Master Chu.
URL:https://www.bridgeandenrich.com/event/tai-chi-251/2025-09-05/
LOCATION:Bridge & Enrich Lives Society\, 718 East 20th Avenue\, Vancouver\, British Columbia\, V5V 1N3\, Canada
CATEGORIES:Regular Weekly Classes
END:VEVENT
BEGIN:VEVENT
DTSTART;TZID=America/Vancouver:20250902T193000
DTEND;TZID=America/Vancouver:20250902T210000
DTSTAMP:20260420T221931
CREATED:20250719T172928Z
LAST-MODIFIED:20250803T184953Z
UID:10002245-1756841400-1756846800@www.bridgeandenrich.com
SUMMARY:Art of Living Sudarshan Kriya
DESCRIPTION:Join Karthik and MK from Vancouver’s vibrant Art of Living community for in-person yoga and a Guided Sudarshan Kriya Process (SKY). \nBut please note\, there is a prerequisite to joining: Attendance of their Level 1 Program in order to join in-person Tuesday SKY Meditation. Please contact Art of Living Vancouver for details on joining.\n 
URL:https://www.bridgeandenrich.com/event/art-of-living-sudarshan-kriya-155/2025-09-02/
LOCATION:Bridge & Enrich Lives Society\, 718 East 20th Avenue\, Vancouver\, British Columbia\, V5V 1N3\, Canada
CATEGORIES:Regular Weekly Classes
END:VEVENT
BEGIN:VEVENT
DTSTART;TZID=America/Vancouver:20250902T192000
DTEND;TZID=America/Vancouver:20250902T210000
DTSTAMP:20260420T221931
CREATED:20250719T172608Z
LAST-MODIFIED:20250803T184920Z
UID:10001889-1756840800-1756846800@www.bridgeandenrich.com
SUMMARY:BE Silent Meditation with a Sprinkling of Ayurveda (online)
DESCRIPTION:Silent Meditation… with a Sprinkling of Ayurveda\nWelcoming you to our weekly ONLINE Silent Meditation Gathering!  \nA meditation space is being offered to all to come and sit in silence together. \nSome of us sit in the tradition of Soto Zen (Serene Reflection Meditation). \nAll traditions of silent meditation are welcome! \nFirst Sitting for 30 minutes starts at: \n7:20pm PST    (Tuesday evening)\n10:20pm EST  (Tuesday evening)\n7:50am IST     (Wednesday morning INDIA Time) \nWe will have 2 Sitting Meditation periods. \nWalking Meditation of 5 minutes follows the first sitting\, in turn followed by a 3-4 minute break. \nWe will usually play a recorded Dharma Talk/s before the 2nd sitting: Non-duality teachings from various traditions are featured. \nTo Attend:\nTo join this gathering\, an orientation session is first required. Please contact Supriti if you are interested in joining\, and we will help you set up for our gathering\, sharing with you what to expect and addressing any questions you may have.. \nBe inspired: read our Silent Meditation quotes here! \nJoin the discussion: see highlights from our latest sessions here!
URL:https://www.bridgeandenrich.com/event/be-silent-meditation-with-a-sprinkling-of-ayurveda-online-41/2025-09-02/
LOCATION:Online via Zoom
CATEGORIES:Regular Online Classes
ORGANIZER;CN="Supriti / Sindoori":MAILTO:contact@bridgeandenrich.com
END:VEVENT
BEGIN:VEVENT
DTSTART;TZID=America/Vancouver:20250902T093000
DTEND;TZID=America/Vancouver:20250903T113000
DTSTAMP:20260420T221931
CREATED:20250719T171927Z
LAST-MODIFIED:20250719T171927Z
UID:10002240-1756805400-1756899000@www.bridgeandenrich.com
SUMMARY:Tai Chi
DESCRIPTION:Tuesdays\, Wednesdays and Fridays from 9:30am to 11:30am. \nFor students of Master Chu.
URL:https://www.bridgeandenrich.com/event/tai-chi-246/
LOCATION:Bridge & Enrich Lives Society\, 718 East 20th Avenue\, Vancouver\, British Columbia\, V5V 1N3\, Canada
CATEGORIES:Regular Weekly Classes
END:VEVENT
BEGIN:VEVENT
DTSTART;TZID=America/Vancouver:20250829T093000
DTEND;TZID=America/Vancouver:20250829T113000
DTSTAMP:20260420T221931
CREATED:20250719T172154Z
LAST-MODIFIED:20250719T172154Z
UID:10001878-1756459800-1756467000@www.bridgeandenrich.com
SUMMARY:Tai Chi
DESCRIPTION:Tuesdays\, Wednesdays and Fridays from 9:30am to 11:30am. \nFor students of Master Chu.
URL:https://www.bridgeandenrich.com/event/tai-chi-250/
LOCATION:Bridge & Enrich Lives Society\, 718 East 20th Avenue\, Vancouver\, British Columbia\, V5V 1N3\, Canada
CATEGORIES:Regular Weekly Classes
END:VEVENT
END:VCALENDAR