BEGIN:VCALENDAR
VERSION:2.0
PRODID:-//Bridge &amp; Enrich Lives Society - ECPv6.15.13//NONSGML v1.0//EN
CALSCALE:GREGORIAN
METHOD:PUBLISH
X-WR-CALNAME:Bridge &amp; Enrich Lives Society
X-ORIGINAL-URL:https://www.bridgeandenrich.com
X-WR-CALDESC:Events for Bridge &amp; Enrich Lives Society
REFRESH-INTERVAL;VALUE=DURATION:PT1H
X-Robots-Tag:noindex
X-PUBLISHED-TTL:PT1H
BEGIN:VTIMEZONE
TZID:America/Vancouver
BEGIN:DAYLIGHT
TZOFFSETFROM:-0800
TZOFFSETTO:-0700
TZNAME:PDT
DTSTART:20230312T100000
END:DAYLIGHT
BEGIN:STANDARD
TZOFFSETFROM:-0700
TZOFFSETTO:-0800
TZNAME:PST
DTSTART:20231105T090000
END:STANDARD
BEGIN:DAYLIGHT
TZOFFSETFROM:-0800
TZOFFSETTO:-0700
TZNAME:PDT
DTSTART:20240310T100000
END:DAYLIGHT
BEGIN:STANDARD
TZOFFSETFROM:-0700
TZOFFSETTO:-0800
TZNAME:PST
DTSTART:20241103T090000
END:STANDARD
BEGIN:DAYLIGHT
TZOFFSETFROM:-0800
TZOFFSETTO:-0700
TZNAME:PDT
DTSTART:20250309T100000
END:DAYLIGHT
BEGIN:STANDARD
TZOFFSETFROM:-0700
TZOFFSETTO:-0800
TZNAME:PST
DTSTART:20251102T090000
END:STANDARD
END:VTIMEZONE
BEGIN:VEVENT
DTSTART;TZID=America/Vancouver:20240726T093000
DTEND;TZID=America/Vancouver:20240726T113000
DTSTAMP:20260423T121055
CREATED:20240601T171635Z
LAST-MODIFIED:20240708T205845Z
UID:10002018-1721986200-1721993400@www.bridgeandenrich.com
SUMMARY:Tai Chi
DESCRIPTION:Tuesdays\, Wednesdays and Fridays from 9:30am to 11:30am. \nFor students of Master Chu.
URL:https://www.bridgeandenrich.com/event/tai-chi-143/
LOCATION:Bridge & Enrich Lives Society\, 718 East 20th Avenue\, Vancouver\, British Columbia\, V5V 1N3\, Canada
CATEGORIES:Regular Weekly Classes
END:VEVENT
BEGIN:VEVENT
DTSTART;TZID=America/Vancouver:20240723T193000
DTEND;TZID=America/Vancouver:20240723T210000
DTSTAMP:20260423T121055
CREATED:20240601T171408Z
LAST-MODIFIED:20240601T171408Z
UID:10002013-1721763000-1721768400@www.bridgeandenrich.com
SUMMARY:Art of Living Sudarshan Kriya
DESCRIPTION:Join Karthik and MK from Vancouver’s vibrant Art of Living community for in-person yoga and a Guided Sudarshan Kriya Process (SKY). \nBut please note\, there is a prerequisite to joining: Attendance of their Level 1 Program in order to join in-person Tuesday SKY Meditation. Please contact Art of Living Vancouver for details on joining.
URL:https://www.bridgeandenrich.com/event/art-of-living-sudarshan-kriya-100/
LOCATION:Bridge & Enrich Lives Society\, 718 East 20th Avenue\, Vancouver\, British Columbia\, V5V 1N3\, Canada
CATEGORIES:Regular Weekly Classes
END:VEVENT
BEGIN:VEVENT
DTSTART;TZID=America/Vancouver:20240723T192000
DTEND;TZID=America/Vancouver:20240723T210000
DTSTAMP:20260423T121055
CREATED:20240601T171159Z
LAST-MODIFIED:20240708T204320Z
UID:10002009-1721762400-1721768400@www.bridgeandenrich.com
SUMMARY:BE Silent Meditation (online)
DESCRIPTION:Silent Meditation\nWelcoming you to our weekly ONLINE Silent Meditation Gathering!  \nA meditation space is being offered to all to come and sit in silence together. \nSome of us sit in the tradition of Soto Zen (Serene Reflection Meditation). \nAll traditions of silent meditation are welcome! \nFirst Sitting for 30 minutes starts at: \n7:20pm PST    (Tuesday evening)\n10:20pm EST  (Tuesday evening)\n7:50am IST     (Wednesday morning INDIA Time) \nWe will have 2 Sitting Meditation periods. \nWalking Meditation of 5 minutes follows the first sitting\, in turn followed by a 3-4 minute break. \nWe will usually play a recorded Dharma Talk/s before the 2nd sitting: Non-duality teachings from various traditions are featured. \nTo Attend:\nTo join this gathering\, an orientation session is first required. Please contact Supriti if you are interested in joining\, and we will help you set up for our gathering\, sharing with you what to expect and addressing any questions you may have.. \nBe inspired: read our Silent Meditation quotes here! \nJoin the discussion: see highlights from our latest sessions here!
URL:https://www.bridgeandenrich.com/event/be-silent-meditation-online-84/
LOCATION:Online via Zoom
CATEGORIES:Regular Online Classes
ORGANIZER;CN="Supriti / Sindoori":MAILTO:contact@bridgeandenrich.com
END:VEVENT
BEGIN:VEVENT
DTSTART;TZID=America/Vancouver:20240723T174500
DTEND;TZID=America/Vancouver:20240723T184500
DTSTAMP:20260423T121055
CREATED:20240708T204947Z
LAST-MODIFIED:20240708T204947Z
UID:10002023-1721756700-1721760300@www.bridgeandenrich.com
SUMMARY:Hatha Yoga with Megha
DESCRIPTION:Description: 4 class pass to Traditional Hatha yoga with Megha on Tuesdays. Indian style hatha yoga session. All levels welcome. \nTime: 5:45pm to 6:45pm \nInstructor: Learn more about Megha here
URL:https://www.bridgeandenrich.com/event/hatha-yoga-with-megha-7/
LOCATION:Bridge & Enrich Lives Society\, 718 East 20th Avenue\, Vancouver\, British Columbia\, V5V 1N3\, Canada
CATEGORIES:Regular Weekly Classes
END:VEVENT
BEGIN:VEVENT
DTSTART;TZID=America/Vancouver:20240723T093000
DTEND;TZID=America/Vancouver:20240724T113000
DTSTAMP:20260423T121055
CREATED:20240601T170901Z
LAST-MODIFIED:20240601T170901Z
UID:10002005-1721727000-1721820600@www.bridgeandenrich.com
SUMMARY:Tai Chi
DESCRIPTION:Tuesdays\, Wednesdays and Fridays from 9:30am to 11:30am. \nFor students of Master Chu.
URL:https://www.bridgeandenrich.com/event/tai-chi-139/
LOCATION:Bridge & Enrich Lives Society\, 718 East 20th Avenue\, Vancouver\, British Columbia\, V5V 1N3\, Canada
CATEGORIES:Regular Weekly Classes
END:VEVENT
BEGIN:VEVENT
DTSTART;TZID=America/Vancouver:20240721T180000
DTEND;TZID=America/Vancouver:20240721T220000
DTSTAMP:20260423T121055
CREATED:20240708T205808Z
LAST-MODIFIED:20240708T205808Z
UID:10002025-1721584800-1721599200@www.bridgeandenrich.com
SUMMARY:Josh Schrei Stroytelling
DESCRIPTION:
URL:https://www.bridgeandenrich.com/event/josh-schrei-stroytelling/
LOCATION:Bridge & Enrich Lives Society\, 718 East 20th Avenue\, Vancouver\, British Columbia\, V5V 1N3\, Canada
END:VEVENT
BEGIN:VEVENT
DTSTART;TZID=America/Vancouver:20240719T093000
DTEND;TZID=America/Vancouver:20240719T113000
DTSTAMP:20260423T121055
CREATED:20240601T171555Z
LAST-MODIFIED:20240601T171647Z
UID:10002016-1721381400-1721388600@www.bridgeandenrich.com
SUMMARY:Tai Chi
DESCRIPTION:Tuesdays\, Wednesdays and Fridays from 9:30am to 11:30am. \nFor students of Master Chu.
URL:https://www.bridgeandenrich.com/event/tai-chi-142/
LOCATION:Bridge & Enrich Lives Society\, 718 East 20th Avenue\, Vancouver\, British Columbia\, V5V 1N3\, Canada
CATEGORIES:Regular Weekly Classes
END:VEVENT
BEGIN:VEVENT
DTSTART;TZID=America/Vancouver:20240716T193000
DTEND;TZID=America/Vancouver:20240716T210000
DTSTAMP:20260423T121055
CREATED:20240601T171349Z
LAST-MODIFIED:20240601T171349Z
UID:10002012-1721158200-1721163600@www.bridgeandenrich.com
SUMMARY:Art of Living Sudarshan Kriya
DESCRIPTION:Join Karthik and MK from Vancouver’s vibrant Art of Living community for in-person yoga and a Guided Sudarshan Kriya Process (SKY). \nBut please note\, there is a prerequisite to joining: Attendance of their Level 1 Program in order to join in-person Tuesday SKY Meditation. Please contact Art of Living Vancouver for details on joining.
URL:https://www.bridgeandenrich.com/event/art-of-living-sudarshan-kriya-99/
LOCATION:Bridge & Enrich Lives Society\, 718 East 20th Avenue\, Vancouver\, British Columbia\, V5V 1N3\, Canada
CATEGORIES:Regular Weekly Classes
END:VEVENT
BEGIN:VEVENT
DTSTART;TZID=America/Vancouver:20240716T192000
DTEND;TZID=America/Vancouver:20240716T210000
DTSTAMP:20260423T121056
CREATED:20240601T171138Z
LAST-MODIFIED:20240601T171138Z
UID:10002008-1721157600-1721163600@www.bridgeandenrich.com
SUMMARY:BE Silent Meditation (online)
DESCRIPTION:Silent Meditation\nWelcoming you to our weekly ONLINE Silent Meditation Gathering!  \nA meditation space is being offered to all to come and sit in silence together. \nSome of us sit in the tradition of Soto Zen (Serene Reflection Meditation). \nAll traditions of silent meditation are welcome! \nFirst Sitting for 30 minutes starts at: \n7:20pm PST    (Tuesday evening)\n10:20pm EST  (Tuesday evening)\n7:50am IST     (Wednesday morning INDIA Time) \nWe will have 2 Sitting Meditation periods. \nWalking Meditation of 5 minutes follows the first sitting\, in turn followed by a 3-4 minute break. \nWe will usually play a recorded Dharma Talk/s before the 2nd sitting: Non-duality teachings from various traditions are featured. \nTo Attend:\nTo join this gathering\, an orientation session is first required. Please contact Supriti if you are interested in joining\, and we will help you set up for our gathering\, sharing with you what to expect and addressing any questions you may have.. \nBe inspired: read our Silent Meditation quotes here! \nJoin the discussion: see highlights from our latest sessions here!
URL:https://www.bridgeandenrich.com/event/be-silent-meditation-online-83/
LOCATION:Online via Zoom
CATEGORIES:Regular Online Classes
ORGANIZER;CN="Supriti / Sindoori":MAILTO:contact@bridgeandenrich.com
END:VEVENT
BEGIN:VEVENT
DTSTART;TZID=America/Vancouver:20240716T174500
DTEND;TZID=America/Vancouver:20240716T184500
DTSTAMP:20260423T121056
CREATED:20240708T204921Z
LAST-MODIFIED:20240708T204921Z
UID:10002022-1721151900-1721155500@www.bridgeandenrich.com
SUMMARY:Hatha Yoga with Megha
DESCRIPTION:Description: 4 class pass to Traditional Hatha yoga with Megha on Tuesdays. Indian style hatha yoga session. All levels welcome. \nTime: 5:45pm to 6:45pm \nInstructor: Learn more about Megha here
URL:https://www.bridgeandenrich.com/event/hatha-yoga-with-megha-6/
LOCATION:Bridge & Enrich Lives Society\, 718 East 20th Avenue\, Vancouver\, British Columbia\, V5V 1N3\, Canada
CATEGORIES:Regular Weekly Classes
END:VEVENT
BEGIN:VEVENT
DTSTART;TZID=America/Vancouver:20240716T093000
DTEND;TZID=America/Vancouver:20240717T113000
DTSTAMP:20260423T121056
CREATED:20240601T170841Z
LAST-MODIFIED:20240601T170841Z
UID:10001651-1721122200-1721215800@www.bridgeandenrich.com
SUMMARY:Tai Chi
DESCRIPTION:Tuesdays\, Wednesdays and Fridays from 9:30am to 11:30am. \nFor students of Master Chu.
URL:https://www.bridgeandenrich.com/event/tai-chi-138/
LOCATION:Bridge & Enrich Lives Society\, 718 East 20th Avenue\, Vancouver\, British Columbia\, V5V 1N3\, Canada
CATEGORIES:Regular Weekly Classes
END:VEVENT
BEGIN:VEVENT
DTSTART;TZID=America/Vancouver:20240712T093000
DTEND;TZID=America/Vancouver:20240712T113000
DTSTAMP:20260423T121056
CREATED:20240601T171536Z
LAST-MODIFIED:20240601T171713Z
UID:10002015-1720776600-1720783800@www.bridgeandenrich.com
SUMMARY:Tai Chi
DESCRIPTION:Tuesdays\, Wednesdays and Fridays from 9:30am to 11:30am. \nFor students of Master Chu.
URL:https://www.bridgeandenrich.com/event/tai-chi-141/
LOCATION:Bridge & Enrich Lives Society\, 718 East 20th Avenue\, Vancouver\, British Columbia\, V5V 1N3\, Canada
CATEGORIES:Regular Weekly Classes
END:VEVENT
BEGIN:VEVENT
DTSTART;TZID=America/Vancouver:20240709T193000
DTEND;TZID=America/Vancouver:20240709T210000
DTSTAMP:20260423T121056
CREATED:20240601T171332Z
LAST-MODIFIED:20240601T171332Z
UID:10002011-1720553400-1720558800@www.bridgeandenrich.com
SUMMARY:Art of Living Sudarshan Kriya
DESCRIPTION:Join Karthik and MK from Vancouver’s vibrant Art of Living community for in-person yoga and a Guided Sudarshan Kriya Process (SKY). \nBut please note\, there is a prerequisite to joining: Attendance of their Level 1 Program in order to join in-person Tuesday SKY Meditation. Please contact Art of Living Vancouver for details on joining.
URL:https://www.bridgeandenrich.com/event/art-of-living-sudarshan-kriya-98/
LOCATION:Bridge & Enrich Lives Society\, 718 East 20th Avenue\, Vancouver\, British Columbia\, V5V 1N3\, Canada
CATEGORIES:Regular Weekly Classes
END:VEVENT
BEGIN:VEVENT
DTSTART;TZID=America/Vancouver:20240709T192000
DTEND;TZID=America/Vancouver:20240709T210000
DTSTAMP:20260423T121056
CREATED:20240601T171115Z
LAST-MODIFIED:20240601T171115Z
UID:10002007-1720552800-1720558800@www.bridgeandenrich.com
SUMMARY:BE Silent Meditation (online)
DESCRIPTION:Silent Meditation\nWelcoming you to our weekly ONLINE Silent Meditation Gathering!  \nA meditation space is being offered to all to come and sit in silence together. \nSome of us sit in the tradition of Soto Zen (Serene Reflection Meditation). \nAll traditions of silent meditation are welcome! \nFirst Sitting for 30 minutes starts at: \n7:20pm PST    (Tuesday evening)\n10:20pm EST  (Tuesday evening)\n7:50am IST     (Wednesday morning INDIA Time) \nWe will have 2 Sitting Meditation periods. \nWalking Meditation of 5 minutes follows the first sitting\, in turn followed by a 3-4 minute break. \nWe will usually play a recorded Dharma Talk/s before the 2nd sitting: Non-duality teachings from various traditions are featured. \nTo Attend:\nTo join this gathering\, an orientation session is first required. Please contact Supriti if you are interested in joining\, and we will help you set up for our gathering\, sharing with you what to expect and addressing any questions you may have.. \nBe inspired: read our Silent Meditation quotes here! \nJoin the discussion: see highlights from our latest sessions here!
URL:https://www.bridgeandenrich.com/event/be-silent-meditation-online-82/
LOCATION:Online via Zoom
CATEGORIES:Regular Online Classes
ORGANIZER;CN="Supriti / Sindoori":MAILTO:contact@bridgeandenrich.com
END:VEVENT
BEGIN:VEVENT
DTSTART;TZID=America/Vancouver:20240709T174500
DTEND;TZID=America/Vancouver:20240709T184500
DTSTAMP:20260423T121056
CREATED:20240708T204848Z
LAST-MODIFIED:20240708T204848Z
UID:10002021-1720547100-1720550700@www.bridgeandenrich.com
SUMMARY:Hatha Yoga with Megha
DESCRIPTION:Description: 4 class pass to Traditional Hatha yoga with Megha on Tuesdays. Indian style hatha yoga session. All levels welcome. \nTime: 5:45pm to 6:45pm \nInstructor: Learn more about Megha here
URL:https://www.bridgeandenrich.com/event/hatha-yoga-with-megha-5/
LOCATION:Bridge & Enrich Lives Society\, 718 East 20th Avenue\, Vancouver\, British Columbia\, V5V 1N3\, Canada
CATEGORIES:Regular Weekly Classes
END:VEVENT
BEGIN:VEVENT
DTSTART;TZID=America/Vancouver:20240709T093000
DTEND;TZID=America/Vancouver:20240710T113000
DTSTAMP:20260423T121056
CREATED:20240601T170817Z
LAST-MODIFIED:20240601T170817Z
UID:10001649-1720517400-1720611000@www.bridgeandenrich.com
SUMMARY:Tai Chi
DESCRIPTION:Tuesdays\, Wednesdays and Fridays from 9:30am to 11:30am. \nFor students of Master Chu.
URL:https://www.bridgeandenrich.com/event/tai-chi-137/
LOCATION:Bridge & Enrich Lives Society\, 718 East 20th Avenue\, Vancouver\, British Columbia\, V5V 1N3\, Canada
CATEGORIES:Regular Weekly Classes
END:VEVENT
BEGIN:VEVENT
DTSTART;TZID=America/Vancouver:20240705T093000
DTEND;TZID=America/Vancouver:20240705T113000
DTSTAMP:20260423T121056
CREATED:20240517T010429Z
LAST-MODIFIED:20240517T010429Z
UID:10002002-1720171800-1720179000@www.bridgeandenrich.com
SUMMARY:Tai Chi
DESCRIPTION:Tuesdays\, Wednesdays and Fridays from 9:30am to 11:30am. \nFor students of Master Chu.
URL:https://www.bridgeandenrich.com/event/tai-chi-136/
LOCATION:Bridge & Enrich Lives Society\, 718 East 20th Avenue\, Vancouver\, British Columbia\, V5V 1N3\, Canada
CATEGORIES:Regular Weekly Classes
END:VEVENT
BEGIN:VEVENT
DTSTART;TZID=America/Vancouver:20240702T193000
DTEND;TZID=America/Vancouver:20240702T210000
DTSTAMP:20260423T121056
CREATED:20240517T005707Z
LAST-MODIFIED:20240517T005707Z
UID:10001997-1719948600-1719954000@www.bridgeandenrich.com
SUMMARY:Art of Living Sudarshan Kriya
DESCRIPTION:Join Karthik and MK from Vancouver’s vibrant Art of Living community for in-person yoga and a Guided Sudarshan Kriya Process (SKY). \nBut please note\, there is a prerequisite to joining: Attendance of their Level 1 Program in order to join in-person Tuesday SKY Meditation. Please contact Art of Living Vancouver for details on joining.
URL:https://www.bridgeandenrich.com/event/art-of-living-sudarshan-kriya-97/
LOCATION:Bridge & Enrich Lives Society\, 718 East 20th Avenue\, Vancouver\, British Columbia\, V5V 1N3\, Canada
CATEGORIES:Regular Weekly Classes
END:VEVENT
BEGIN:VEVENT
DTSTART;TZID=America/Vancouver:20240702T192000
DTEND;TZID=America/Vancouver:20240702T210000
DTSTAMP:20260423T121056
CREATED:20240517T012124Z
LAST-MODIFIED:20240517T012124Z
UID:10001645-1719948000-1719954000@www.bridgeandenrich.com
SUMMARY:BE Silent Meditation (online)
DESCRIPTION:Silent Meditation\nWelcoming you to our weekly ONLINE Silent Meditation Gathering!  \nA meditation space is being offered to all to come and sit in silence together. \nSome of us sit in the tradition of Soto Zen (Serene Reflection Meditation). \nAll traditions of silent meditation are welcome! \nFirst Sitting for 30 minutes starts at: \n7:20pm PST    (Tuesday evening)\n10:20pm EST  (Tuesday evening)\n7:50am IST     (Wednesday morning INDIA Time) \nWe will have 2 Sitting Meditation periods. \nWalking Meditation of 5 minutes follows the first sitting\, in turn followed by a 3-4 minute break. \nWe will usually play a recorded Dharma Talk/s before the 2nd sitting: Non-duality teachings from various traditions are featured. \nTo Attend:\nTo join this gathering\, an orientation session is first required. Please contact Supriti if you are interested in joining\, and we will help you set up for our gathering\, sharing with you what to expect and addressing any questions you may have.. \nBe inspired: read our Silent Meditation quotes here! \nJoin the discussion: see highlights from our latest sessions here!
URL:https://www.bridgeandenrich.com/event/be-silent-meditation-online-81/
LOCATION:Online via Zoom
CATEGORIES:Regular Online Classes
ORGANIZER;CN="Supriti / Sindoori":MAILTO:contact@bridgeandenrich.com
END:VEVENT
BEGIN:VEVENT
DTSTART;TZID=America/Vancouver:20240702T093000
DTEND;TZID=America/Vancouver:20240703T113000
DTSTAMP:20260423T121056
CREATED:20240517T005023Z
LAST-MODIFIED:20240517T005023Z
UID:10001992-1719912600-1720006200@www.bridgeandenrich.com
SUMMARY:Tai Chi
DESCRIPTION:Tuesdays\, Wednesdays and Fridays from 9:30am to 11:30am. \nFor students of Master Chu.
URL:https://www.bridgeandenrich.com/event/tai-chi-131/
LOCATION:Bridge & Enrich Lives Society\, 718 East 20th Avenue\, Vancouver\, British Columbia\, V5V 1N3\, Canada
CATEGORIES:Regular Weekly Classes
END:VEVENT
BEGIN:VEVENT
DTSTART;TZID=America/Vancouver:20240628T190000
DTEND;TZID=America/Vancouver:20240628T203000
DTSTAMP:20260423T121056
CREATED:20240517T011821Z
LAST-MODIFIED:20240608T171404Z
UID:10001639-1719601200-1719606600@www.bridgeandenrich.com
SUMMARY:Ride The Rhythm (RtR): Ecstatic Dance/Conscious Movement/ Freestyle Dance
DESCRIPTION:RtR is a regular Ecstatic Dance in Vancouver\, a safe space to dive deep and connect with your body\, mind and soul! \n\n\n\n\nEvent Details:\n📅 Date: Friday\, June 28\, 2024 \n⏰ Time: 7:00 PM – 8:30 PM \n📝 The Door opens at 6:45 PM \n📝The Door closes at 7:15 PM (Please try to arrive on time to land into the space with the community) \n~~~~~~~~~~~~~~~~~~~~~~~~~~~ \n💸 Ticket Price: \n– Regular Rate: $20\n– Supported Rate: $18\n– Supporter Rate: $25 \nBUY YOUR TICKETS HERE \n~~~~~~~~~~~~~~~~~~~~~~~~~~~ \n\n\n\n\n\nWe welcome all! All religions\, all gender identities\, all races\, all shapes and sizes\, all sexual orientations\, all abilities and disabilities\, all languages\, and all ages\, we welcome all! \nJoin RtR for a special Conscious Dance evening for Peace with Naomi Jason and Alex King-Harris. We will be building and offering our prayers for peace and those currently suffering from violence and war. All proceeds will be donated to Doctors Without Borders. \n~~~~~~~~~~~~~~~~~~~~~~~~~~~ \nNaomi Jason\, also known as DjNjoy\, is a co-founder of Dance Temple Salt Spring\, thriving weekly for 15 years. A DJ and facilitator of conscious dance\, she also co-teaches Dance Weavers training for Conscious Dance DJs\, facilitators\, and producers. \nWearing many hats\, Naomi is a mentor for community leaders\, a Medical Qigong Therapist and teacher\, a dancer and choreographer\, and stewards a community land project on Salt Spring Island. She is also the founder of the Imaginelle Mystery School which focuses on rites of passage through embodied ceremony.\n~~~~~~~~~~~~~~~~~~~~~~~~~~~\nAlex King-Harris \, affectionately known as Rara Avis\, is a world renowned producer\, composer\, DJ and multi-instrumentalist. As a recognized pioneer in his field of interest\, his twenty five year career has been primarily focused on music for yoga\, embodiment and the healing arts. \nCelebrated globally for his ecstatic dance sets and his former projects Desert Dwellers\, Liquid Bloom and Shamans Dream\, Rara’s musical offerings fluidly blend live elements including voice\, flute\, guitar and percussion with seamless\, eclectic\, trance inducing song selections which take movers on a satisfying and deep journey into a sweaty\, prayerful state of personal and collective unifty. \n~~~~~~~~~~~~~~~~~~~~~~~~~~~ \n\nRefund Policy\n\nContact the organizer to request a refund.\nEventbrite’s fee is nonrefundable. Follow Hassti Hamidi on EventBrite for event details and future event listings.
URL:https://www.bridgeandenrich.com/event/ride-the-rhythm-rtr-ecstatic-dance-conscious-movement-freestyle-dance-9/
LOCATION:Bridge & Enrich Lives Society\, 718 East 20th Avenue\, Vancouver\, British Columbia\, V5V 1N3\, Canada
CATEGORIES:Special Event
ATTACH;FMTTYPE=image/jpeg:https://www.bridgeandenrich.com/wp-content/uploads/2024/05/https___cdn.evbuc_.com_images_781519929_378213886551_1_original.jpeg
END:VEVENT
BEGIN:VEVENT
DTSTART;TZID=America/Vancouver:20240628T093000
DTEND;TZID=America/Vancouver:20240628T113000
DTSTAMP:20260423T121056
CREATED:20240517T010412Z
LAST-MODIFIED:20240517T010412Z
UID:10002001-1719567000-1719574200@www.bridgeandenrich.com
SUMMARY:Tai Chi
DESCRIPTION:Tuesdays\, Wednesdays and Fridays from 9:30am to 11:30am. \nFor students of Master Chu.
URL:https://www.bridgeandenrich.com/event/tai-chi-135/
LOCATION:Bridge & Enrich Lives Society\, 718 East 20th Avenue\, Vancouver\, British Columbia\, V5V 1N3\, Canada
CATEGORIES:Regular Weekly Classes
END:VEVENT
BEGIN:VEVENT
DTSTART;TZID=America/Vancouver:20240627T191500
DTEND;TZID=America/Vancouver:20240627T214500
DTSTAMP:20260423T121056
CREATED:20240601T170604Z
LAST-MODIFIED:20240601T170604Z
UID:10001647-1719515700-1719524700@www.bridgeandenrich.com
SUMMARY:Radiant Heart Song Circle Event
DESCRIPTION:Welcome to Radiant Heart Song Circle\, an extraordinary place for women to connect and open hearts through the power of voice. \nJoin us to free your voice and lift your spirit through chants\, songs\, rituals\, and community.
URL:https://www.bridgeandenrich.com/event/radiant-heart-song-circle-event/
LOCATION:Bridge & Enrich Lives Society\, 718 East 20th Avenue\, Vancouver\, British Columbia\, V5V 1N3\, Canada
CATEGORIES:Special Event
END:VEVENT
BEGIN:VEVENT
DTSTART;TZID=America/Vancouver:20240625T193000
DTEND;TZID=America/Vancouver:20240625T210000
DTSTAMP:20260423T121056
CREATED:20240517T005651Z
LAST-MODIFIED:20240517T005651Z
UID:10001996-1719343800-1719349200@www.bridgeandenrich.com
SUMMARY:Art of Living Sudarshan Kriya
DESCRIPTION:Join Karthik and MK from Vancouver’s vibrant Art of Living community for in-person yoga and a Guided Sudarshan Kriya Process (SKY). \nBut please note\, there is a prerequisite to joining: Attendance of their Level 1 Program in order to join in-person Tuesday SKY Meditation. Please contact Art of Living Vancouver for details on joining.
URL:https://www.bridgeandenrich.com/event/art-of-living-sudarshan-kriya-96/
LOCATION:Bridge & Enrich Lives Society\, 718 East 20th Avenue\, Vancouver\, British Columbia\, V5V 1N3\, Canada
CATEGORIES:Regular Weekly Classes
END:VEVENT
BEGIN:VEVENT
DTSTART;TZID=America/Vancouver:20240625T192000
DTEND;TZID=America/Vancouver:20240625T210000
DTSTAMP:20260423T121056
CREATED:20240517T012102Z
LAST-MODIFIED:20240517T012102Z
UID:10001643-1719343200-1719349200@www.bridgeandenrich.com
SUMMARY:BE Silent Meditation (online)
DESCRIPTION:Silent Meditation\nWelcoming you to our weekly ONLINE Silent Meditation Gathering!  \nA meditation space is being offered to all to come and sit in silence together. \nSome of us sit in the tradition of Soto Zen (Serene Reflection Meditation). \nAll traditions of silent meditation are welcome! \nFirst Sitting for 30 minutes starts at: \n7:20pm PST    (Tuesday evening)\n10:20pm EST  (Tuesday evening)\n7:50am IST     (Wednesday morning INDIA Time) \nWe will have 2 Sitting Meditation periods. \nWalking Meditation of 5 minutes follows the first sitting\, in turn followed by a 3-4 minute break. \nWe will usually play a recorded Dharma Talk/s before the 2nd sitting: Non-duality teachings from various traditions are featured. \nTo Attend:\nTo join this gathering\, an orientation session is first required. Please contact Supriti if you are interested in joining\, and we will help you set up for our gathering\, sharing with you what to expect and addressing any questions you may have.. \nBe inspired: read our Silent Meditation quotes here! \nJoin the discussion: see highlights from our latest sessions here!
URL:https://www.bridgeandenrich.com/event/be-silent-meditation-online-80/
LOCATION:Online via Zoom
CATEGORIES:Regular Online Classes
ORGANIZER;CN="Supriti / Sindoori":MAILTO:contact@bridgeandenrich.com
END:VEVENT
BEGIN:VEVENT
DTSTART;TZID=America/Vancouver:20240625T172000
DTEND;TZID=America/Vancouver:20240625T183000
DTSTAMP:20260423T121056
CREATED:20240517T011152Z
LAST-MODIFIED:20240608T170742Z
UID:10001636-1719336000-1719340200@www.bridgeandenrich.com
SUMMARY:Hatha Yoga with Megha
DESCRIPTION:Description: 4 class pass to Traditional Hatha yoga with Megha on June Tuesdays. \nDate: June 4\, 11\, 18\, 25th \nTime: 5:20pm to 6:30pm
URL:https://www.bridgeandenrich.com/event/hatha-yoga-with-megha-4/
LOCATION:Bridge & Enrich Lives Society\, 718 East 20th Avenue\, Vancouver\, British Columbia\, V5V 1N3\, Canada
CATEGORIES:4-Week Workshop
END:VEVENT
BEGIN:VEVENT
DTSTART;TZID=America/Vancouver:20240625T093000
DTEND;TZID=America/Vancouver:20240626T113000
DTSTAMP:20260423T121056
CREATED:20240517T004958Z
LAST-MODIFIED:20240517T004958Z
UID:10001991-1719307800-1719401400@www.bridgeandenrich.com
SUMMARY:Tai Chi
DESCRIPTION:Tuesdays\, Wednesdays and Fridays from 9:30am to 11:30am. \nFor students of Master Chu.
URL:https://www.bridgeandenrich.com/event/tai-chi-130/
LOCATION:Bridge & Enrich Lives Society\, 718 East 20th Avenue\, Vancouver\, British Columbia\, V5V 1N3\, Canada
CATEGORIES:Regular Weekly Classes
END:VEVENT
BEGIN:VEVENT
DTSTART;TZID=America/Vancouver:20240622T170000
DTEND;TZID=America/Vancouver:20240622T220000
DTSTAMP:20260423T121056
CREATED:20240517T011349Z
LAST-MODIFIED:20240601T170342Z
UID:10001637-1719075600-1719093600@www.bridgeandenrich.com
SUMMARY:Art of Living Satsang
DESCRIPTION:
URL:https://www.bridgeandenrich.com/event/art-of-living-satsang-4/
LOCATION:Bridge & Enrich Lives Society\, 718 East 20th Avenue\, Vancouver\, British Columbia\, V5V 1N3\, Canada
CATEGORIES:Special Event
END:VEVENT
BEGIN:VEVENT
DTSTART;TZID=America/Vancouver:20240621T093000
DTEND;TZID=America/Vancouver:20240621T113000
DTSTAMP:20260423T121056
CREATED:20240517T010355Z
LAST-MODIFIED:20240517T010355Z
UID:10002000-1718962200-1718969400@www.bridgeandenrich.com
SUMMARY:Tai Chi
DESCRIPTION:Tuesdays\, Wednesdays and Fridays from 9:30am to 11:30am. \nFor students of Master Chu.
URL:https://www.bridgeandenrich.com/event/tai-chi-134/
LOCATION:Bridge & Enrich Lives Society\, 718 East 20th Avenue\, Vancouver\, British Columbia\, V5V 1N3\, Canada
CATEGORIES:Regular Weekly Classes
END:VEVENT
BEGIN:VEVENT
DTSTART;TZID=America/Vancouver:20240618T193000
DTEND;TZID=America/Vancouver:20240618T210000
DTSTAMP:20260423T121056
CREATED:20240517T005630Z
LAST-MODIFIED:20240517T005630Z
UID:10001995-1718739000-1718744400@www.bridgeandenrich.com
SUMMARY:Art of Living Sudarshan Kriya
DESCRIPTION:Join Karthik and MK from Vancouver’s vibrant Art of Living community for in-person yoga and a Guided Sudarshan Kriya Process (SKY). \nBut please note\, there is a prerequisite to joining: Attendance of their Level 1 Program in order to join in-person Tuesday SKY Meditation. Please contact Art of Living Vancouver for details on joining.
URL:https://www.bridgeandenrich.com/event/art-of-living-sudarshan-kriya-95/
LOCATION:Bridge & Enrich Lives Society\, 718 East 20th Avenue\, Vancouver\, British Columbia\, V5V 1N3\, Canada
CATEGORIES:Regular Weekly Classes
END:VEVENT
END:VCALENDAR