BEGIN:VCALENDAR
VERSION:2.0
PRODID:-//Bridge &amp; Enrich Lives Society - ECPv6.15.13//NONSGML v1.0//EN
CALSCALE:GREGORIAN
METHOD:PUBLISH
X-WR-CALNAME:Bridge &amp; Enrich Lives Society
X-ORIGINAL-URL:https://www.bridgeandenrich.com
X-WR-CALDESC:Events for Bridge &amp; Enrich Lives Society
REFRESH-INTERVAL;VALUE=DURATION:PT1H
X-Robots-Tag:noindex
X-PUBLISHED-TTL:PT1H
BEGIN:VTIMEZONE
TZID:America/Vancouver
BEGIN:DAYLIGHT
TZOFFSETFROM:-0800
TZOFFSETTO:-0700
TZNAME:PDT
DTSTART:20230312T100000
END:DAYLIGHT
BEGIN:STANDARD
TZOFFSETFROM:-0700
TZOFFSETTO:-0800
TZNAME:PST
DTSTART:20231105T090000
END:STANDARD
BEGIN:DAYLIGHT
TZOFFSETFROM:-0800
TZOFFSETTO:-0700
TZNAME:PDT
DTSTART:20240310T100000
END:DAYLIGHT
BEGIN:STANDARD
TZOFFSETFROM:-0700
TZOFFSETTO:-0800
TZNAME:PST
DTSTART:20241103T090000
END:STANDARD
BEGIN:DAYLIGHT
TZOFFSETFROM:-0800
TZOFFSETTO:-0700
TZNAME:PDT
DTSTART:20250309T100000
END:DAYLIGHT
BEGIN:STANDARD
TZOFFSETFROM:-0700
TZOFFSETTO:-0800
TZNAME:PST
DTSTART:20251102T090000
END:STANDARD
END:VTIMEZONE
BEGIN:VEVENT
DTSTART;TZID=America/Vancouver:20240625T192000
DTEND;TZID=America/Vancouver:20240625T210000
DTSTAMP:20260423T180156
CREATED:20240517T012102Z
LAST-MODIFIED:20240517T012102Z
UID:10001643-1719343200-1719349200@www.bridgeandenrich.com
SUMMARY:BE Silent Meditation (online)
DESCRIPTION:Silent Meditation\nWelcoming you to our weekly ONLINE Silent Meditation Gathering!  \nA meditation space is being offered to all to come and sit in silence together. \nSome of us sit in the tradition of Soto Zen (Serene Reflection Meditation). \nAll traditions of silent meditation are welcome! \nFirst Sitting for 30 minutes starts at: \n7:20pm PST    (Tuesday evening)\n10:20pm EST  (Tuesday evening)\n7:50am IST     (Wednesday morning INDIA Time) \nWe will have 2 Sitting Meditation periods. \nWalking Meditation of 5 minutes follows the first sitting\, in turn followed by a 3-4 minute break. \nWe will usually play a recorded Dharma Talk/s before the 2nd sitting: Non-duality teachings from various traditions are featured. \nTo Attend:\nTo join this gathering\, an orientation session is first required. Please contact Supriti if you are interested in joining\, and we will help you set up for our gathering\, sharing with you what to expect and addressing any questions you may have.. \nBe inspired: read our Silent Meditation quotes here! \nJoin the discussion: see highlights from our latest sessions here!
URL:https://www.bridgeandenrich.com/event/be-silent-meditation-online-80/
LOCATION:Online via Zoom
CATEGORIES:Regular Online Classes
ORGANIZER;CN="Supriti / Sindoori":MAILTO:contact@bridgeandenrich.com
END:VEVENT
BEGIN:VEVENT
DTSTART;TZID=America/Vancouver:20240625T172000
DTEND;TZID=America/Vancouver:20240625T183000
DTSTAMP:20260423T180156
CREATED:20240517T011152Z
LAST-MODIFIED:20240608T170742Z
UID:10001636-1719336000-1719340200@www.bridgeandenrich.com
SUMMARY:Hatha Yoga with Megha
DESCRIPTION:Description: 4 class pass to Traditional Hatha yoga with Megha on June Tuesdays. \nDate: June 4\, 11\, 18\, 25th \nTime: 5:20pm to 6:30pm
URL:https://www.bridgeandenrich.com/event/hatha-yoga-with-megha-4/
LOCATION:Bridge & Enrich Lives Society\, 718 East 20th Avenue\, Vancouver\, British Columbia\, V5V 1N3\, Canada
CATEGORIES:4-Week Workshop
END:VEVENT
BEGIN:VEVENT
DTSTART;TZID=America/Vancouver:20240625T093000
DTEND;TZID=America/Vancouver:20240626T113000
DTSTAMP:20260423T180156
CREATED:20240517T004958Z
LAST-MODIFIED:20240517T004958Z
UID:10001991-1719307800-1719401400@www.bridgeandenrich.com
SUMMARY:Tai Chi
DESCRIPTION:Tuesdays\, Wednesdays and Fridays from 9:30am to 11:30am. \nFor students of Master Chu.
URL:https://www.bridgeandenrich.com/event/tai-chi-130/
LOCATION:Bridge & Enrich Lives Society\, 718 East 20th Avenue\, Vancouver\, British Columbia\, V5V 1N3\, Canada
CATEGORIES:Regular Weekly Classes
END:VEVENT
BEGIN:VEVENT
DTSTART;TZID=America/Vancouver:20240622T170000
DTEND;TZID=America/Vancouver:20240622T220000
DTSTAMP:20260423T180156
CREATED:20240517T011349Z
LAST-MODIFIED:20240601T170342Z
UID:10001637-1719075600-1719093600@www.bridgeandenrich.com
SUMMARY:Art of Living Satsang
DESCRIPTION:
URL:https://www.bridgeandenrich.com/event/art-of-living-satsang-4/
LOCATION:Bridge & Enrich Lives Society\, 718 East 20th Avenue\, Vancouver\, British Columbia\, V5V 1N3\, Canada
CATEGORIES:Special Event
END:VEVENT
BEGIN:VEVENT
DTSTART;TZID=America/Vancouver:20240621T093000
DTEND;TZID=America/Vancouver:20240621T113000
DTSTAMP:20260423T180156
CREATED:20240517T010355Z
LAST-MODIFIED:20240517T010355Z
UID:10002000-1718962200-1718969400@www.bridgeandenrich.com
SUMMARY:Tai Chi
DESCRIPTION:Tuesdays\, Wednesdays and Fridays from 9:30am to 11:30am. \nFor students of Master Chu.
URL:https://www.bridgeandenrich.com/event/tai-chi-134/
LOCATION:Bridge & Enrich Lives Society\, 718 East 20th Avenue\, Vancouver\, British Columbia\, V5V 1N3\, Canada
CATEGORIES:Regular Weekly Classes
END:VEVENT
BEGIN:VEVENT
DTSTART;TZID=America/Vancouver:20240618T193000
DTEND;TZID=America/Vancouver:20240618T210000
DTSTAMP:20260423T180156
CREATED:20240517T005630Z
LAST-MODIFIED:20240517T005630Z
UID:10001995-1718739000-1718744400@www.bridgeandenrich.com
SUMMARY:Art of Living Sudarshan Kriya
DESCRIPTION:Join Karthik and MK from Vancouver’s vibrant Art of Living community for in-person yoga and a Guided Sudarshan Kriya Process (SKY). \nBut please note\, there is a prerequisite to joining: Attendance of their Level 1 Program in order to join in-person Tuesday SKY Meditation. Please contact Art of Living Vancouver for details on joining.
URL:https://www.bridgeandenrich.com/event/art-of-living-sudarshan-kriya-95/
LOCATION:Bridge & Enrich Lives Society\, 718 East 20th Avenue\, Vancouver\, British Columbia\, V5V 1N3\, Canada
CATEGORIES:Regular Weekly Classes
END:VEVENT
BEGIN:VEVENT
DTSTART;TZID=America/Vancouver:20240618T192000
DTEND;TZID=America/Vancouver:20240618T210000
DTSTAMP:20260423T180156
CREATED:20240517T012033Z
LAST-MODIFIED:20240517T012033Z
UID:10001641-1718738400-1718744400@www.bridgeandenrich.com
SUMMARY:BE Silent Meditation (online)
DESCRIPTION:Silent Meditation\nWelcoming you to our weekly ONLINE Silent Meditation Gathering!  \nA meditation space is being offered to all to come and sit in silence together. \nSome of us sit in the tradition of Soto Zen (Serene Reflection Meditation). \nAll traditions of silent meditation are welcome! \nFirst Sitting for 30 minutes starts at: \n7:20pm PST    (Tuesday evening)\n10:20pm EST  (Tuesday evening)\n7:50am IST     (Wednesday morning INDIA Time) \nWe will have 2 Sitting Meditation periods. \nWalking Meditation of 5 minutes follows the first sitting\, in turn followed by a 3-4 minute break. \nWe will usually play a recorded Dharma Talk/s before the 2nd sitting: Non-duality teachings from various traditions are featured. \nTo Attend:\nTo join this gathering\, an orientation session is first required. Please contact Supriti if you are interested in joining\, and we will help you set up for our gathering\, sharing with you what to expect and addressing any questions you may have.. \nBe inspired: read our Silent Meditation quotes here! \nJoin the discussion: see highlights from our latest sessions here!
URL:https://www.bridgeandenrich.com/event/be-silent-meditation-online-79/
LOCATION:Online via Zoom
CATEGORIES:Regular Online Classes
ORGANIZER;CN="Supriti / Sindoori":MAILTO:contact@bridgeandenrich.com
END:VEVENT
BEGIN:VEVENT
DTSTART;TZID=America/Vancouver:20240618T172000
DTEND;TZID=America/Vancouver:20240618T183000
DTSTAMP:20260423T180156
CREATED:20240517T011122Z
LAST-MODIFIED:20240608T170731Z
UID:10001635-1718731200-1718735400@www.bridgeandenrich.com
SUMMARY:Hatha Yoga with Megha
DESCRIPTION:Description: 4 class pass to Traditional Hatha yoga with Megha on June Tuesdays. \nDate: June 4\, 11\, 18\, 25th \nTime: 5:20pm to 6:30pm
URL:https://www.bridgeandenrich.com/event/hatha-yoga-with-megha-3/
LOCATION:Bridge & Enrich Lives Society\, 718 East 20th Avenue\, Vancouver\, British Columbia\, V5V 1N3\, Canada
CATEGORIES:4-Week Workshop
END:VEVENT
BEGIN:VEVENT
DTSTART;TZID=America/Vancouver:20240618T093000
DTEND;TZID=America/Vancouver:20240619T113000
DTSTAMP:20260423T180156
CREATED:20240517T004931Z
LAST-MODIFIED:20240517T005110Z
UID:10001990-1718703000-1718796600@www.bridgeandenrich.com
SUMMARY:Tai Chi
DESCRIPTION:Tuesdays\, Wednesdays and Fridays from 9:30am to 11:30am. \nFor students of Master Chu.
URL:https://www.bridgeandenrich.com/event/tai-chi-129/
LOCATION:Bridge & Enrich Lives Society\, 718 East 20th Avenue\, Vancouver\, British Columbia\, V5V 1N3\, Canada
CATEGORIES:Regular Weekly Classes
END:VEVENT
BEGIN:VEVENT
DTSTART;TZID=America/Vancouver:20240614T093000
DTEND;TZID=America/Vancouver:20240614T113000
DTSTAMP:20260423T180156
CREATED:20240517T010338Z
LAST-MODIFIED:20240517T010338Z
UID:10001999-1718357400-1718364600@www.bridgeandenrich.com
SUMMARY:Tai Chi
DESCRIPTION:Tuesdays\, Wednesdays and Fridays from 9:30am to 11:30am. \nFor students of Master Chu.
URL:https://www.bridgeandenrich.com/event/tai-chi-133/
LOCATION:Bridge & Enrich Lives Society\, 718 East 20th Avenue\, Vancouver\, British Columbia\, V5V 1N3\, Canada
CATEGORIES:Regular Weekly Classes
END:VEVENT
BEGIN:VEVENT
DTSTART;TZID=America/Vancouver:20240614T063000
DTEND;TZID=America/Vancouver:20240616T180000
DTSTAMP:20260423T180156
CREATED:20240420T170626Z
LAST-MODIFIED:20240514T191706Z
UID:10001984-1718346600-1718560800@www.bridgeandenrich.com
SUMMARY:Art of Wholesome Eating
DESCRIPTION:Dates and Times: \nJune 14-16\, 2024\nFriday: 6:30am-9:00pm\nSaturday and Sunday: 1:00pm-6:00pm \nEvent Fees:\nGeneral: CAD295.00\nSPECIAL PRICE: CAD250.00 until May 20\, 2024! \nFacilitator: Puja Gowsami\nContact: Karanpreet\, 778-321-5207\, vancouver@artofliving.ca \nCourse Id: BC2321
URL:https://www.bridgeandenrich.com/event/art-of-wholesome-eating/
LOCATION:Bridge & Enrich Lives Society\, 718 East 20th Avenue\, Vancouver\, British Columbia\, V5V 1N3\, Canada
CATEGORIES:Special Event
END:VEVENT
BEGIN:VEVENT
DTSTART;TZID=America/Vancouver:20240613T130000
DTEND;TZID=America/Vancouver:20240613T153000
DTSTAMP:20260423T180156
CREATED:20240517T004656Z
LAST-MODIFIED:20240517T004656Z
UID:10001987-1718283600-1718292600@www.bridgeandenrich.com
SUMMARY:8 Week Vancouver Spring Song Circle
DESCRIPTION:Welcome to Radiant Heart Song Circle\, an extraordinary place for women to connect and open hearts through the power of voice. \nJoin us to free your voice and lift your spirit through chants\, songs\, rituals\, and community. \nNew Member Pricing: $397 + GST for new members for the 8 week series\, music downloads & vocal warm ups. \nReturning Member Pricing: $347 + GST \nCourse Dates: Thursdays\, April 25th – June 13th\, 2024
URL:https://www.bridgeandenrich.com/event/8-week-vancouver-spring-song-circle-10/
LOCATION:Bridge & Enrich Lives Society\, 718 East 20th Avenue\, Vancouver\, British Columbia\, V5V 1N3\, Canada
CATEGORIES:5 to 8 Week Progressive Classes
END:VEVENT
BEGIN:VEVENT
DTSTART;TZID=America/Vancouver:20240611T193000
DTEND;TZID=America/Vancouver:20240611T210000
DTSTAMP:20260423T180156
CREATED:20240517T005612Z
LAST-MODIFIED:20240517T005612Z
UID:10001994-1718134200-1718139600@www.bridgeandenrich.com
SUMMARY:Art of Living Sudarshan Kriya
DESCRIPTION:Join Karthik and MK from Vancouver’s vibrant Art of Living community for in-person yoga and a Guided Sudarshan Kriya Process (SKY). \nBut please note\, there is a prerequisite to joining: Attendance of their Level 1 Program in order to join in-person Tuesday SKY Meditation. Please contact Art of Living Vancouver for details on joining.
URL:https://www.bridgeandenrich.com/event/art-of-living-sudarshan-kriya-94/
LOCATION:Bridge & Enrich Lives Society\, 718 East 20th Avenue\, Vancouver\, British Columbia\, V5V 1N3\, Canada
CATEGORIES:Regular Weekly Classes
END:VEVENT
BEGIN:VEVENT
DTSTART;TZID=America/Vancouver:20240611T172000
DTEND;TZID=America/Vancouver:20240611T183000
DTSTAMP:20260423T180156
CREATED:20240517T011056Z
LAST-MODIFIED:20240608T170721Z
UID:10002004-1718126400-1718130600@www.bridgeandenrich.com
SUMMARY:Hatha Yoga with Megha
DESCRIPTION:Description: 4 class pass to Traditional Hatha yoga with Megha on June Tuesdays. \nDate: June 4\, 11\, 18\, 25th \nTime: 5:20pm to 6:30pm
URL:https://www.bridgeandenrich.com/event/hatha-yoga-with-megha-2/
LOCATION:Bridge & Enrich Lives Society\, 718 East 20th Avenue\, Vancouver\, British Columbia\, V5V 1N3\, Canada
CATEGORIES:4-Week Workshop
END:VEVENT
BEGIN:VEVENT
DTSTART;TZID=America/Vancouver:20240611T093000
DTEND;TZID=America/Vancouver:20240612T113000
DTSTAMP:20260423T180156
CREATED:20240517T004916Z
LAST-MODIFIED:20240517T005104Z
UID:10001989-1718098200-1718191800@www.bridgeandenrich.com
SUMMARY:Tai Chi
DESCRIPTION:Tuesdays\, Wednesdays and Fridays from 9:30am to 11:30am. \nFor students of Master Chu.
URL:https://www.bridgeandenrich.com/event/tai-chi-128/
LOCATION:Bridge & Enrich Lives Society\, 718 East 20th Avenue\, Vancouver\, British Columbia\, V5V 1N3\, Canada
CATEGORIES:Regular Weekly Classes
END:VEVENT
BEGIN:VEVENT
DTSTART;TZID=America/Vancouver:20240607T093000
DTEND;TZID=America/Vancouver:20240607T113000
DTSTAMP:20260423T180156
CREATED:20240517T010317Z
LAST-MODIFIED:20240517T010317Z
UID:10001998-1717752600-1717759800@www.bridgeandenrich.com
SUMMARY:Tai Chi
DESCRIPTION:Tuesdays\, Wednesdays and Fridays from 9:30am to 11:30am. \nFor students of Master Chu.
URL:https://www.bridgeandenrich.com/event/tai-chi-132/
LOCATION:Bridge & Enrich Lives Society\, 718 East 20th Avenue\, Vancouver\, British Columbia\, V5V 1N3\, Canada
CATEGORIES:Regular Weekly Classes
END:VEVENT
BEGIN:VEVENT
DTSTART;TZID=America/Vancouver:20240606T130000
DTEND;TZID=America/Vancouver:20240606T153000
DTSTAMP:20260423T180156
CREATED:20240517T004637Z
LAST-MODIFIED:20240517T004637Z
UID:10001986-1717678800-1717687800@www.bridgeandenrich.com
SUMMARY:8 Week Vancouver Spring Song Circle
DESCRIPTION:Welcome to Radiant Heart Song Circle\, an extraordinary place for women to connect and open hearts through the power of voice. \nJoin us to free your voice and lift your spirit through chants\, songs\, rituals\, and community. \nNew Member Pricing: $397 + GST for new members for the 8 week series\, music downloads & vocal warm ups. \nReturning Member Pricing: $347 + GST \nCourse Dates: Thursdays\, April 25th – June 13th\, 2024
URL:https://www.bridgeandenrich.com/event/8-week-vancouver-spring-song-circle-9/
LOCATION:Bridge & Enrich Lives Society\, 718 East 20th Avenue\, Vancouver\, British Columbia\, V5V 1N3\, Canada
CATEGORIES:5 to 8 Week Progressive Classes
END:VEVENT
BEGIN:VEVENT
DTSTART;TZID=America/Vancouver:20240604T193000
DTEND;TZID=America/Vancouver:20240604T210000
DTSTAMP:20260423T180156
CREATED:20240517T005555Z
LAST-MODIFIED:20240517T005555Z
UID:10001993-1717529400-1717534800@www.bridgeandenrich.com
SUMMARY:Art of Living Sudarshan Kriya
DESCRIPTION:Join Karthik and MK from Vancouver’s vibrant Art of Living community for in-person yoga and a Guided Sudarshan Kriya Process (SKY). \nBut please note\, there is a prerequisite to joining: Attendance of their Level 1 Program in order to join in-person Tuesday SKY Meditation. Please contact Art of Living Vancouver for details on joining.
URL:https://www.bridgeandenrich.com/event/art-of-living-sudarshan-kriya-93/
LOCATION:Bridge & Enrich Lives Society\, 718 East 20th Avenue\, Vancouver\, British Columbia\, V5V 1N3\, Canada
CATEGORIES:Regular Weekly Classes
END:VEVENT
BEGIN:VEVENT
DTSTART;TZID=America/Vancouver:20240604T172000
DTEND;TZID=America/Vancouver:20240604T183000
DTSTAMP:20260423T180156
CREATED:20240517T010927Z
LAST-MODIFIED:20240517T010946Z
UID:10002003-1717521600-1717525800@www.bridgeandenrich.com
SUMMARY:Hatha Yoga with Megha
DESCRIPTION:Description: 4 class pass to Traditional Hatha yoga with Megha on June Tuesdays. \nDate: June 4\, 11\, 18\, 25th \nTime: 5:20pm to 6:30pm
URL:https://www.bridgeandenrich.com/event/hatha-yoga-with-megha/
LOCATION:Bridge & Enrich Lives Society\, 718 East 20th Avenue\, Vancouver\, British Columbia\, V5V 1N3\, Canada
CATEGORIES:4-Week Workshop
END:VEVENT
BEGIN:VEVENT
DTSTART;TZID=America/Vancouver:20240604T093000
DTEND;TZID=America/Vancouver:20240605T113000
DTSTAMP:20260423T180156
CREATED:20240517T004856Z
LAST-MODIFIED:20240517T005100Z
UID:10001988-1717493400-1717587000@www.bridgeandenrich.com
SUMMARY:Tai Chi
DESCRIPTION:Tuesdays\, Wednesdays and Fridays from 9:30am to 11:30am. \nFor students of Master Chu.
URL:https://www.bridgeandenrich.com/event/tai-chi-127/
LOCATION:Bridge & Enrich Lives Society\, 718 East 20th Avenue\, Vancouver\, British Columbia\, V5V 1N3\, Canada
CATEGORIES:Regular Weekly Classes
END:VEVENT
BEGIN:VEVENT
DTSTART;TZID=America/Vancouver:20240531T093000
DTEND;TZID=America/Vancouver:20240531T113000
DTSTAMP:20260423T180156
CREATED:20240405T181117Z
LAST-MODIFIED:20240405T181117Z
UID:10001618-1717147800-1717155000@www.bridgeandenrich.com
SUMMARY:Tai Chi
DESCRIPTION:Tuesdays\, Wednesdays and Fridays from 9:30am to 11:30am. \nFor students of Master Chu.
URL:https://www.bridgeandenrich.com/event/tai-chi-126/
LOCATION:Bridge & Enrich Lives Society\, 718 East 20th Avenue\, Vancouver\, British Columbia\, V5V 1N3\, Canada
CATEGORIES:Regular Weekly Classes
END:VEVENT
BEGIN:VEVENT
DTSTART;TZID=America/Vancouver:20240530T130000
DTEND;TZID=America/Vancouver:20240530T153000
DTSTAMP:20260423T180156
CREATED:20240517T004618Z
LAST-MODIFIED:20240517T004618Z
UID:10001985-1717074000-1717083000@www.bridgeandenrich.com
SUMMARY:8 Week Vancouver Spring Song Circle
DESCRIPTION:Welcome to Radiant Heart Song Circle\, an extraordinary place for women to connect and open hearts through the power of voice. \nJoin us to free your voice and lift your spirit through chants\, songs\, rituals\, and community. \nNew Member Pricing: $397 + GST for new members for the 8 week series\, music downloads & vocal warm ups. \nReturning Member Pricing: $347 + GST \nCourse Dates: Thursdays\, April 25th – June 13th\, 2024
URL:https://www.bridgeandenrich.com/event/8-week-vancouver-spring-song-circle-8/
LOCATION:Bridge & Enrich Lives Society\, 718 East 20th Avenue\, Vancouver\, British Columbia\, V5V 1N3\, Canada
CATEGORIES:5 to 8 Week Progressive Classes
END:VEVENT
BEGIN:VEVENT
DTSTART;TZID=America/Vancouver:20240528T193000
DTEND;TZID=America/Vancouver:20240528T210000
DTSTAMP:20260423T180156
CREATED:20240405T181904Z
LAST-MODIFIED:20240405T181904Z
UID:10001981-1716924600-1716930000@www.bridgeandenrich.com
SUMMARY:Art of Living Sudarshan Kriya
DESCRIPTION:Join Karthik and MK from Vancouver’s vibrant Art of Living community for in-person yoga and a Guided Sudarshan Kriya Process (SKY). \nBut please note\, there is a prerequisite to joining: Attendance of their Level 1 Program in order to join in-person Tuesday SKY Meditation. Please contact Art of Living Vancouver for details on joining.
URL:https://www.bridgeandenrich.com/event/art-of-living-sudarshan-kriya-92/
LOCATION:Bridge & Enrich Lives Society\, 718 East 20th Avenue\, Vancouver\, British Columbia\, V5V 1N3\, Canada
CATEGORIES:Regular Weekly Classes
END:VEVENT
BEGIN:VEVENT
DTSTART;TZID=America/Vancouver:20240528T192000
DTEND;TZID=America/Vancouver:20240528T210000
DTSTAMP:20260423T180156
CREATED:20240405T181552Z
LAST-MODIFIED:20240517T012043Z
UID:10001626-1716924000-1716930000@www.bridgeandenrich.com
SUMMARY:BE Silent Meditation (online)
DESCRIPTION:Silent Meditation\nWelcoming you to our weekly ONLINE Silent Meditation Gathering!  \nA meditation space is being offered to all to come and sit in silence together. \nSome of us sit in the tradition of Soto Zen (Serene Reflection Meditation). \nAll traditions of silent meditation are welcome! \nFirst Sitting for 30 minutes starts at: \n7:20pm PST    (Tuesday evening)\n10:20pm EST  (Tuesday evening)\n7:50am IST     (Wednesday morning INDIA Time) \nWe will have 2 Sitting Meditation periods. \nWalking Meditation of 5 minutes follows the first sitting\, in turn followed by a 3-4 minute break. \nWe will usually play a recorded Dharma Talk/s before the 2nd sitting: Non-duality teachings from various traditions are featured. \nTo Attend:\nTo join this gathering\, an orientation session is first required. Please contact Supriti if you are interested in joining\, and we will help you set up for our gathering\, sharing with you what to expect and addressing any questions you may have.. \nBe inspired: read our Silent Meditation quotes here! \nJoin the discussion: see highlights from our latest sessions here!
URL:https://www.bridgeandenrich.com/event/be-silent-meditation-online-78/
LOCATION:Online via Zoom
CATEGORIES:Regular Online Classes
ORGANIZER;CN="Supriti / Sindoori":MAILTO:contact@bridgeandenrich.com
END:VEVENT
BEGIN:VEVENT
DTSTART;TZID=America/Vancouver:20240528T093000
DTEND;TZID=America/Vancouver:20240529T113000
DTSTAMP:20260423T180156
CREATED:20240405T180924Z
LAST-MODIFIED:20240405T180924Z
UID:10001610-1716888600-1716982200@www.bridgeandenrich.com
SUMMARY:Tai Chi
DESCRIPTION:Tuesdays\, Wednesdays and Fridays from 9:30am to 11:30am. \nFor students of Master Chu.
URL:https://www.bridgeandenrich.com/event/tai-chi-122/
LOCATION:Bridge & Enrich Lives Society\, 718 East 20th Avenue\, Vancouver\, British Columbia\, V5V 1N3\, Canada
CATEGORIES:Regular Weekly Classes
END:VEVENT
BEGIN:VEVENT
DTSTART;TZID=America/Vancouver:20240524T190000
DTEND;TZID=America/Vancouver:20240524T203000
DTSTAMP:20260423T180156
CREATED:20240405T182441Z
LAST-MODIFIED:20240405T182441Z
UID:10001983-1716577200-1716582600@www.bridgeandenrich.com
SUMMARY:Ride The Rhythm (RtR): Ecstatic Dance/Conscious Movement/ Freestyle Dance
DESCRIPTION:RtR is a regular Ecstatic Dance in Vancouver\, a safe space to dive deep and connect with your body\, mind and soul! \n\n\n\n\nRefund Policy\n\nContact the organizer to request a refund.\nEventbrite’s fee is nonrefundable.\n\n\n\n\n\n\n\nAbout this event\n\n\n1 hour 30 minutes\nMobile eTicket\n\n\n\n\n\nFrom the Darkness to the Light \nJoin us for a powerful Spring Equinox Dance on Friday\, March 22nd✨ \nDance\, shed winter’s remnants\, and embrace the arrival of spring in a collective celebration of renewal. \nPicture a vibrant dance floor under soft spring sunlight\, where every step resonates with blossoming life. This event blends free-spirited movement with the powerful energy of the Equinox\, creating a unique space to synchronize with nature’s pulse. \nImmerse yourself in the music\, share the transformative power of movement\, and connect deeply with yourself and others. \nThis immersive experience will be curated by Tara Achkar- Jaguar 🐆 \nWe welcome all! All religions\, all gender identities\, all races\, all shapes and sizes\, all sexual orientations\, all abilities and disabilities\, all languages\, and all ages\, we welcome all! \nEvent Details:\n📅 Date: Friday\, May 24\, 2024 \n⏰ Time: 7:00 PM – 8:30 PM \n📝 The Door opens at 6:45 PM \n📝The Door closes at 7:15 PM (Please try to arrive on time to land into the space with the community) \n💸 Ticket Price: \n– Regular Rate: $20\n– Supported Rate: $18\n– Supporter Rate: $25 \nHow to get your ticket:\n\nReserve your spot with an e-transfer to ridetherhythmdance@gmail.com (No Security question and answer\, auto deposit)\nTickets are available on Eventbrite (Fees will apply)\, a limited number of tickets are available on Eventbrite\, first come\, first serve!\nDrop in and pay cash (Limited capacity)\n\nHere’s some extra information:\n\nBring your water bottle\nWear movement-friendly clothing\, preferably in layers\nThe space is drug-free\, substance-free\, scent-free\, and judgment-free\, and all participants are expected to respect themselves and one another\nPlease share the space respectfully and check in before hugging or touching another dancer\nThe dance floor is a nonverbal space\, If you need to have a conversation\, however brief\, please step outside\nPlease turn off your cell phone and put it away for the duration of the event\nPlease do not attend if you feel unwell or have any flu-related symptoms.\nNo experience is required\nNo street shoes on the dance floor
URL:https://www.bridgeandenrich.com/event/ride-the-rhythm-rtr-ecstatic-dance-conscious-movement-freestyle-dance-8/
LOCATION:Bridge & Enrich Lives Society\, 718 East 20th Avenue\, Vancouver\, British Columbia\, V5V 1N3\, Canada
CATEGORIES:Special Event
END:VEVENT
BEGIN:VEVENT
DTSTART;TZID=America/Vancouver:20240524T093000
DTEND;TZID=America/Vancouver:20240524T113000
DTSTAMP:20260423T180156
CREATED:20240405T181100Z
LAST-MODIFIED:20240405T181100Z
UID:10001616-1716543000-1716550200@www.bridgeandenrich.com
SUMMARY:Tai Chi
DESCRIPTION:Tuesdays\, Wednesdays and Fridays from 9:30am to 11:30am. \nFor students of Master Chu.
URL:https://www.bridgeandenrich.com/event/tai-chi-125/
LOCATION:Bridge & Enrich Lives Society\, 718 East 20th Avenue\, Vancouver\, British Columbia\, V5V 1N3\, Canada
CATEGORIES:Regular Weekly Classes
END:VEVENT
BEGIN:VEVENT
DTSTART;TZID=America/Vancouver:20240523T190000
DTEND;TZID=America/Vancouver:20240523T213000
DTSTAMP:20260423T180156
CREATED:20240310T180325Z
LAST-MODIFIED:20240517T004457Z
UID:10001602-1716490800-1716499800@www.bridgeandenrich.com
SUMMARY:8 Week Vancouver Spring Song Circle
DESCRIPTION:Welcome to Radiant Heart Song Circle\, an extraordinary place for women to connect and open hearts through the power of voice. \nJoin us to free your voice and lift your spirit through chants\, songs\, rituals\, and community. \nNew Member Pricing: $397 + GST for new members for the 8 week series\, music downloads & vocal warm ups. \nReturning Member Pricing: $347 + GST \nCourse Dates: Thursdays\, April 25th – June 13th\, 2024
URL:https://www.bridgeandenrich.com/event/8-week-vancouver-spring-song-circle-7/
LOCATION:Bridge & Enrich Lives Society\, 718 East 20th Avenue\, Vancouver\, British Columbia\, V5V 1N3\, Canada
CATEGORIES:5 to 8 Week Progressive Classes
END:VEVENT
BEGIN:VEVENT
DTSTART;TZID=America/Vancouver:20240521T193000
DTEND;TZID=America/Vancouver:20240521T210000
DTSTAMP:20260423T180156
CREATED:20240405T181843Z
LAST-MODIFIED:20240405T181843Z
UID:10001982-1716319800-1716325200@www.bridgeandenrich.com
SUMMARY:Art of Living Sudarshan Kriya
DESCRIPTION:Join Karthik and MK from Vancouver’s vibrant Art of Living community for in-person yoga and a Guided Sudarshan Kriya Process (SKY). \nBut please note\, there is a prerequisite to joining: Attendance of their Level 1 Program in order to join in-person Tuesday SKY Meditation. Please contact Art of Living Vancouver for details on joining.
URL:https://www.bridgeandenrich.com/event/art-of-living-sudarshan-kriya-91/
LOCATION:Bridge & Enrich Lives Society\, 718 East 20th Avenue\, Vancouver\, British Columbia\, V5V 1N3\, Canada
CATEGORIES:Regular Weekly Classes
END:VEVENT
BEGIN:VEVENT
DTSTART;TZID=America/Vancouver:20240521T093000
DTEND;TZID=America/Vancouver:20240522T113000
DTSTAMP:20260423T180156
CREATED:20240405T180904Z
LAST-MODIFIED:20240405T180904Z
UID:10001979-1716283800-1716377400@www.bridgeandenrich.com
SUMMARY:Tai Chi
DESCRIPTION:Tuesdays\, Wednesdays and Fridays from 9:30am to 11:30am. \nFor students of Master Chu.
URL:https://www.bridgeandenrich.com/event/tai-chi-121/
LOCATION:Bridge & Enrich Lives Society\, 718 East 20th Avenue\, Vancouver\, British Columbia\, V5V 1N3\, Canada
CATEGORIES:Regular Weekly Classes
END:VEVENT
END:VCALENDAR