BEGIN:VCALENDAR
VERSION:2.0
PRODID:-//Bridge &amp; Enrich Lives Society - ECPv6.15.13//NONSGML v1.0//EN
CALSCALE:GREGORIAN
METHOD:PUBLISH
X-WR-CALNAME:Bridge &amp; Enrich Lives Society
X-ORIGINAL-URL:https://www.bridgeandenrich.com
X-WR-CALDESC:Events for Bridge &amp; Enrich Lives Society
REFRESH-INTERVAL;VALUE=DURATION:PT1H
X-Robots-Tag:noindex
X-PUBLISHED-TTL:PT1H
BEGIN:VTIMEZONE
TZID:America/Vancouver
BEGIN:DAYLIGHT
TZOFFSETFROM:-0800
TZOFFSETTO:-0700
TZNAME:PDT
DTSTART:20240310T100000
END:DAYLIGHT
BEGIN:STANDARD
TZOFFSETFROM:-0700
TZOFFSETTO:-0800
TZNAME:PST
DTSTART:20241103T090000
END:STANDARD
BEGIN:DAYLIGHT
TZOFFSETFROM:-0800
TZOFFSETTO:-0700
TZNAME:PDT
DTSTART:20250309T100000
END:DAYLIGHT
BEGIN:STANDARD
TZOFFSETFROM:-0700
TZOFFSETTO:-0800
TZNAME:PST
DTSTART:20251102T090000
END:STANDARD
BEGIN:DAYLIGHT
TZOFFSETFROM:-0800
TZOFFSETTO:-0700
TZNAME:PDT
DTSTART:20260308T100000
END:DAYLIGHT
BEGIN:STANDARD
TZOFFSETFROM:-0700
TZOFFSETTO:-0800
TZNAME:PST
DTSTART:20261101T090000
END:STANDARD
BEGIN:DAYLIGHT
TZOFFSETFROM:-0800
TZOFFSETTO:-0700
TZNAME:PDT
DTSTART:20270314T100000
END:DAYLIGHT
BEGIN:STANDARD
TZOFFSETFROM:-0700
TZOFFSETTO:-0800
TZNAME:PST
DTSTART:20271107T090000
END:STANDARD
END:VTIMEZONE
BEGIN:VEVENT
DTSTART;TZID=America/Vancouver:20260106T093000
DTEND;TZID=America/Vancouver:20260106T113000
DTSTAMP:20260420T154437
CREATED:20260103T190811Z
LAST-MODIFIED:20260103T190813Z
UID:10002302-1767691800-1767699000@www.bridgeandenrich.com
SUMMARY:Tai Chi
DESCRIPTION:Tuesdays\, Wednesdays and Fridays from 9:30am to 11:30am. \nFor students of Master Chu.
URL:https://www.bridgeandenrich.com/event/tai-chi-251-13/
LOCATION:Bridge & Enrich Lives Society\, 718 East 20th Avenue\, Vancouver\, British Columbia\, V5V 1N3\, Canada
CATEGORIES:Regular Weekly Classes
END:VEVENT
BEGIN:VEVENT
DTSTART;TZID=America/Vancouver:20260102T093000
DTEND;TZID=America/Vancouver:20260102T113000
DTSTAMP:20260420T154437
CREATED:20250719T172210Z
LAST-MODIFIED:20250803T184838Z
UID:10002301-1767346200-1767353400@www.bridgeandenrich.com
SUMMARY:Tai Chi
DESCRIPTION:Tuesdays\, Wednesdays and Fridays from 9:30am to 11:30am. \nFor students of Master Chu.
URL:https://www.bridgeandenrich.com/event/tai-chi-251/2026-01-02/
LOCATION:Bridge & Enrich Lives Society\, 718 East 20th Avenue\, Vancouver\, British Columbia\, V5V 1N3\, Canada
CATEGORIES:Regular Weekly Classes
END:VEVENT
BEGIN:VEVENT
DTSTART;TZID=America/Vancouver:20260101T190000
DTEND;TZID=America/Vancouver:20260101T210000
DTSTAMP:20260420T154437
CREATED:20260103T191637Z
LAST-MODIFIED:20260103T191640Z
UID:10003547-1767294000-1767301200@www.bridgeandenrich.com
SUMMARY:Song Circle with Julie Blue
DESCRIPTION:Please note: This time slot is regularly reserved for Julie Blue’s Song Circles which operate on 8-week cycles. Please check her website and register directly to learn more about the current song cycle. \n\nDiscover for yourself how singing raises inner peace\, confidence\, and joy.\nWelcome to a singing community of song\, sisterhood\, and support. Through singing you’ll discover techniques to grow your confidence\, be comfortable taking up space\, and be heard. You’ll learn to fill yourself with your own healing frequencies through movement\, breath\, and sound as you release stress and physical pain. \nRadiant Heart Song Circle is an intimate circle where women gather to grow their confidence\, express their authentic voices\, and support each other to shine. The Song Circles are led by composer and transformational voice coach\, Juie Blue\, who weaves effective and grounded vocal coaching with soul-liberating rituals and chants. \nIn this upcoming program\, you will: \n\nDiscover the keys to making singing and speaking easy.\nRelease negative beliefs and limitations.\nFeel grounded and inspired so you can share your song\, story\, gifts\, and wisdom.\nBe part of a community where you are supported to share both your strength and vulnerability.\nLearn how to have a singing/chanting practice of your own to keep you grounded through challenging times.\nFeel the power of connection to self and others.\nBring out your richest most resonant voice so people can not only hear you but FEEL you.\n\nWhether you’re a seasoned singer or just starting out\, you’ll be guided and supported to learn some well-known songs\, explore different musical genres\, and sing some of my soulful songs\, African chants\, and powerful Sanskrit traditional chants. \n“The song circle with Julie not only helped me to be a better singer\, it also helped me to be more assertive and confident with how I carry myself throughout the world.” \nAntonina Ananda \nRadiant Heart Song Circle: inspiring self-empowerment\, creativity\, and community building through the power of singing. \nThis free open house is the first session of a transformational singing journey that includes 5 Thursday evenings and 1 full day on Sunday\, Jan. 19th. Free your voice and uplift your Spirit! \nThursday\, Jan. 9th\, 7:00 – 9:30 pm Drop-ins are welcome for the first 2 weeks. \nRadiant Heart Song Circle: inspiring self-empowerment\, creativity\, and community building through the power of singing.Radiant Heart Song Circle: inspiring self-empowerment\, creativity\, and community building through the power of singing. \nFor more info and to register https://julieblue.com/radiant-heart-song-circle/ 
URL:https://www.bridgeandenrich.com/event/song-circle-with-julie-blue-22-3/
LOCATION:Bridge & Enrich Lives Society\, 718 East 20th Avenue\, Vancouver\, British Columbia\, V5V 1N3\, Canada
CATEGORIES:5 to 8 Week Progressive Classes
END:VEVENT
BEGIN:VEVENT
DTSTART;TZID=America/Vancouver:20251231T093000
DTEND;TZID=America/Vancouver:20251231T113000
DTSTAMP:20260420T154437
CREATED:20250719T172210Z
LAST-MODIFIED:20250803T184838Z
UID:10002300-1767173400-1767180600@www.bridgeandenrich.com
SUMMARY:Tai Chi
DESCRIPTION:Tuesdays\, Wednesdays and Fridays from 9:30am to 11:30am. \nFor students of Master Chu.
URL:https://www.bridgeandenrich.com/event/tai-chi-251/2025-12-31/
LOCATION:Bridge & Enrich Lives Society\, 718 East 20th Avenue\, Vancouver\, British Columbia\, V5V 1N3\, Canada
CATEGORIES:Regular Weekly Classes
END:VEVENT
BEGIN:VEVENT
DTSTART;TZID=America/Vancouver:20251230T193000
DTEND;TZID=America/Vancouver:20251230T210000
DTSTAMP:20260420T154437
CREATED:20251109T182848Z
LAST-MODIFIED:20251109T182850Z
UID:10003291-1767123000-1767128400@www.bridgeandenrich.com
SUMMARY:Art of Living Sudarshan Kriya
DESCRIPTION:Join Karthik and MK from Vancouver’s vibrant Art of Living community for in-person yoga and a Guided Sudarshan Kriya Process (SKY). \nBut please note\, there is a prerequisite to joining: Attendance of their Level 1 Program in order to join in-person Tuesday SKY Meditation. Please contact Art of Living Vancouver for details on joining.\n 
URL:https://www.bridgeandenrich.com/event/art-of-living-sudarshan-kriya-155-4/
LOCATION:Bridge & Enrich Lives Society\, 718 East 20th Avenue\, Vancouver\, British Columbia\, V5V 1N3\, Canada
CATEGORIES:Regular Weekly Classes
END:VEVENT
BEGIN:VEVENT
DTSTART;TZID=America/Vancouver:20251230T192000
DTEND;TZID=America/Vancouver:20251230T210000
DTSTAMP:20260420T154437
CREATED:20250719T172608Z
LAST-MODIFIED:20250803T184920Z
UID:10003035-1767122400-1767128400@www.bridgeandenrich.com
SUMMARY:BE Silent Meditation with a Sprinkling of Ayurveda (online)
DESCRIPTION:Silent Meditation… with a Sprinkling of Ayurveda\nWelcoming you to our weekly ONLINE Silent Meditation Gathering!  \nA meditation space is being offered to all to come and sit in silence together. \nSome of us sit in the tradition of Soto Zen (Serene Reflection Meditation). \nAll traditions of silent meditation are welcome! \nFirst Sitting for 30 minutes starts at: \n7:20pm PST    (Tuesday evening)\n10:20pm EST  (Tuesday evening)\n7:50am IST     (Wednesday morning INDIA Time) \nWe will have 2 Sitting Meditation periods. \nWalking Meditation of 5 minutes follows the first sitting\, in turn followed by a 3-4 minute break. \nWe will usually play a recorded Dharma Talk/s before the 2nd sitting: Non-duality teachings from various traditions are featured. \nTo Attend:\nTo join this gathering\, an orientation session is first required. Please contact Supriti if you are interested in joining\, and we will help you set up for our gathering\, sharing with you what to expect and addressing any questions you may have.. \nBe inspired: read our Silent Meditation quotes here! \nJoin the discussion: see highlights from our latest sessions here!
URL:https://www.bridgeandenrich.com/event/be-silent-meditation-with-a-sprinkling-of-ayurveda-online-41/2025-12-30/
LOCATION:Online via Zoom
CATEGORIES:Regular Online Classes
ORGANIZER;CN="Supriti / Sindoori":MAILTO:contact@bridgeandenrich.com
END:VEVENT
BEGIN:VEVENT
DTSTART;TZID=America/Vancouver:20251230T093000
DTEND;TZID=America/Vancouver:20251230T113000
DTSTAMP:20260420T154437
CREATED:20250719T172210Z
LAST-MODIFIED:20250803T184838Z
UID:10002299-1767087000-1767094200@www.bridgeandenrich.com
SUMMARY:Tai Chi
DESCRIPTION:Tuesdays\, Wednesdays and Fridays from 9:30am to 11:30am. \nFor students of Master Chu.
URL:https://www.bridgeandenrich.com/event/tai-chi-251/2025-12-30/
LOCATION:Bridge & Enrich Lives Society\, 718 East 20th Avenue\, Vancouver\, British Columbia\, V5V 1N3\, Canada
CATEGORIES:Regular Weekly Classes
END:VEVENT
BEGIN:VEVENT
DTSTART;TZID=America/Vancouver:20251226T093000
DTEND;TZID=America/Vancouver:20251226T113000
DTSTAMP:20260420T154437
CREATED:20250719T172210Z
LAST-MODIFIED:20250803T184838Z
UID:10002298-1766741400-1766748600@www.bridgeandenrich.com
SUMMARY:Tai Chi
DESCRIPTION:Tuesdays\, Wednesdays and Fridays from 9:30am to 11:30am. \nFor students of Master Chu.
URL:https://www.bridgeandenrich.com/event/tai-chi-251/2025-12-26/
LOCATION:Bridge & Enrich Lives Society\, 718 East 20th Avenue\, Vancouver\, British Columbia\, V5V 1N3\, Canada
CATEGORIES:Regular Weekly Classes
END:VEVENT
BEGIN:VEVENT
DTSTART;TZID=America/Vancouver:20251224T093000
DTEND;TZID=America/Vancouver:20251224T113000
DTSTAMP:20260420T154437
CREATED:20250719T172210Z
LAST-MODIFIED:20250803T184838Z
UID:10002297-1766568600-1766575800@www.bridgeandenrich.com
SUMMARY:Tai Chi
DESCRIPTION:Tuesdays\, Wednesdays and Fridays from 9:30am to 11:30am. \nFor students of Master Chu.
URL:https://www.bridgeandenrich.com/event/tai-chi-251/2025-12-24/
LOCATION:Bridge & Enrich Lives Society\, 718 East 20th Avenue\, Vancouver\, British Columbia\, V5V 1N3\, Canada
CATEGORIES:Regular Weekly Classes
END:VEVENT
BEGIN:VEVENT
DTSTART;TZID=America/Vancouver:20251223T193000
DTEND;TZID=America/Vancouver:20251223T210000
DTSTAMP:20260420T154438
CREATED:20251109T182826Z
LAST-MODIFIED:20251109T182828Z
UID:10003290-1766518200-1766523600@www.bridgeandenrich.com
SUMMARY:Art of Living Sudarshan Kriya
DESCRIPTION:Join Karthik and MK from Vancouver’s vibrant Art of Living community for in-person yoga and a Guided Sudarshan Kriya Process (SKY). \nBut please note\, there is a prerequisite to joining: Attendance of their Level 1 Program in order to join in-person Tuesday SKY Meditation. Please contact Art of Living Vancouver for details on joining.\n 
URL:https://www.bridgeandenrich.com/event/art-of-living-sudarshan-kriya-155-3/
LOCATION:Bridge & Enrich Lives Society\, 718 East 20th Avenue\, Vancouver\, British Columbia\, V5V 1N3\, Canada
CATEGORIES:Regular Weekly Classes
END:VEVENT
BEGIN:VEVENT
DTSTART;TZID=America/Vancouver:20251223T192000
DTEND;TZID=America/Vancouver:20251223T210000
DTSTAMP:20260420T154438
CREATED:20250719T172608Z
LAST-MODIFIED:20250803T184920Z
UID:10003034-1766517600-1766523600@www.bridgeandenrich.com
SUMMARY:BE Silent Meditation with a Sprinkling of Ayurveda (online)
DESCRIPTION:Silent Meditation… with a Sprinkling of Ayurveda\nWelcoming you to our weekly ONLINE Silent Meditation Gathering!  \nA meditation space is being offered to all to come and sit in silence together. \nSome of us sit in the tradition of Soto Zen (Serene Reflection Meditation). \nAll traditions of silent meditation are welcome! \nFirst Sitting for 30 minutes starts at: \n7:20pm PST    (Tuesday evening)\n10:20pm EST  (Tuesday evening)\n7:50am IST     (Wednesday morning INDIA Time) \nWe will have 2 Sitting Meditation periods. \nWalking Meditation of 5 minutes follows the first sitting\, in turn followed by a 3-4 minute break. \nWe will usually play a recorded Dharma Talk/s before the 2nd sitting: Non-duality teachings from various traditions are featured. \nTo Attend:\nTo join this gathering\, an orientation session is first required. Please contact Supriti if you are interested in joining\, and we will help you set up for our gathering\, sharing with you what to expect and addressing any questions you may have.. \nBe inspired: read our Silent Meditation quotes here! \nJoin the discussion: see highlights from our latest sessions here!
URL:https://www.bridgeandenrich.com/event/be-silent-meditation-with-a-sprinkling-of-ayurveda-online-41/2025-12-23/
LOCATION:Online via Zoom
CATEGORIES:Regular Online Classes
ORGANIZER;CN="Supriti / Sindoori":MAILTO:contact@bridgeandenrich.com
END:VEVENT
BEGIN:VEVENT
DTSTART;TZID=America/Vancouver:20251223T093000
DTEND;TZID=America/Vancouver:20251223T113000
DTSTAMP:20260420T154438
CREATED:20250719T172210Z
LAST-MODIFIED:20250803T184838Z
UID:10002296-1766482200-1766489400@www.bridgeandenrich.com
SUMMARY:Tai Chi
DESCRIPTION:Tuesdays\, Wednesdays and Fridays from 9:30am to 11:30am. \nFor students of Master Chu.
URL:https://www.bridgeandenrich.com/event/tai-chi-251/2025-12-23/
LOCATION:Bridge & Enrich Lives Society\, 718 East 20th Avenue\, Vancouver\, British Columbia\, V5V 1N3\, Canada
CATEGORIES:Regular Weekly Classes
END:VEVENT
BEGIN:VEVENT
DTSTART;TZID=America/Vancouver:20251219T093000
DTEND;TZID=America/Vancouver:20251219T113000
DTSTAMP:20260420T154438
CREATED:20250719T172210Z
LAST-MODIFIED:20250803T184838Z
UID:10002295-1766136600-1766143800@www.bridgeandenrich.com
SUMMARY:Tai Chi
DESCRIPTION:Tuesdays\, Wednesdays and Fridays from 9:30am to 11:30am. \nFor students of Master Chu.
URL:https://www.bridgeandenrich.com/event/tai-chi-251/2025-12-19/
LOCATION:Bridge & Enrich Lives Society\, 718 East 20th Avenue\, Vancouver\, British Columbia\, V5V 1N3\, Canada
CATEGORIES:Regular Weekly Classes
END:VEVENT
BEGIN:VEVENT
DTSTART;TZID=America/Vancouver:20251217T093000
DTEND;TZID=America/Vancouver:20251217T113000
DTSTAMP:20260420T154438
CREATED:20250719T172210Z
LAST-MODIFIED:20250803T184838Z
UID:10002294-1765963800-1765971000@www.bridgeandenrich.com
SUMMARY:Tai Chi
DESCRIPTION:Tuesdays\, Wednesdays and Fridays from 9:30am to 11:30am. \nFor students of Master Chu.
URL:https://www.bridgeandenrich.com/event/tai-chi-251/2025-12-17/
LOCATION:Bridge & Enrich Lives Society\, 718 East 20th Avenue\, Vancouver\, British Columbia\, V5V 1N3\, Canada
CATEGORIES:Regular Weekly Classes
END:VEVENT
BEGIN:VEVENT
DTSTART;TZID=America/Vancouver:20251216T193000
DTEND;TZID=America/Vancouver:20251216T210000
DTSTAMP:20260420T154438
CREATED:20250719T172928Z
LAST-MODIFIED:20250803T184953Z
UID:10003289-1765913400-1765918800@www.bridgeandenrich.com
SUMMARY:Art of Living Sudarshan Kriya
DESCRIPTION:Join Karthik and MK from Vancouver’s vibrant Art of Living community for in-person yoga and a Guided Sudarshan Kriya Process (SKY). \nBut please note\, there is a prerequisite to joining: Attendance of their Level 1 Program in order to join in-person Tuesday SKY Meditation. Please contact Art of Living Vancouver for details on joining.\n 
URL:https://www.bridgeandenrich.com/event/art-of-living-sudarshan-kriya-155/2025-12-16/
LOCATION:Bridge & Enrich Lives Society\, 718 East 20th Avenue\, Vancouver\, British Columbia\, V5V 1N3\, Canada
CATEGORIES:Regular Weekly Classes
END:VEVENT
BEGIN:VEVENT
DTSTART;TZID=America/Vancouver:20251216T192000
DTEND;TZID=America/Vancouver:20251216T210000
DTSTAMP:20260420T154438
CREATED:20250719T172608Z
LAST-MODIFIED:20250803T184920Z
UID:10003033-1765912800-1765918800@www.bridgeandenrich.com
SUMMARY:BE Silent Meditation with a Sprinkling of Ayurveda (online)
DESCRIPTION:Silent Meditation… with a Sprinkling of Ayurveda\nWelcoming you to our weekly ONLINE Silent Meditation Gathering!  \nA meditation space is being offered to all to come and sit in silence together. \nSome of us sit in the tradition of Soto Zen (Serene Reflection Meditation). \nAll traditions of silent meditation are welcome! \nFirst Sitting for 30 minutes starts at: \n7:20pm PST    (Tuesday evening)\n10:20pm EST  (Tuesday evening)\n7:50am IST     (Wednesday morning INDIA Time) \nWe will have 2 Sitting Meditation periods. \nWalking Meditation of 5 minutes follows the first sitting\, in turn followed by a 3-4 minute break. \nWe will usually play a recorded Dharma Talk/s before the 2nd sitting: Non-duality teachings from various traditions are featured. \nTo Attend:\nTo join this gathering\, an orientation session is first required. Please contact Supriti if you are interested in joining\, and we will help you set up for our gathering\, sharing with you what to expect and addressing any questions you may have.. \nBe inspired: read our Silent Meditation quotes here! \nJoin the discussion: see highlights from our latest sessions here!
URL:https://www.bridgeandenrich.com/event/be-silent-meditation-with-a-sprinkling-of-ayurveda-online-41/2025-12-16/
LOCATION:Online via Zoom
CATEGORIES:Regular Online Classes
ORGANIZER;CN="Supriti / Sindoori":MAILTO:contact@bridgeandenrich.com
END:VEVENT
BEGIN:VEVENT
DTSTART;TZID=America/Vancouver:20251216T093000
DTEND;TZID=America/Vancouver:20251216T113000
DTSTAMP:20260420T154438
CREATED:20250719T172210Z
LAST-MODIFIED:20250803T184838Z
UID:10002293-1765877400-1765884600@www.bridgeandenrich.com
SUMMARY:Tai Chi
DESCRIPTION:Tuesdays\, Wednesdays and Fridays from 9:30am to 11:30am. \nFor students of Master Chu.
URL:https://www.bridgeandenrich.com/event/tai-chi-251/2025-12-16/
LOCATION:Bridge & Enrich Lives Society\, 718 East 20th Avenue\, Vancouver\, British Columbia\, V5V 1N3\, Canada
CATEGORIES:Regular Weekly Classes
END:VEVENT
BEGIN:VEVENT
DTSTART;TZID=America/Vancouver:20251213T180000
DTEND;TZID=America/Vancouver:20251213T203000
DTSTAMP:20260420T154438
CREATED:20251109T182734Z
LAST-MODIFIED:20251109T182734Z
UID:10003836-1765648800-1765657800@www.bridgeandenrich.com
SUMMARY:Art of Living Vancouver
DESCRIPTION:
URL:https://www.bridgeandenrich.com/event/art-of-living-vancouver/
LOCATION:Bridge & Enrich Lives Society\, 718 East 20th Avenue\, Vancouver\, British Columbia\, V5V 1N3\, Canada
CATEGORIES:Special Event
END:VEVENT
BEGIN:VEVENT
DTSTART;TZID=America/Vancouver:20251212T093000
DTEND;TZID=America/Vancouver:20251212T113000
DTSTAMP:20260420T154438
CREATED:20250719T172210Z
LAST-MODIFIED:20250803T184838Z
UID:10002292-1765531800-1765539000@www.bridgeandenrich.com
SUMMARY:Tai Chi
DESCRIPTION:Tuesdays\, Wednesdays and Fridays from 9:30am to 11:30am. \nFor students of Master Chu.
URL:https://www.bridgeandenrich.com/event/tai-chi-251/2025-12-12/
LOCATION:Bridge & Enrich Lives Society\, 718 East 20th Avenue\, Vancouver\, British Columbia\, V5V 1N3\, Canada
CATEGORIES:Regular Weekly Classes
END:VEVENT
BEGIN:VEVENT
DTSTART;TZID=America/Vancouver:20251210T093000
DTEND;TZID=America/Vancouver:20251210T113000
DTSTAMP:20260420T154438
CREATED:20250719T172210Z
LAST-MODIFIED:20250803T184838Z
UID:10002291-1765359000-1765366200@www.bridgeandenrich.com
SUMMARY:Tai Chi
DESCRIPTION:Tuesdays\, Wednesdays and Fridays from 9:30am to 11:30am. \nFor students of Master Chu.
URL:https://www.bridgeandenrich.com/event/tai-chi-251/2025-12-10/
LOCATION:Bridge & Enrich Lives Society\, 718 East 20th Avenue\, Vancouver\, British Columbia\, V5V 1N3\, Canada
CATEGORIES:Regular Weekly Classes
END:VEVENT
BEGIN:VEVENT
DTSTART;TZID=America/Vancouver:20251209T193000
DTEND;TZID=America/Vancouver:20251209T210000
DTSTAMP:20260420T154438
CREATED:20250719T172928Z
LAST-MODIFIED:20250803T184953Z
UID:10003288-1765308600-1765314000@www.bridgeandenrich.com
SUMMARY:Art of Living Sudarshan Kriya
DESCRIPTION:Join Karthik and MK from Vancouver’s vibrant Art of Living community for in-person yoga and a Guided Sudarshan Kriya Process (SKY). \nBut please note\, there is a prerequisite to joining: Attendance of their Level 1 Program in order to join in-person Tuesday SKY Meditation. Please contact Art of Living Vancouver for details on joining.\n 
URL:https://www.bridgeandenrich.com/event/art-of-living-sudarshan-kriya-155/2025-12-09/
LOCATION:Bridge & Enrich Lives Society\, 718 East 20th Avenue\, Vancouver\, British Columbia\, V5V 1N3\, Canada
CATEGORIES:Regular Weekly Classes
END:VEVENT
BEGIN:VEVENT
DTSTART;TZID=America/Vancouver:20251209T192000
DTEND;TZID=America/Vancouver:20251209T210000
DTSTAMP:20260420T154438
CREATED:20250719T172608Z
LAST-MODIFIED:20250803T184920Z
UID:10003032-1765308000-1765314000@www.bridgeandenrich.com
SUMMARY:BE Silent Meditation with a Sprinkling of Ayurveda (online)
DESCRIPTION:Silent Meditation… with a Sprinkling of Ayurveda\nWelcoming you to our weekly ONLINE Silent Meditation Gathering!  \nA meditation space is being offered to all to come and sit in silence together. \nSome of us sit in the tradition of Soto Zen (Serene Reflection Meditation). \nAll traditions of silent meditation are welcome! \nFirst Sitting for 30 minutes starts at: \n7:20pm PST    (Tuesday evening)\n10:20pm EST  (Tuesday evening)\n7:50am IST     (Wednesday morning INDIA Time) \nWe will have 2 Sitting Meditation periods. \nWalking Meditation of 5 minutes follows the first sitting\, in turn followed by a 3-4 minute break. \nWe will usually play a recorded Dharma Talk/s before the 2nd sitting: Non-duality teachings from various traditions are featured. \nTo Attend:\nTo join this gathering\, an orientation session is first required. Please contact Supriti if you are interested in joining\, and we will help you set up for our gathering\, sharing with you what to expect and addressing any questions you may have.. \nBe inspired: read our Silent Meditation quotes here! \nJoin the discussion: see highlights from our latest sessions here!
URL:https://www.bridgeandenrich.com/event/be-silent-meditation-with-a-sprinkling-of-ayurveda-online-41/2025-12-09/
LOCATION:Online via Zoom
CATEGORIES:Regular Online Classes
ORGANIZER;CN="Supriti / Sindoori":MAILTO:contact@bridgeandenrich.com
END:VEVENT
BEGIN:VEVENT
DTSTART;TZID=America/Vancouver:20251209T093000
DTEND;TZID=America/Vancouver:20251209T113000
DTSTAMP:20260420T154438
CREATED:20250719T172210Z
LAST-MODIFIED:20250803T184838Z
UID:10002290-1765272600-1765279800@www.bridgeandenrich.com
SUMMARY:Tai Chi
DESCRIPTION:Tuesdays\, Wednesdays and Fridays from 9:30am to 11:30am. \nFor students of Master Chu.
URL:https://www.bridgeandenrich.com/event/tai-chi-251/2025-12-09/
LOCATION:Bridge & Enrich Lives Society\, 718 East 20th Avenue\, Vancouver\, British Columbia\, V5V 1N3\, Canada
CATEGORIES:Regular Weekly Classes
END:VEVENT
BEGIN:VEVENT
DTSTART;TZID=America/Vancouver:20251205T093000
DTEND;TZID=America/Vancouver:20251205T113000
DTSTAMP:20260420T154438
CREATED:20250719T172210Z
LAST-MODIFIED:20250803T184838Z
UID:10002289-1764927000-1764934200@www.bridgeandenrich.com
SUMMARY:Tai Chi
DESCRIPTION:Tuesdays\, Wednesdays and Fridays from 9:30am to 11:30am. \nFor students of Master Chu.
URL:https://www.bridgeandenrich.com/event/tai-chi-251/2025-12-05/
LOCATION:Bridge & Enrich Lives Society\, 718 East 20th Avenue\, Vancouver\, British Columbia\, V5V 1N3\, Canada
CATEGORIES:Regular Weekly Classes
END:VEVENT
BEGIN:VEVENT
DTSTART;TZID=America/Vancouver:20251203T093000
DTEND;TZID=America/Vancouver:20251203T113000
DTSTAMP:20260420T154438
CREATED:20250719T172210Z
LAST-MODIFIED:20250803T184838Z
UID:10002288-1764754200-1764761400@www.bridgeandenrich.com
SUMMARY:Tai Chi
DESCRIPTION:Tuesdays\, Wednesdays and Fridays from 9:30am to 11:30am. \nFor students of Master Chu.
URL:https://www.bridgeandenrich.com/event/tai-chi-251/2025-12-03/
LOCATION:Bridge & Enrich Lives Society\, 718 East 20th Avenue\, Vancouver\, British Columbia\, V5V 1N3\, Canada
CATEGORIES:Regular Weekly Classes
END:VEVENT
BEGIN:VEVENT
DTSTART;TZID=America/Vancouver:20251202T193000
DTEND;TZID=America/Vancouver:20251202T210000
DTSTAMP:20260420T154438
CREATED:20250719T172928Z
LAST-MODIFIED:20250803T184953Z
UID:10003287-1764703800-1764709200@www.bridgeandenrich.com
SUMMARY:Art of Living Sudarshan Kriya
DESCRIPTION:Join Karthik and MK from Vancouver’s vibrant Art of Living community for in-person yoga and a Guided Sudarshan Kriya Process (SKY). \nBut please note\, there is a prerequisite to joining: Attendance of their Level 1 Program in order to join in-person Tuesday SKY Meditation. Please contact Art of Living Vancouver for details on joining.\n 
URL:https://www.bridgeandenrich.com/event/art-of-living-sudarshan-kriya-155/2025-12-02/
LOCATION:Bridge & Enrich Lives Society\, 718 East 20th Avenue\, Vancouver\, British Columbia\, V5V 1N3\, Canada
CATEGORIES:Regular Weekly Classes
END:VEVENT
BEGIN:VEVENT
DTSTART;TZID=America/Vancouver:20251202T192000
DTEND;TZID=America/Vancouver:20251202T210000
DTSTAMP:20260420T154438
CREATED:20250719T172608Z
LAST-MODIFIED:20250803T184920Z
UID:10003031-1764703200-1764709200@www.bridgeandenrich.com
SUMMARY:BE Silent Meditation with a Sprinkling of Ayurveda (online)
DESCRIPTION:Silent Meditation… with a Sprinkling of Ayurveda\nWelcoming you to our weekly ONLINE Silent Meditation Gathering!  \nA meditation space is being offered to all to come and sit in silence together. \nSome of us sit in the tradition of Soto Zen (Serene Reflection Meditation). \nAll traditions of silent meditation are welcome! \nFirst Sitting for 30 minutes starts at: \n7:20pm PST    (Tuesday evening)\n10:20pm EST  (Tuesday evening)\n7:50am IST     (Wednesday morning INDIA Time) \nWe will have 2 Sitting Meditation periods. \nWalking Meditation of 5 minutes follows the first sitting\, in turn followed by a 3-4 minute break. \nWe will usually play a recorded Dharma Talk/s before the 2nd sitting: Non-duality teachings from various traditions are featured. \nTo Attend:\nTo join this gathering\, an orientation session is first required. Please contact Supriti if you are interested in joining\, and we will help you set up for our gathering\, sharing with you what to expect and addressing any questions you may have.. \nBe inspired: read our Silent Meditation quotes here! \nJoin the discussion: see highlights from our latest sessions here!
URL:https://www.bridgeandenrich.com/event/be-silent-meditation-with-a-sprinkling-of-ayurveda-online-41/2025-12-02/
LOCATION:Online via Zoom
CATEGORIES:Regular Online Classes
ORGANIZER;CN="Supriti / Sindoori":MAILTO:contact@bridgeandenrich.com
END:VEVENT
BEGIN:VEVENT
DTSTART;TZID=America/Vancouver:20251202T093000
DTEND;TZID=America/Vancouver:20251202T113000
DTSTAMP:20260420T154438
CREATED:20250719T172210Z
LAST-MODIFIED:20250803T184838Z
UID:10002287-1764667800-1764675000@www.bridgeandenrich.com
SUMMARY:Tai Chi
DESCRIPTION:Tuesdays\, Wednesdays and Fridays from 9:30am to 11:30am. \nFor students of Master Chu.
URL:https://www.bridgeandenrich.com/event/tai-chi-251/2025-12-02/
LOCATION:Bridge & Enrich Lives Society\, 718 East 20th Avenue\, Vancouver\, British Columbia\, V5V 1N3\, Canada
CATEGORIES:Regular Weekly Classes
END:VEVENT
BEGIN:VEVENT
DTSTART;TZID=America/Vancouver:20251128T190000
DTEND;TZID=America/Vancouver:20251128T203000
DTSTAMP:20260420T154438
CREATED:20251109T182507Z
LAST-MODIFIED:20251109T182507Z
UID:10003835-1764356400-1764361800@www.bridgeandenrich.com
SUMMARY:Conscious Movement Practice with Live Shaker at Ride the Rhythm!
DESCRIPTION:RtR is a regular conscious movement practice in Vancouver\, a safe space to dive deep and connect with your body\, mind\, soul and spirit!\n\n\n\nStep into an evening of movement with the theme of: Dancing with Shadows. \nThis month\, we invite you to explore the unseen parts\, unspoken emotions\, and aspects of self that linger quietly beneath the surface. Through rhythm and embodied expression\, guided by Hassti Hamidi\, we meet the tender\, hidden layers within\, allowing what has been held in silence to move\, breathe\, and find its way into the light. \nJoining us this month is special guest Ash Bigdeli\, whose live shaker will deepen the experience and awaken the body’s intuitive response. Together\, we invite you to move with what’s hidden\, to listen with your body\, and to let silence become movement. \nCome dance your depth\, your truth\, your shadow and remember: every shadow is cast by light. \nLEARN MORE AND REGISTER HERE
URL:https://www.bridgeandenrich.com/event/conscious-movement-practice-with-live-shaker-at-ride-the-rhythm/
LOCATION:Bridge & Enrich Lives Society\, 718 East 20th Avenue\, Vancouver\, British Columbia\, V5V 1N3\, Canada
CATEGORIES:Special Event
END:VEVENT
BEGIN:VEVENT
DTSTART;TZID=America/Vancouver:20251128T093000
DTEND;TZID=America/Vancouver:20251128T113000
DTSTAMP:20260420T154438
CREATED:20250719T172210Z
LAST-MODIFIED:20250803T184838Z
UID:10002286-1764322200-1764329400@www.bridgeandenrich.com
SUMMARY:Tai Chi
DESCRIPTION:Tuesdays\, Wednesdays and Fridays from 9:30am to 11:30am. \nFor students of Master Chu.
URL:https://www.bridgeandenrich.com/event/tai-chi-251/2025-11-28/
LOCATION:Bridge & Enrich Lives Society\, 718 East 20th Avenue\, Vancouver\, British Columbia\, V5V 1N3\, Canada
CATEGORIES:Regular Weekly Classes
END:VEVENT
END:VCALENDAR