BEGIN:VCALENDAR
VERSION:2.0
PRODID:-//Bridge &amp; Enrich Lives Society - ECPv6.15.13//NONSGML v1.0//EN
CALSCALE:GREGORIAN
METHOD:PUBLISH
X-WR-CALNAME:Bridge &amp; Enrich Lives Society
X-ORIGINAL-URL:https://www.bridgeandenrich.com
X-WR-CALDESC:Events for Bridge &amp; Enrich Lives Society
REFRESH-INTERVAL;VALUE=DURATION:PT1H
X-Robots-Tag:noindex
X-PUBLISHED-TTL:PT1H
BEGIN:VTIMEZONE
TZID:America/Vancouver
BEGIN:DAYLIGHT
TZOFFSETFROM:-0800
TZOFFSETTO:-0700
TZNAME:PDT
DTSTART:20210314T100000
END:DAYLIGHT
BEGIN:STANDARD
TZOFFSETFROM:-0700
TZOFFSETTO:-0800
TZNAME:PST
DTSTART:20211107T090000
END:STANDARD
BEGIN:DAYLIGHT
TZOFFSETFROM:-0800
TZOFFSETTO:-0700
TZNAME:PDT
DTSTART:20220313T100000
END:DAYLIGHT
BEGIN:STANDARD
TZOFFSETFROM:-0700
TZOFFSETTO:-0800
TZNAME:PST
DTSTART:20221106T090000
END:STANDARD
BEGIN:DAYLIGHT
TZOFFSETFROM:-0800
TZOFFSETTO:-0700
TZNAME:PDT
DTSTART:20230312T100000
END:DAYLIGHT
BEGIN:STANDARD
TZOFFSETFROM:-0700
TZOFFSETTO:-0800
TZNAME:PST
DTSTART:20231105T090000
END:STANDARD
END:VTIMEZONE
BEGIN:VEVENT
DTSTART;TZID=America/Vancouver:20220705T154500
DTEND;TZID=America/Vancouver:20220705T170000
DTSTAMP:20260423T162016
CREATED:20220618T172355Z
LAST-MODIFIED:20220618T172355Z
UID:10001325-1657035900-1657040400@www.bridgeandenrich.com
SUMMARY:Youth Breakdancing (Progressive)
DESCRIPTION:Stewart Iguidez – a.k.a. Stuey Tellar – is an extraordinary\, eclectic freestyle dancer and choreographer. He is greatly respected for his dance contribution within Canada. His dance style is the ultimate fusion of urban movement\, consisting of b-boying\, popping\, house\, new jack\, swing\, tutting\, isolation and video dance. A natural entertainer\, Stuey Tellar keeps his audiences mesmerized and inspires other dancers with fresh innovative movement.  \n9 years ago Stewart Discovered a new love for yoga and completed his yin teacher Training.  \nStewart started as a b-boy in the mid 90’s before taking interest in hip hop choreography. He has developed his style and skills over the years\, dancing across North America notably in battles for Rock Da House\, Monsters of Hip Hop\, and Battle Zone. He has won titles in World of Dance Seattle and Vancouver with his crew\, The Faculty\, as well as Bodyrock San Diego and Artists Emerge Upper Division.  \nStewart’s classes are high energy fun. He creates a comfortable setting for all levels to learn the latest of urban movement. His teaching philosophy is to create a fun and safe environment for students to develop their skills\, offering tools to become more efficient learners\, and to have a deeper sensitivity to body awareness and musicality.
URL:https://www.bridgeandenrich.com/event/youth-breakdancing-progressive-8/
LOCATION:Bridge & Enrich Lives Society\, 718 East 20th Avenue\, Vancouver\, British Columbia\, V5V 1N3\, Canada
CATEGORIES:Regular Weekly Classes
ORGANIZER;CN="Stewart Iguidez %E2%80%93 a.k.a. Stueytellar":MAILTO:stueytellar@gmail.com
END:VEVENT
BEGIN:VEVENT
DTSTART;TZID=America/Vancouver:20220712T154500
DTEND;TZID=America/Vancouver:20220712T170000
DTSTAMP:20260423T162016
CREATED:20220619T162512Z
LAST-MODIFIED:20220619T162802Z
UID:10001327-1657640700-1657645200@www.bridgeandenrich.com
SUMMARY:Youth Breakdancing (Progressive)
DESCRIPTION:Stewart Iguidez – a.k.a. Stuey Tellar – is an extraordinary\, eclectic freestyle dancer and choreographer. He is greatly respected for his dance contribution within Canada. His dance style is the ultimate fusion of urban movement\, consisting of b-boying\, popping\, house\, new jack\, swing\, tutting\, isolation and video dance. A natural entertainer\, Stuey Tellar keeps his audiences mesmerized and inspires other dancers with fresh innovative movement.  \n9 years ago Stewart Discovered a new love for yoga and completed his yin teacher Training.  \nStewart started as a b-boy in the mid 90’s before taking interest in hip hop choreography. He has developed his style and skills over the years\, dancing across North America notably in battles for Rock Da House\, Monsters of Hip Hop\, and Battle Zone. He has won titles in World of Dance Seattle and Vancouver with his crew\, The Faculty\, as well as Bodyrock San Diego and Artists Emerge Upper Division.  \nStewart’s classes are high energy fun. He creates a comfortable setting for all levels to learn the latest of urban movement. His teaching philosophy is to create a fun and safe environment for students to develop their skills\, offering tools to become more efficient learners\, and to have a deeper sensitivity to body awareness and musicality.
URL:https://www.bridgeandenrich.com/event/youth-breakdancing-progressive-11/
LOCATION:Bridge & Enrich Lives Society\, 718 East 20th Avenue\, Vancouver\, British Columbia\, V5V 1N3\, Canada
CATEGORIES:Regular Weekly Classes
ORGANIZER;CN="Stewart Iguidez %E2%80%93 a.k.a. Stueytellar":MAILTO:stueytellar@gmail.com
END:VEVENT
BEGIN:VEVENT
DTSTART;TZID=America/Vancouver:20220719T154500
DTEND;TZID=America/Vancouver:20220719T170000
DTSTAMP:20260423T162016
CREATED:20220619T161848Z
LAST-MODIFIED:20220619T162608Z
UID:10001326-1658245500-1658250000@www.bridgeandenrich.com
SUMMARY:Youth Breakdancing (Progressive)
DESCRIPTION:Stewart Iguidez – a.k.a. Stuey Tellar – is an extraordinary\, eclectic freestyle dancer and choreographer. He is greatly respected for his dance contribution within Canada. His dance style is the ultimate fusion of urban movement\, consisting of b-boying\, popping\, house\, new jack\, swing\, tutting\, isolation and video dance. A natural entertainer\, Stuey Tellar keeps his audiences mesmerized and inspires other dancers with fresh innovative movement.  \n9 years ago Stewart Discovered a new love for yoga and completed his yin teacher Training.  \nStewart started as a b-boy in the mid 90’s before taking interest in hip hop choreography. He has developed his style and skills over the years\, dancing across North America notably in battles for Rock Da House\, Monsters of Hip Hop\, and Battle Zone. He has won titles in World of Dance Seattle and Vancouver with his crew\, The Faculty\, as well as Bodyrock San Diego and Artists Emerge Upper Division.  \nStewart’s classes are high energy fun. He creates a comfortable setting for all levels to learn the latest of urban movement. His teaching philosophy is to create a fun and safe environment for students to develop their skills\, offering tools to become more efficient learners\, and to have a deeper sensitivity to body awareness and musicality.
URL:https://www.bridgeandenrich.com/event/youth-breakdancing-progressive-9/
LOCATION:Bridge & Enrich Lives Society\, 718 East 20th Avenue\, Vancouver\, British Columbia\, V5V 1N3\, Canada
CATEGORIES:Regular Weekly Classes
ORGANIZER;CN="Stewart Iguidez %E2%80%93 a.k.a. Stueytellar":MAILTO:stueytellar@gmail.com
END:VEVENT
END:VCALENDAR