BEGIN:VCALENDAR
VERSION:2.0
PRODID:-//Bridge &amp; Enrich Lives Society - ECPv6.15.13//NONSGML v1.0//EN
CALSCALE:GREGORIAN
METHOD:PUBLISH
X-ORIGINAL-URL:https://www.bridgeandenrich.com
X-WR-CALDESC:Events for Bridge &amp; Enrich Lives Society
REFRESH-INTERVAL;VALUE=DURATION:PT1H
X-Robots-Tag:noindex
X-PUBLISHED-TTL:PT1H
BEGIN:VTIMEZONE
TZID:America/Vancouver
BEGIN:DAYLIGHT
TZOFFSETFROM:-0800
TZOFFSETTO:-0700
TZNAME:PDT
DTSTART:20210314T100000
END:DAYLIGHT
BEGIN:STANDARD
TZOFFSETFROM:-0700
TZOFFSETTO:-0800
TZNAME:PST
DTSTART:20211107T090000
END:STANDARD
BEGIN:DAYLIGHT
TZOFFSETFROM:-0800
TZOFFSETTO:-0700
TZNAME:PDT
DTSTART:20220313T100000
END:DAYLIGHT
BEGIN:STANDARD
TZOFFSETFROM:-0700
TZOFFSETTO:-0800
TZNAME:PST
DTSTART:20221106T090000
END:STANDARD
BEGIN:DAYLIGHT
TZOFFSETFROM:-0800
TZOFFSETTO:-0700
TZNAME:PDT
DTSTART:20230312T100000
END:DAYLIGHT
BEGIN:STANDARD
TZOFFSETFROM:-0700
TZOFFSETTO:-0800
TZNAME:PST
DTSTART:20231105T090000
END:STANDARD
END:VTIMEZONE
BEGIN:VEVENT
DTSTART;TZID=America/Vancouver:20221007T160000
DTEND;TZID=America/Vancouver:20221007T170000
DTSTAMP:20260423T062725
CREATED:20220826T171123Z
LAST-MODIFIED:20221005T222959Z
UID:10001396-1665158400-1665162000@www.bridgeandenrich.com
SUMMARY:Youth Breakdancing (6-Week Progressive Course)
DESCRIPTION:YOUTH Breakdancing\nProgressive Classes with Stueytellar\n \nDays: Fridays from 4:00 to 5:00 pm\, beginning September 23rd \nAges: 9-14 Years \nLevels: Beginners and Intermediate levels\, all welcome! It will be a progressive that will focus on the building blocks necessary to excel in the breakdance journey. \nIndoor Shoes: Come prepared to change your footwear once you’ve arrived\, clean indoor runners only. \nBring: Water\, tuques\, long pants that you can move freely in for slides and stretches. \nCost: $80 for all 6 sessions (e-transfer to stueytellar@gmail.com)
URL:https://www.bridgeandenrich.com/event/youth-breakdancing-6-week-progressive-course-3/
LOCATION:Bridge & Enrich Lives Society\, 718 East 20th Avenue\, Vancouver\, British Columbia\, V5V 1N3\, Canada
CATEGORIES:5 to 8 Week Progressive Classes
ORGANIZER;CN="Stewart Iguidez %E2%80%93 a.k.a. Stueytellar":MAILTO:stueytellar@gmail.com
END:VEVENT
END:VCALENDAR