BEGIN:VCALENDAR
VERSION:2.0
PRODID:-//Bridge &amp; Enrich Lives Society - ECPv6.15.13//NONSGML v1.0//EN
CALSCALE:GREGORIAN
METHOD:PUBLISH
X-ORIGINAL-URL:https://www.bridgeandenrich.com
X-WR-CALDESC:Events for Bridge &amp; Enrich Lives Society
REFRESH-INTERVAL;VALUE=DURATION:PT1H
X-Robots-Tag:noindex
X-PUBLISHED-TTL:PT1H
BEGIN:VTIMEZONE
TZID:America/Vancouver
BEGIN:DAYLIGHT
TZOFFSETFROM:-0800
TZOFFSETTO:-0700
TZNAME:PDT
DTSTART:20210314T100000
END:DAYLIGHT
BEGIN:STANDARD
TZOFFSETFROM:-0700
TZOFFSETTO:-0800
TZNAME:PST
DTSTART:20211107T090000
END:STANDARD
BEGIN:DAYLIGHT
TZOFFSETFROM:-0800
TZOFFSETTO:-0700
TZNAME:PDT
DTSTART:20220313T100000
END:DAYLIGHT
BEGIN:STANDARD
TZOFFSETFROM:-0700
TZOFFSETTO:-0800
TZNAME:PST
DTSTART:20221106T090000
END:STANDARD
BEGIN:DAYLIGHT
TZOFFSETFROM:-0800
TZOFFSETTO:-0700
TZNAME:PDT
DTSTART:20230312T100000
END:DAYLIGHT
BEGIN:STANDARD
TZOFFSETFROM:-0700
TZOFFSETTO:-0800
TZNAME:PST
DTSTART:20231105T090000
END:STANDARD
END:VTIMEZONE
BEGIN:VEVENT
DTSTART;TZID=America/Vancouver:20220419T180000
DTEND;TZID=America/Vancouver:20220419T191500
DTSTAMP:20260424T080508
CREATED:20220320T174029Z
LAST-MODIFIED:20220415T230825Z
UID:10001170-1650391200-1650395700@www.bridgeandenrich.com
SUMMARY:Gong Bath Meditation
DESCRIPTION:Join us on April 19th – Tuesday from 6pm to 7:15pm for our gong bath meditation. \nImmerse yourself in the vibration of the gong and reset your nervous system.  \nThe classes will be held at Bridge and Enrich (718 East 20th Avenue) – space limited. \nPlease bring your yoga mat\, blanket and any props to keep you comfortable. \nRegistration** is requested – unfortunately\, we will be not accepting drop-in. \nWe look forward to seeing you on Tuesday. \nLove to you all\nSoraya \n**Refunds up to 2 days before event \nPURCHASE TICKETS HERE
URL:https://www.bridgeandenrich.com/event/gong-bath-5/
LOCATION:Bridge & Enrich Lives Society\, 718 East 20th Avenue\, Vancouver\, British Columbia\, V5V 1N3\, Canada
CATEGORIES:Regular Weekly Classes
END:VEVENT
END:VCALENDAR