BEGIN:VCALENDAR
VERSION:2.0
PRODID:-//Bridge &amp; Enrich Lives Society - ECPv6.15.13//NONSGML v1.0//EN
CALSCALE:GREGORIAN
METHOD:PUBLISH
X-WR-CALNAME:Bridge &amp; Enrich Lives Society
X-ORIGINAL-URL:https://www.bridgeandenrich.com
X-WR-CALDESC:Events for Bridge &amp; Enrich Lives Society
REFRESH-INTERVAL;VALUE=DURATION:PT1H
X-Robots-Tag:noindex
X-PUBLISHED-TTL:PT1H
BEGIN:VTIMEZONE
TZID:America/Vancouver
BEGIN:DAYLIGHT
TZOFFSETFROM:-0800
TZOFFSETTO:-0700
TZNAME:PDT
DTSTART:20210314T100000
END:DAYLIGHT
BEGIN:STANDARD
TZOFFSETFROM:-0700
TZOFFSETTO:-0800
TZNAME:PST
DTSTART:20211107T090000
END:STANDARD
BEGIN:DAYLIGHT
TZOFFSETFROM:-0800
TZOFFSETTO:-0700
TZNAME:PDT
DTSTART:20220313T100000
END:DAYLIGHT
BEGIN:STANDARD
TZOFFSETFROM:-0700
TZOFFSETTO:-0800
TZNAME:PST
DTSTART:20221106T090000
END:STANDARD
BEGIN:DAYLIGHT
TZOFFSETFROM:-0800
TZOFFSETTO:-0700
TZNAME:PDT
DTSTART:20230312T100000
END:DAYLIGHT
BEGIN:STANDARD
TZOFFSETFROM:-0700
TZOFFSETTO:-0800
TZNAME:PST
DTSTART:20231105T090000
END:STANDARD
END:VTIMEZONE
BEGIN:VEVENT
DTSTART;TZID=America/Vancouver:20221029T190000
DTEND;TZID=America/Vancouver:20221029T230000
DTSTAMP:20260424T134240
CREATED:20220924T175256Z
LAST-MODIFIED:20221005T223812Z
UID:10001283-1667070000-1667084400@www.bridgeandenrich.com
SUMMARY:A Very Funky Halloween Party presented by The Unified
DESCRIPTION:Calling all ghouls\, ghosts and creatures of the night! Join us Saturday October 29th for a spook-tacular evening of funky beats\, tasty eats and musical treats!\nDress up as your favourite Halloween character and dance the night away with friends\, family and other party souls. This is a FAMILY-FRIENDLY event\, so bring the kiddos along and dress to impress! Prizes will be awarded for best costumes. \nThe Unified are a funk-rock soul-hop outfit born out of shared ideals of love\, connectedness and inclusivity. Based out of Vancouver\, the independent band has been likened to the sounds of Jamiroquai and Santana for their grooves and shake your boo-ty beats. The combination of infectious grooves and feel good message creates a signature Unified experience. \n \nA cash bar will be available as well as the tastiest\, locally-made Italian Focaccia you will ever have! \nDoors open 7:00pm . Music 8:00pm – 11:00pm . Mix and Mingle after \nBuy your tickets in advance online HERE and save! \nTickets at the door (cash only): Adult $35.00 Child. $25.00 \n  \nPLEASE READ OUR HOUSE RULES: \n1. Bridge & Enrich Society requires all new guests to sign a waiver at the door (one-time\, no-fee). To avoid line-ups\, you can also print and fill the form in advance from this link. \n2. This is a SHOE-FREE event. Outdoor shoes are to be removed at reception\, however\, you are welcome to bring your favorite indoor footwear (no high heels please.) \n3. Plenty of seating will be provided to relax and enjoy the performance but we expect many of you will be movin’ and groovin’ on the dance floor! \n4. The venue has a relaxation room available for those with young children or in need of a break. Note: Kids under 5yrs get in for FREE. \n5. Refunds will be issued on a case-by-case basis. Pleaes contact the organizer at least 48 hours prior to the event to request a refund. Note: Eventbrite’s fees are non-refundable. \nPlease bring your good vibes and good company! If you have any questions\, contact us directly! \nThe Unified
URL:https://www.bridgeandenrich.com/event/ivan-tambura-rasa-special-event/
LOCATION:Bridge & Enrich Lives Society\, 718 East 20th Avenue\, Vancouver\, British Columbia\, V5V 1N3\, Canada
CATEGORIES:Special Event
END:VEVENT
END:VCALENDAR