BEGIN:VCALENDAR
VERSION:2.0
PRODID:-//Bridge &amp; Enrich Lives Society - ECPv6.15.13//NONSGML v1.0//EN
CALSCALE:GREGORIAN
METHOD:PUBLISH
X-WR-CALNAME:Bridge &amp; Enrich Lives Society
X-ORIGINAL-URL:https://www.bridgeandenrich.com
X-WR-CALDESC:Events for Bridge &amp; Enrich Lives Society
REFRESH-INTERVAL;VALUE=DURATION:PT1H
X-Robots-Tag:noindex
X-PUBLISHED-TTL:PT1H
BEGIN:VTIMEZONE
TZID:America/Vancouver
BEGIN:DAYLIGHT
TZOFFSETFROM:-0800
TZOFFSETTO:-0700
TZNAME:PDT
DTSTART:20210314T100000
END:DAYLIGHT
BEGIN:STANDARD
TZOFFSETFROM:-0700
TZOFFSETTO:-0800
TZNAME:PST
DTSTART:20211107T090000
END:STANDARD
BEGIN:DAYLIGHT
TZOFFSETFROM:-0800
TZOFFSETTO:-0700
TZNAME:PDT
DTSTART:20220313T100000
END:DAYLIGHT
BEGIN:STANDARD
TZOFFSETFROM:-0700
TZOFFSETTO:-0800
TZNAME:PST
DTSTART:20221106T090000
END:STANDARD
BEGIN:DAYLIGHT
TZOFFSETFROM:-0800
TZOFFSETTO:-0700
TZNAME:PDT
DTSTART:20230312T100000
END:DAYLIGHT
BEGIN:STANDARD
TZOFFSETFROM:-0700
TZOFFSETTO:-0800
TZNAME:PST
DTSTART:20231105T090000
END:STANDARD
END:VTIMEZONE
BEGIN:VEVENT
DTSTART;TZID=America/Vancouver:20220716T183000
DTEND;TZID=America/Vancouver:20220716T213000
DTSTAMP:20260424T063929
CREATED:20220619T164240Z
LAST-MODIFIED:20220619T164240Z
UID:10001329-1657996200-1658007000@www.bridgeandenrich.com
SUMMARY:Kirtan Vancouver
DESCRIPTION:Primary Instructor\nNitai’s journey into the world of kirtan began in 1997 when he discovered Bhakti Yoga for the first time. This discovery inspired him to fully immerse himself in Bhakti ashram life for 20 years. During that time\, he learned much about the expressions of kirtan in Bhakti\, and trained with traditional instruments such as harmonium\, kartals\, and mrdanga. Over those years\, Nitai spent time in Bhakti communities across Canada\, the U.S.A.\, and India. His immersion in Bhakti continues to this day through kirtan and daily practices. \nNitai is a director for Kirtan Vancouver\, a non-profit organization dedicated to creating immersive Kirtan experiences for people throughout the lower mainland. Nitai will be joined by other members of the Kirtan Vancouver team throughout the training. \nFor more information about Kirtan Vancouver\, please visit: www.kirtanvancouver.com
URL:https://www.bridgeandenrich.com/event/kirtan-vancouver/
LOCATION:Bridge & Enrich Lives Society\, 718 East 20th Avenue\, Vancouver\, British Columbia\, V5V 1N3\, Canada
CATEGORIES:Special Event
ORGANIZER;CN="Nitai (Kirtan Vancouver)":MAILTO:hello@kirtanvancouver.com
END:VEVENT
END:VCALENDAR