BEGIN:VCALENDAR
VERSION:2.0
PRODID:-//Bridge &amp; Enrich Lives Society - ECPv6.15.13//NONSGML v1.0//EN
CALSCALE:GREGORIAN
METHOD:PUBLISH
X-WR-CALNAME:Bridge &amp; Enrich Lives Society
X-ORIGINAL-URL:https://www.bridgeandenrich.com
X-WR-CALDESC:Events for Bridge &amp; Enrich Lives Society
REFRESH-INTERVAL;VALUE=DURATION:PT1H
X-Robots-Tag:noindex
X-PUBLISHED-TTL:PT1H
BEGIN:VTIMEZONE
TZID:America/Vancouver
BEGIN:DAYLIGHT
TZOFFSETFROM:-0800
TZOFFSETTO:-0700
TZNAME:PDT
DTSTART:20210314T100000
END:DAYLIGHT
BEGIN:STANDARD
TZOFFSETFROM:-0700
TZOFFSETTO:-0800
TZNAME:PST
DTSTART:20211107T090000
END:STANDARD
BEGIN:DAYLIGHT
TZOFFSETFROM:-0800
TZOFFSETTO:-0700
TZNAME:PDT
DTSTART:20220313T100000
END:DAYLIGHT
BEGIN:STANDARD
TZOFFSETFROM:-0700
TZOFFSETTO:-0800
TZNAME:PST
DTSTART:20221106T090000
END:STANDARD
BEGIN:DAYLIGHT
TZOFFSETFROM:-0800
TZOFFSETTO:-0700
TZNAME:PDT
DTSTART:20230312T100000
END:DAYLIGHT
BEGIN:STANDARD
TZOFFSETFROM:-0700
TZOFFSETTO:-0800
TZNAME:PST
DTSTART:20231105T090000
END:STANDARD
END:VTIMEZONE
BEGIN:VEVENT
DTSTART;TZID=America/Vancouver:20220503T130000
DTEND;TZID=America/Vancouver:20220503T153000
DTSTAMP:20260424T012139
CREATED:20220415T231734Z
LAST-MODIFIED:20220502T224739Z
UID:10001197-1651582800-1651591800@www.bridgeandenrich.com
SUMMARY:Radiant Heart Song Circle (8-Week Tuesday Cycle) OPEN HOUSE
DESCRIPTION:Come check out a free open house to experience the joy and transformation of the Radiant Heart Song Circle for women. Liberate your voice!\n \n\n\n\n\n\nAbout this event\n\n\nUse your voice to heal and uplift you! Welcome to a singing community of sisterhood and support. \nLet’s gather in song to raise up your spirits\, your confidence and your joy. Let’s chant together to deepen your connection with the divine\, and to stay in connection with other Radiant Women. Fill yourself with your own healing frequencies as you release stress and master the art of the singers’ breath. Learn some favorite well know songs\, sing some of my original ones\, African chants\, and Sanskrit traditional chants. \nMusic is the medicine to mindfully use breath and sound to journey inward to access your resilience and joy. \nSing Into Summer. \n8 song circles from Tuesday May 3rd – June 21st 1:00 – 3:30 \nCome and try the first week for free! All levels welcome to this special women’s song circle. \nThis FREE EVENT begins a new cycle of 8 weekly Radiant Heart Song Circles.  \nWe have two in person Song Circles to choose from at the beautiful Bridge and Enrich sacred space\, Fraser St at 20th Ave\, Vancouver\, and 1 online circle from the comfort of your home. \nTuesday\, May 3th 1:00 – 3:30 pm . Register here for in person open house. \nThursday\, May 5th 7:00 – 9:30 pm.  Register here for in person open house. \nWednesday\, May 4 1:00 – 3:00 Register here for online open house \nRadiant Heart Song Circle: inspiring self-empowerment\, creativity and community building through the power of singing.  \nMore info and to register for 8 week course https://julieblue.com
URL:https://www.bridgeandenrich.com/event/radiant-heart-song-circle-open-house/
LOCATION:Bridge & Enrich Lives Society\, 718 East 20th Avenue\, Vancouver\, British Columbia\, V5V 1N3\, Canada
CATEGORIES:Regular Weekly Classes,Special Event
END:VEVENT
BEGIN:VEVENT
DTSTART;TZID=America/Vancouver:20220505T190000
DTEND;TZID=America/Vancouver:20220505T213000
DTSTAMP:20260424T012139
CREATED:20220416T171410Z
LAST-MODIFIED:20220503T062101Z
UID:10001208-1651777200-1651786200@www.bridgeandenrich.com
SUMMARY:Radiant Heart Song Circle (8-Week Thursday Cycle) OPEN HOUSE
DESCRIPTION:Come check out a free open house to experience the joy and transformation of the Radiant Heart Song Circle for women. Liberate your voice! \n\n\n\n \n\n\n\n\n\nAbout this event\n\n\nUse your voice to heal and uplift you! Welcome to a singing community of sisterhood and support. \nLet’s gather in song to raise up your spirits\, your confidence and your joy. Let’s chant together to deepen your connection with the divine\, and to stay in connection with other Radiant Women. Fill yourself with your own healing frequencies as you release stress and master the art of the singers’ breath. Learn some favorite well know songs\, sing some of my original ones\, African chants\, and Sanskrit traditional chants. \nMusic is the medicine to mindfully use breath and sound to journey inward to access your resilience and joy. \nSing Into Summer. \n8 song circles from Thursday May 5th – June 23rd 7:00 – 9:30pm \nCome and try the first week for free! All levels welcome to this special women’s song circle. \nThis FREE EVENT begins a new cycle of 8 weekly Radiant Heart Song Circles.  \nWe have two in person Song Circles to choose from at the beautiful Bridge and Enrich sacred space\, Fraser St at 20th Ave\, Vancouver\, and 1 online circle from the comfort of your home. \nTuesday\, May 3th 1:00 – 3:30 pm . Register here for in person open house. \nThursday\, May 5th 7:00 – 9:30 pm.  Register here for in person open house. \nWednesday\, May 4 1:00 – 3:00 Register here for online open house \nRadiant Heart Song Circle: inspiring self-empowerment\, creativity and community building through the power of singing.  \nMore info and to register for 8 week course https://julieblue.com \n\n\n\n\nREGISTER HERE
URL:https://www.bridgeandenrich.com/event/radiant-heart-song-circle-8-week-thursday-cycle-open-house/
LOCATION:Bridge & Enrich Lives Society\, 718 East 20th Avenue\, Vancouver\, British Columbia\, V5V 1N3\, Canada
CATEGORIES:Regular Weekly Classes,Special Event
END:VEVENT
BEGIN:VEVENT
DTSTART;TZID=America/Vancouver:20220510T130000
DTEND;TZID=America/Vancouver:20220510T153000
DTSTAMP:20260424T012139
CREATED:20220416T165931Z
LAST-MODIFIED:20220421T034930Z
UID:10001199-1652187600-1652196600@www.bridgeandenrich.com
SUMMARY:Radiant Heart Song Circle (8-Week Tuesday Cycle)
DESCRIPTION:Use your voice to heal and uplift you! Welcome to a singing community of sisterhood and support. \nLet’s gather in song to raise up your spirits\, your confidence and your joy. Let’s chant together to deepen your connection with the divine\, and to stay in connection with other Radiant Women. Fill yourself with your own healing frequencies as you release stress and master the art of the singers’ breath. Learn some favorite well know songs\, sing some of my original ones\, African chants\, and Sanskrit traditional chants. \nMusic is the medicine to mindfully use breath and sound to journey inward to access your resilience and joy. \nSing Into Summer. \n8 song circles from Tuesday May 3rd – June 21st 1:00 – 3:30 \nRadiant Heart Song Circle: inspiring self-empowerment\, creativity and community building through the power of singing.  \nMore info and to register for 8 week course https://julieblue.com \nREGISTER HERE
URL:https://www.bridgeandenrich.com/event/radiant-heart-song-circle-8-week-tuesday-cycle/
LOCATION:Bridge & Enrich Lives Society\, 718 East 20th Avenue\, Vancouver\, British Columbia\, V5V 1N3\, Canada
CATEGORIES:Regular Weekly Classes
END:VEVENT
BEGIN:VEVENT
DTSTART;TZID=America/Vancouver:20220512T191500
DTEND;TZID=America/Vancouver:20220512T213000
DTSTAMP:20260424T012139
CREATED:20220416T200216Z
LAST-MODIFIED:20220416T200216Z
UID:10001210-1652382900-1652391000@www.bridgeandenrich.com
SUMMARY:Radiant Heart Song Circle (8-Week Thursday Cycle)
DESCRIPTION:Use your voice to heal and uplift you! Welcome to a singing community of sisterhood and support. \nLet’s gather in song to raise up your spirits\, your confidence and your joy. Let’s chant together to deepen your connection with the divine\, and to stay in connection with other Radiant Women. Fill yourself with your own healing frequencies as you release stress and master the art of the singers’ breath. Learn some favorite well know songs\, sing some of my original ones\, African chants\, and Sanskrit traditional chants. \nMusic is the medicine to mindfully use breath and sound to journey inward to access your resilience and joy. \nSing Into Summer. \n8 song circles from Thursday May 5th – June 23rd 7:15 – 3:30 \nREGISTER HERE
URL:https://www.bridgeandenrich.com/event/radiant-heart-song-circle-8-week-thursday-cycle/
LOCATION:Bridge & Enrich Lives Society\, 718 East 20th Avenue\, Vancouver\, British Columbia\, V5V 1N3\, Canada
CATEGORIES:Regular Weekly Classes
END:VEVENT
BEGIN:VEVENT
DTSTART;TZID=America/Vancouver:20220517T130000
DTEND;TZID=America/Vancouver:20220517T153000
DTSTAMP:20260424T012139
CREATED:20220416T170331Z
LAST-MODIFIED:20220421T034935Z
UID:10001201-1652792400-1652801400@www.bridgeandenrich.com
SUMMARY:Radiant Heart Song Circle (8-Week Tuesday Cycle)
DESCRIPTION:Use your voice to heal and uplift you! Welcome to a singing community of sisterhood and support. \nLet’s gather in song to raise up your spirits\, your confidence and your joy. Let’s chant together to deepen your connection with the divine\, and to stay in connection with other Radiant Women. Fill yourself with your own healing frequencies as you release stress and master the art of the singers’ breath. Learn some favorite well know songs\, sing some of my original ones\, African chants\, and Sanskrit traditional chants. \nMusic is the medicine to mindfully use breath and sound to journey inward to access your resilience and joy. \nSing Into Summer. \n8 song circles from Tuesday May 3rd – June 21st 1:00 – 3:30 \nRadiant Heart Song Circle: inspiring self-empowerment\, creativity and community building through the power of singing.  \nMore info and to register for 8 week course https://julieblue.com \nREGISTER HERE
URL:https://www.bridgeandenrich.com/event/radiant-heart-song-circle-8-week-tuesday-cycle-2/
LOCATION:Bridge & Enrich Lives Society\, 718 East 20th Avenue\, Vancouver\, British Columbia\, V5V 1N3\, Canada
CATEGORIES:Regular Weekly Classes
END:VEVENT
BEGIN:VEVENT
DTSTART;TZID=America/Vancouver:20220519T191500
DTEND;TZID=America/Vancouver:20220519T213000
DTSTAMP:20260424T012139
CREATED:20220416T200257Z
LAST-MODIFIED:20220416T200257Z
UID:10001212-1652987700-1652995800@www.bridgeandenrich.com
SUMMARY:Radiant Heart Song Circle (8-Week Thursday Cycle)
DESCRIPTION:Use your voice to heal and uplift you! Welcome to a singing community of sisterhood and support. \nLet’s gather in song to raise up your spirits\, your confidence and your joy. Let’s chant together to deepen your connection with the divine\, and to stay in connection with other Radiant Women. Fill yourself with your own healing frequencies as you release stress and master the art of the singers’ breath. Learn some favorite well know songs\, sing some of my original ones\, African chants\, and Sanskrit traditional chants. \nMusic is the medicine to mindfully use breath and sound to journey inward to access your resilience and joy. \nSing Into Summer. \n8 song circles from Thursday May 5th – June 23rd 7:15 – 3:30 \nREGISTER HERE
URL:https://www.bridgeandenrich.com/event/radiant-heart-song-circle-8-week-thursday-cycle-2/
LOCATION:Bridge & Enrich Lives Society\, 718 East 20th Avenue\, Vancouver\, British Columbia\, V5V 1N3\, Canada
CATEGORIES:Regular Weekly Classes
END:VEVENT
BEGIN:VEVENT
DTSTART;TZID=America/Vancouver:20220524T130000
DTEND;TZID=America/Vancouver:20220524T153000
DTSTAMP:20260424T012139
CREATED:20220416T170429Z
LAST-MODIFIED:20220421T034941Z
UID:10001202-1653397200-1653406200@www.bridgeandenrich.com
SUMMARY:Radiant Heart Song Circle (8-Week Tuesday Cycle)
DESCRIPTION:Use your voice to heal and uplift you! Welcome to a singing community of sisterhood and support. \nLet’s gather in song to raise up your spirits\, your confidence and your joy. Let’s chant together to deepen your connection with the divine\, and to stay in connection with other Radiant Women. Fill yourself with your own healing frequencies as you release stress and master the art of the singers’ breath. Learn some favorite well know songs\, sing some of my original ones\, African chants\, and Sanskrit traditional chants. \nMusic is the medicine to mindfully use breath and sound to journey inward to access your resilience and joy. \nSing Into Summer. \n8 song circles from Tuesday May 3rd – June 21st 1:00 – 3:30 \nRadiant Heart Song Circle: inspiring self-empowerment\, creativity and community building through the power of singing.  \nMore info and to register for 8 week course https://julieblue.com \nREGISTER HERE
URL:https://www.bridgeandenrich.com/event/radiant-heart-song-circle-8-week-tuesday-cycle-3/
LOCATION:Bridge & Enrich Lives Society\, 718 East 20th Avenue\, Vancouver\, British Columbia\, V5V 1N3\, Canada
CATEGORIES:Regular Weekly Classes
END:VEVENT
BEGIN:VEVENT
DTSTART;TZID=America/Vancouver:20220526T191500
DTEND;TZID=America/Vancouver:20220526T213000
DTSTAMP:20260424T012139
CREATED:20220416T200338Z
LAST-MODIFIED:20220416T200338Z
UID:10001215-1653592500-1653600600@www.bridgeandenrich.com
SUMMARY:Radiant Heart Song Circle (8-Week Thursday Cycle)
DESCRIPTION:Use your voice to heal and uplift you! Welcome to a singing community of sisterhood and support. \nLet’s gather in song to raise up your spirits\, your confidence and your joy. Let’s chant together to deepen your connection with the divine\, and to stay in connection with other Radiant Women. Fill yourself with your own healing frequencies as you release stress and master the art of the singers’ breath. Learn some favorite well know songs\, sing some of my original ones\, African chants\, and Sanskrit traditional chants. \nMusic is the medicine to mindfully use breath and sound to journey inward to access your resilience and joy. \nSing Into Summer. \n8 song circles from Thursday May 5th – June 23rd 7:15 – 3:30 \nREGISTER HERE
URL:https://www.bridgeandenrich.com/event/radiant-heart-song-circle-8-week-thursday-cycle-3/
LOCATION:Bridge & Enrich Lives Society\, 718 East 20th Avenue\, Vancouver\, British Columbia\, V5V 1N3\, Canada
CATEGORIES:Regular Weekly Classes
END:VEVENT
BEGIN:VEVENT
DTSTART;TZID=America/Vancouver:20220531T130000
DTEND;TZID=America/Vancouver:20220531T153000
DTSTAMP:20260424T012139
CREATED:20220416T170521Z
LAST-MODIFIED:20220421T034947Z
UID:10001203-1654002000-1654011000@www.bridgeandenrich.com
SUMMARY:Radiant Heart Song Circle (8-Week Tuesday Cycle)
DESCRIPTION:Use your voice to heal and uplift you! Welcome to a singing community of sisterhood and support. \nLet’s gather in song to raise up your spirits\, your confidence and your joy. Let’s chant together to deepen your connection with the divine\, and to stay in connection with other Radiant Women. Fill yourself with your own healing frequencies as you release stress and master the art of the singers’ breath. Learn some favorite well know songs\, sing some of my original ones\, African chants\, and Sanskrit traditional chants. \nMusic is the medicine to mindfully use breath and sound to journey inward to access your resilience and joy. \nSing Into Summer. \n8 song circles from Tuesday May 3rd – June 21st 1:00 – 3:30 \nRadiant Heart Song Circle: inspiring self-empowerment\, creativity and community building through the power of singing.  \nMore info and to register for 8 week course https://julieblue.com \nREGISTER HERE
URL:https://www.bridgeandenrich.com/event/radiant-heart-song-circle-8-week-tuesday-cycle-4/
LOCATION:Bridge & Enrich Lives Society\, 718 East 20th Avenue\, Vancouver\, British Columbia\, V5V 1N3\, Canada
CATEGORIES:Regular Weekly Classes
END:VEVENT
END:VCALENDAR