BEGIN:VCALENDAR
VERSION:2.0
PRODID:-//Bridge &amp; Enrich Lives Society - ECPv6.15.13//NONSGML v1.0//EN
CALSCALE:GREGORIAN
METHOD:PUBLISH
X-WR-CALNAME:Bridge &amp; Enrich Lives Society
X-ORIGINAL-URL:https://www.bridgeandenrich.com
X-WR-CALDESC:Events for Bridge &amp; Enrich Lives Society
REFRESH-INTERVAL;VALUE=DURATION:PT1H
X-Robots-Tag:noindex
X-PUBLISHED-TTL:PT1H
BEGIN:VTIMEZONE
TZID:America/Vancouver
BEGIN:DAYLIGHT
TZOFFSETFROM:-0800
TZOFFSETTO:-0700
TZNAME:PDT
DTSTART:20210314T100000
END:DAYLIGHT
BEGIN:STANDARD
TZOFFSETFROM:-0700
TZOFFSETTO:-0800
TZNAME:PST
DTSTART:20211107T090000
END:STANDARD
BEGIN:DAYLIGHT
TZOFFSETFROM:-0800
TZOFFSETTO:-0700
TZNAME:PDT
DTSTART:20220313T100000
END:DAYLIGHT
BEGIN:STANDARD
TZOFFSETFROM:-0700
TZOFFSETTO:-0800
TZNAME:PST
DTSTART:20221106T090000
END:STANDARD
BEGIN:DAYLIGHT
TZOFFSETFROM:-0800
TZOFFSETTO:-0700
TZNAME:PDT
DTSTART:20230312T100000
END:DAYLIGHT
BEGIN:STANDARD
TZOFFSETFROM:-0700
TZOFFSETTO:-0800
TZNAME:PST
DTSTART:20231105T090000
END:STANDARD
END:VTIMEZONE
BEGIN:VEVENT
DTSTART;VALUE=DATE:20221110
DTEND;VALUE=DATE:20221114
DTSTAMP:20260424T142706
CREATED:20220814T173710Z
LAST-MODIFIED:20221107T012928Z
UID:10001350-1668038400-1668383999@www.bridgeandenrich.com
SUMMARY:Art of Silence Retreat: In-Person Silent Retreat
DESCRIPTION:Times:\nTHU\, FRI: 6:00pm – 9:00pm\nSAT\, SUN: 7:00am – 9:00pm \nTeacher:\nhiteshini jugessur \nContact:\nM.K. Anand\, 7787517885\, mkanand@artofliving.ca \nMORE DETAILS AND REGISTRATION \nWhy take 3-4 days out of your busy life for a meditation retreat?\nThese few days make the rest of your year more alive\, productive and full of energy. When you emerge\, you feel recharged and refreshed\, ready to take on all your responsibilities with greater focus and joy. \n“Grateful to all the people and things which enable me to take time out like this to care for myself so that I can be the best\, most stress-free and happy version of myself possible … and in that be a better mamma. Truly blessed and most humbled. ” \n-Meggan\, megganmamma.com \n \nCreate Big Shifts in Your Life\nThe Silence Retreat can help you drop limiting beliefs\, regrets and worries\, and tap into a bigger vision for yourself. You come back to your life more grounded\, more centered\, more wise. You find a joy that is unshaken by outer circumstances. And the more often you do this retreat\, the more this strength and freedom builds inside of you. \nA Structured Retreat\nWhile other retreats could leave you a little to your own devices to find some silence amidst a quiet atmosphere\, many people find it challenging to know how to quiet their own minds. The Art of Silence Retreat provides optimal conditions for sinking deep within and breaking free from our mental chatter. Your whole day is carefully guided and crafted to give you as relaxing and transformative an experience possible. It’s no wonder that many course participants refer to it as the ideal vacation for body\, mind\, and spirit. \n“I have been to other silent retreats at places like Kripalu\, but basically\, we were just silent and did our own thing\, with optional classes we could attend throughout the day. But what we did here is so much more. What you guys offer is a full curriculum—the guided meditations\, the service\, the wisdom\, the music—all of this took me on a journey far deeper than I thought possible.” \nSilent Retreat participant\n“Meditation is the journey from movement to stillness\, sound to silence. “ \n-Sri Sri Ravi Shankar \nDeep Meditations\nA set of guided meditations called “Hollow and Empty” created by Sri Sri Ravi Shankar are a central part of the retreat. These meditations are geared towards drawing out the deepest layers of stress and tension from our nervous system. \nSilence\nSilence is more than not speaking\, it is a way to renew ourselves physically\, mentally\, and spiritually. Even just a few minutes of true silence gives a rest far deeper than sleep\, and possibly anything else you’ve experienced in life. \nMudras and Advanced Pranayama\nThe course builds upon the breathing exercises taught during the Happiness Program and teaches a series of Mudras – a subtle technique to balance the mind and emotions. \nMusic\nOften\, silence is associated with sadness. But in the retreat\, silence is a celebration. After a full day of yoga\, meditation and processes\, the evenings are spent celebrating the inner spirit through soulful music and sacred chants. \nMore Elements\n\n\n\nYoga- Unite the body and mind with a morning yoga session to start each day.\nVedic Wisdom-  Explore the “Four Pillars of Knowledge” from the ancient Vedic texts of India\, which gives us the tools to live with bliss in our lives.\nQuestion and Answer- Get clarity on meditation and peaceful living in nightly Q&A sessions with your teacher.\nWholesome Food- There’s nothing like eating well to soothe your spirit. Relish three delicious vegetarian meals a day.\n\n\n\nMORE DETAILS AND REGISTRATION
URL:https://www.bridgeandenrich.com/event/art-of-silence/
LOCATION:Bridge & Enrich Lives Society\, 718 East 20th Avenue\, Vancouver\, British Columbia\, V5V 1N3\, Canada
CATEGORIES:Weekend Workshops
END:VEVENT
END:VCALENDAR