BEGIN:VCALENDAR
VERSION:2.0
PRODID:-//Bridge &amp; Enrich Lives Society - ECPv6.15.13//NONSGML v1.0//EN
CALSCALE:GREGORIAN
METHOD:PUBLISH
X-ORIGINAL-URL:https://www.bridgeandenrich.com
X-WR-CALDESC:Events for Bridge &amp; Enrich Lives Society
REFRESH-INTERVAL;VALUE=DURATION:PT1H
X-Robots-Tag:noindex
X-PUBLISHED-TTL:PT1H
BEGIN:VTIMEZONE
TZID:America/Vancouver
BEGIN:DAYLIGHT
TZOFFSETFROM:-0800
TZOFFSETTO:-0700
TZNAME:PDT
DTSTART:20210314T100000
END:DAYLIGHT
BEGIN:STANDARD
TZOFFSETFROM:-0700
TZOFFSETTO:-0800
TZNAME:PST
DTSTART:20211107T090000
END:STANDARD
BEGIN:DAYLIGHT
TZOFFSETFROM:-0800
TZOFFSETTO:-0700
TZNAME:PDT
DTSTART:20220313T100000
END:DAYLIGHT
BEGIN:STANDARD
TZOFFSETFROM:-0700
TZOFFSETTO:-0800
TZNAME:PST
DTSTART:20221106T090000
END:STANDARD
BEGIN:DAYLIGHT
TZOFFSETFROM:-0800
TZOFFSETTO:-0700
TZNAME:PDT
DTSTART:20230312T100000
END:DAYLIGHT
BEGIN:STANDARD
TZOFFSETFROM:-0700
TZOFFSETTO:-0800
TZNAME:PST
DTSTART:20231105T090000
END:STANDARD
END:VTIMEZONE
BEGIN:VEVENT
DTSTART;TZID=America/Vancouver:20220906T130000
DTEND;TZID=America/Vancouver:20220906T153000
DTSTAMP:20260423T115623
CREATED:20220815T162610Z
LAST-MODIFIED:20220815T162610Z
UID:10001373-1662469200-1662478200@www.bridgeandenrich.com
SUMMARY:FREE OPEN HOUSE for 8 week Song Circle: Tuesday\, Sep 6 - Oct 25
DESCRIPTION:Come to a free open house on Tuesday\, September 6th 1:00 – 3:30 and give yourself permission to sing!\nREGISTER HERE \n\nCome check out a free open house to experience the joy and transformation of the Radiant Heart Song Circle for women. Liberate your voice! \n\n\nAbout this event\n\n\n\nTOTALLY WORTH EVERY MOMENT. For me\, it was spiritual healing\, physical exercise\, emotional bonding & support\, and of course\, joyful singing and gaining confidence and comfort with my voice. Thank you! For anyone reading this–I hope you will be inspired by my testimony to give yourself the gift of working with Julie! – Rachel \nWelcome to a singing community of sisterhood and support.\nI’m Julie Blue and I love to inspire women to sing with freedom. No matter if you’re a seasoned singer or someone just beginning who doesn’t quite believe you can sing. Together we will create a safe and sacred space to use our voices to raise joy\, connection and confidence. \nThe song circle with Julie not only helped me to be a better singer\, it helped me be more assertive and confident with the way I carry myself throughout the world. – Antonina \nYou will: \n\nBecome a more relaxed and expressive singer.\nLearn to use your voice for healing.\nUse movement\, ritual\, and visualization to release stress and make singing easy.\nLearn more about your range\, ear training\, vibrato\, and harmony.\nLearn well known songs\, some of my original songs\, African chants\, Sanskrit chants and songs from around the world.\nYou’ll receive all of the songs and lyrics in a weekly email.\n\nI came to the Radiant Heart Song Circle to learn how to better use my voice\, but what I learned most was how to use my authenticity. The warmth and inclusion of the group\, and the opportunity to check in and share\, made me feel comfortable enough to explore and expose parts of myself I would often keep hidden away. Julie is a master of music but also of intuition\, and her instinctive nudging guided me to experiment in different ways within my own body and surprised me as to how effective her techniques are. — Vanessa \nSing Into Fall.\n8 song circles from Tuesday\, September 6th – October 25th 1:00 – 3:30 \nCome and try the first week for free! All levels welcome to this special women’s song circle. This FREE EVENT begins a new cycle of 8 weekly Radiant Heart Song Circles. We have two in-person Song Circles to choose from at the beautiful Bridge and Enrich sacred space in Vancouver\, and 1 online circle from the comfort of your home. \nTuesday\, September 6th\, 1:00 – 3:30 pm . Register here  \nThursday\, September 8th\, 7:15 – 9:45 pm.  Register here  \nWednesday\, September 7th\, 1:00 – 3:15 Register here for the online open house.  \nRadiant Heart Song Circle: inspiring self-empowerment\, creativity\, and community building through the power of singing.  \nMore info and to register for 8 week course 
URL:https://www.bridgeandenrich.com/event/free-open-house-for-8-week-song-circle-tuesday-sep-6-oct-25/
LOCATION:Bridge & Enrich Lives Society\, 718 East 20th Avenue\, Vancouver\, British Columbia\, V5V 1N3\, Canada
CATEGORIES:5 to 8 Week Progressive Classes
END:VEVENT
BEGIN:VEVENT
DTSTART;TZID=America/Vancouver:20220908T191500
DTEND;TZID=America/Vancouver:20220908T214500
DTSTAMP:20260423T115623
CREATED:20220815T163729Z
LAST-MODIFIED:20220815T163729Z
UID:10001389-1662664500-1662673500@www.bridgeandenrich.com
SUMMARY:FREE OPEN HOUSE for 8 week Song Circle: Thursday\, Sep 8 - Oct 27
DESCRIPTION:Come check out a free open house to experience the joy and transformation of the Radiant Heart Song Circle for women. Liberate your voice! \n\n\nAbout this event\n\n\n\nTOTALLY WORTH EVERY MOMENT. For me\, it was spiritual healing\, physical exercise\, emotional bonding & support\, and of course\, joyful singing and gaining confidence and comfort with my voice. Thank you! For anyone reading this–I hope you will be inspired by my testimony to give yourself the gift of working with Julie! – Rachel \nWelcome to a singing community of sisterhood and support.\nI’m Julie Blue and I love to inspire women to sing with freedom. No matter if you’re a seasoned singer or someone just beginning who doesn’t quite believe you can sing. Together we will create a safe and sacred space to use our voices to raise joy\, connection and confidence. \nThe song circle with Julie not only helped me to be a better singer\, it helped me be more assertive and confident with the way I carry myself throughout the world. – Antonina \nYou will: \n\nBecome a more relaxed and expressive singer.\nLearn to use your voice for healing.\nUse movement\, ritual\, and visualization to release stress and make singing easy.\nLearn more about your range\, ear training\, vibrato\, and harmony.\nLearn well known songs\, some of my original songs\, African chants\, Sanskrit chants and songs from around the world.\nYou’ll receive all of the songs and lyrics in a weekly email.\n\nI came to the Radiant Heart Song Circle to learn how to better use my voice\, but what I learned most was how to use my authenticity. The warmth and inclusion of the group\, and the opportunity to check in and share\, made me feel comfortable enough to explore and expose parts of myself I would often keep hidden away. Julie is a master of music but also of intuition\, and her instinctive nudging guided me to experiment in different ways within my own body and surprised me as to how effective her techniques are. — Vanessa \nSing Into Fall.\n8 song circles from Tuesday September 6th – October 25th 1:00 – 3:30 \nCome and try the first week for free! All levels welcome to this special women’s song circle. This FREE EVENT begins a new cycle of 8 weekly Radiant Heart Song Circles.  We have two in person Song Circles to choose from at the beautiful Bridge and Enrich sacred space in Vancouver\, and 1 online circle from the comfort of your home. \nTuesday\, September 6th 1:00 – 3:30 pm . Register here  \nThursday\, September 8th 7:15 – 9:45 pm.  Register here  \nRadiant Heart Song Circle: inspiring self-empowerment\, creativity and community building through the power of singing.  \nMore info and to register for 8 week course
URL:https://www.bridgeandenrich.com/event/free-open-house-for-8-week-song-circle-thursday-sep-8-oct-27/
LOCATION:Bridge & Enrich Lives Society\, 718 East 20th Avenue\, Vancouver\, British Columbia\, V5V 1N3\, Canada
CATEGORIES:5 to 8 Week Progressive Classes
END:VEVENT
BEGIN:VEVENT
DTSTART;TZID=America/Vancouver:20220913T130000
DTEND;TZID=America/Vancouver:20220913T153000
DTSTAMP:20260423T115623
CREATED:20220815T163022Z
LAST-MODIFIED:20220815T163022Z
UID:10001374-1663074000-1663083000@www.bridgeandenrich.com
SUMMARY:8 week Song Circle: Tuesday\, Sep 6 - Oct 25
DESCRIPTION:Sign up for the Radiant Heart Song Circle: \nNew Member Pricing: $333 + GST for new members for the 8 week series\, music downloads & vocal warm ups.  \nReturning Member Pricing: $297 + GST \nREGISTER HERE \nAbout Radiant Heart Song Circle\nWelcome to a singing community of sisterhood and support.\nI’m Julie Blue and I love to inspire women to sing with freedom. No matter if you’re a seasoned singer or someone just beginning who doesn’t quite believe you can sing. Together we will create a safe and sacred space to use our voices to raise joy\, connection and confidence. \nThe song circle with Julie not only helped me to be a better singer\, it helped me be more assertive and confident with the way I carry myself throughout the world. – Antonina \nYou will: \n\nBecome a more relaxed and expressive singer.\nLearn to use your voice for healing.\nUse movement\, ritual\, and visualization to release stress and make singing easy.\nLearn more about your range\, ear training\, vibrato\, and harmony.\nLearn well known songs\, some of my original songs\, African chants\, Sanskrit chants and songs from around the world.\nYou’ll receive all of the songs and lyrics in a weekly email.\n\nI came to the Radiant Heart Song Circle to learn how to better use my voice\, but what I learned most was how to use my authenticity. The warmth and inclusion of the group\, and the opportunity to check in and share\, made me feel comfortable enough to explore and expose parts of myself I would often keep hidden away. Julie is a master of music but also of intuition\, and her instinctive nudging guided me to experiment in different ways within my own body and surprised me as to how effective her techniques are. — Vanessa \nSing Into Fall.\n8 song circles from Tuesday\, September 6th – October 25th 1:00 – 3:30
URL:https://www.bridgeandenrich.com/event/8-week-song-circle-tuesday-sep-6-oct-25/
LOCATION:Bridge & Enrich Lives Society\, 718 East 20th Avenue\, Vancouver\, British Columbia\, V5V 1N3\, Canada
CATEGORIES:5 to 8 Week Progressive Classes
END:VEVENT
BEGIN:VEVENT
DTSTART;TZID=America/Vancouver:20220915T191500
DTEND;TZID=America/Vancouver:20220915T214500
DTSTAMP:20260423T115623
CREATED:20220815T164054Z
LAST-MODIFIED:20220815T164054Z
UID:10001391-1663269300-1663278300@www.bridgeandenrich.com
SUMMARY:8 week Song Circle: Thursday\, Sep 8 - Oct 27
DESCRIPTION:Sign up for the Radiant Heart Song Circle: \nNew Member Pricing: $333 + GST for new members for the 8 week series\, music downloads & vocal warm ups.  \nReturning Member Pricing: $297 + GST \nREGISTER HERE \nWelcome to a singing community of sisterhood and support.\nI’m Julie Blue and I love to inspire women to sing with freedom. No matter if you’re a seasoned singer or someone just beginning who doesn’t quite believe you can sing. Together we will create a safe and sacred space to use our voices to raise joy\, connection and confidence. \nThe song circle with Julie not only helped me to be a better singer\, it helped me be more assertive and confident with the way I carry myself throughout the world. – Antonina \nYou will: \n\nBecome a more relaxed and expressive singer.\nLearn to use your voice for healing.\nUse movement\, ritual\, and visualization to release stress and make singing easy.\nLearn more about your range\, ear training\, vibrato\, and harmony.\nLearn well known songs\, some of my original songs\, African chants\, Sanskrit chants and songs from around the world.\nYou’ll receive all of the songs and lyrics in a weekly email.\n\nI came to the Radiant Heart Song Circle to learn how to better use my voice\, but what I learned most was how to use my authenticity. The warmth and inclusion of the group\, and the opportunity to check in and share\, made me feel comfortable enough to explore and expose parts of myself I would often keep hidden away. Julie is a master of music but also of intuition\, and her instinctive nudging guided me to experiment in different ways within my own body and surprised me as to how effective her techniques are. — Vanessa \nSing Into Fall.\nCome and try the first week for free! All levels welcome to this special women’s song circle. This FREE EVENT begins a new cycle of 8 weekly Radiant Heart Song Circles.  We have two in person Song Circles to choose from at the beautiful Bridge and Enrich sacred space in Vancouver\, and 1 online circle from the comfort of your home. \nRadiant Heart Song Circle: inspiring self-empowerment\, creativity and community building through the power of singing.  \nMore info and to register for 8 week course
URL:https://www.bridgeandenrich.com/event/8-week-song-circle-thursday-sep-8-oct-27/
LOCATION:Bridge & Enrich Lives Society\, 718 East 20th Avenue\, Vancouver\, British Columbia\, V5V 1N3\, Canada
CATEGORIES:5 to 8 Week Progressive Classes
END:VEVENT
BEGIN:VEVENT
DTSTART;TZID=America/Vancouver:20220920T130000
DTEND;TZID=America/Vancouver:20220920T153000
DTSTAMP:20260423T115624
CREATED:20220815T163050Z
LAST-MODIFIED:20220815T163050Z
UID:10001375-1663678800-1663687800@www.bridgeandenrich.com
SUMMARY:8 week Song Circle: Tuesday\, Sep 6 - Oct 25
DESCRIPTION:Sign up for the Radiant Heart Song Circle: \nNew Member Pricing: $333 + GST for new members for the 8 week series\, music downloads & vocal warm ups.  \nReturning Member Pricing: $297 + GST \nREGISTER HERE \nAbout Radiant Heart Song Circle\nWelcome to a singing community of sisterhood and support.\nI’m Julie Blue and I love to inspire women to sing with freedom. No matter if you’re a seasoned singer or someone just beginning who doesn’t quite believe you can sing. Together we will create a safe and sacred space to use our voices to raise joy\, connection and confidence. \nThe song circle with Julie not only helped me to be a better singer\, it helped me be more assertive and confident with the way I carry myself throughout the world. – Antonina \nYou will: \n\nBecome a more relaxed and expressive singer.\nLearn to use your voice for healing.\nUse movement\, ritual\, and visualization to release stress and make singing easy.\nLearn more about your range\, ear training\, vibrato\, and harmony.\nLearn well known songs\, some of my original songs\, African chants\, Sanskrit chants and songs from around the world.\nYou’ll receive all of the songs and lyrics in a weekly email.\n\nI came to the Radiant Heart Song Circle to learn how to better use my voice\, but what I learned most was how to use my authenticity. The warmth and inclusion of the group\, and the opportunity to check in and share\, made me feel comfortable enough to explore and expose parts of myself I would often keep hidden away. Julie is a master of music but also of intuition\, and her instinctive nudging guided me to experiment in different ways within my own body and surprised me as to how effective her techniques are. — Vanessa \nSing Into Fall.\n8 song circles from Tuesday\, September 6th – October 25th 1:00 – 3:30
URL:https://www.bridgeandenrich.com/event/8-week-song-circle-tuesday-sep-6-oct-25-2/
LOCATION:Bridge & Enrich Lives Society\, 718 East 20th Avenue\, Vancouver\, British Columbia\, V5V 1N3\, Canada
CATEGORIES:5 to 8 Week Progressive Classes
END:VEVENT
BEGIN:VEVENT
DTSTART;TZID=America/Vancouver:20220922T191500
DTEND;TZID=America/Vancouver:20220922T214500
DTSTAMP:20260423T115624
CREATED:20220815T164127Z
LAST-MODIFIED:20220815T164127Z
UID:10001233-1663874100-1663883100@www.bridgeandenrich.com
SUMMARY:8 week Song Circle: Thursday\, Sep 8 - Oct 27
DESCRIPTION:Sign up for the Radiant Heart Song Circle: \nNew Member Pricing: $333 + GST for new members for the 8 week series\, music downloads & vocal warm ups.  \nReturning Member Pricing: $297 + GST \nREGISTER HERE \nWelcome to a singing community of sisterhood and support.\nI’m Julie Blue and I love to inspire women to sing with freedom. No matter if you’re a seasoned singer or someone just beginning who doesn’t quite believe you can sing. Together we will create a safe and sacred space to use our voices to raise joy\, connection and confidence. \nThe song circle with Julie not only helped me to be a better singer\, it helped me be more assertive and confident with the way I carry myself throughout the world. – Antonina \nYou will: \n\nBecome a more relaxed and expressive singer.\nLearn to use your voice for healing.\nUse movement\, ritual\, and visualization to release stress and make singing easy.\nLearn more about your range\, ear training\, vibrato\, and harmony.\nLearn well known songs\, some of my original songs\, African chants\, Sanskrit chants and songs from around the world.\nYou’ll receive all of the songs and lyrics in a weekly email.\n\nI came to the Radiant Heart Song Circle to learn how to better use my voice\, but what I learned most was how to use my authenticity. The warmth and inclusion of the group\, and the opportunity to check in and share\, made me feel comfortable enough to explore and expose parts of myself I would often keep hidden away. Julie is a master of music but also of intuition\, and her instinctive nudging guided me to experiment in different ways within my own body and surprised me as to how effective her techniques are. — Vanessa \nSing Into Fall.\nCome and try the first week for free! All levels welcome to this special women’s song circle. This FREE EVENT begins a new cycle of 8 weekly Radiant Heart Song Circles.  We have two in person Song Circles to choose from at the beautiful Bridge and Enrich sacred space in Vancouver\, and 1 online circle from the comfort of your home. \nRadiant Heart Song Circle: inspiring self-empowerment\, creativity and community building through the power of singing.  \nMore info and to register for 8 week course
URL:https://www.bridgeandenrich.com/event/8-week-song-circle-thursday-sep-8-oct-27-2/
LOCATION:Bridge & Enrich Lives Society\, 718 East 20th Avenue\, Vancouver\, British Columbia\, V5V 1N3\, Canada
CATEGORIES:5 to 8 Week Progressive Classes
END:VEVENT
BEGIN:VEVENT
DTSTART;TZID=America/Vancouver:20220927T130000
DTEND;TZID=America/Vancouver:20220927T153000
DTSTAMP:20260423T115624
CREATED:20220815T163122Z
LAST-MODIFIED:20220815T163122Z
UID:10001379-1664283600-1664292600@www.bridgeandenrich.com
SUMMARY:8 week Song Circle: Tuesday\, Sep 6 - Oct 25
DESCRIPTION:Sign up for the Radiant Heart Song Circle: \nNew Member Pricing: $333 + GST for new members for the 8 week series\, music downloads & vocal warm ups.  \nReturning Member Pricing: $297 + GST \nREGISTER HERE \nAbout Radiant Heart Song Circle\nWelcome to a singing community of sisterhood and support.\nI’m Julie Blue and I love to inspire women to sing with freedom. No matter if you’re a seasoned singer or someone just beginning who doesn’t quite believe you can sing. Together we will create a safe and sacred space to use our voices to raise joy\, connection and confidence. \nThe song circle with Julie not only helped me to be a better singer\, it helped me be more assertive and confident with the way I carry myself throughout the world. – Antonina \nYou will: \n\nBecome a more relaxed and expressive singer.\nLearn to use your voice for healing.\nUse movement\, ritual\, and visualization to release stress and make singing easy.\nLearn more about your range\, ear training\, vibrato\, and harmony.\nLearn well known songs\, some of my original songs\, African chants\, Sanskrit chants and songs from around the world.\nYou’ll receive all of the songs and lyrics in a weekly email.\n\nI came to the Radiant Heart Song Circle to learn how to better use my voice\, but what I learned most was how to use my authenticity. The warmth and inclusion of the group\, and the opportunity to check in and share\, made me feel comfortable enough to explore and expose parts of myself I would often keep hidden away. Julie is a master of music but also of intuition\, and her instinctive nudging guided me to experiment in different ways within my own body and surprised me as to how effective her techniques are. — Vanessa \nSing Into Fall.\n8 song circles from Tuesday\, September 6th – October 25th 1:00 – 3:30
URL:https://www.bridgeandenrich.com/event/8-week-song-circle-tuesday-sep-6-oct-25-3/
LOCATION:Bridge & Enrich Lives Society\, 718 East 20th Avenue\, Vancouver\, British Columbia\, V5V 1N3\, Canada
CATEGORIES:5 to 8 Week Progressive Classes
END:VEVENT
BEGIN:VEVENT
DTSTART;TZID=America/Vancouver:20220929T191500
DTEND;TZID=America/Vancouver:20220929T214500
DTSTAMP:20260423T115624
CREATED:20220815T164156Z
LAST-MODIFIED:20220815T164156Z
UID:10001234-1664478900-1664487900@www.bridgeandenrich.com
SUMMARY:8 week Song Circle: Thursday\, Sep 8 - Oct 27
DESCRIPTION:Sign up for the Radiant Heart Song Circle: \nNew Member Pricing: $333 + GST for new members for the 8 week series\, music downloads & vocal warm ups.  \nReturning Member Pricing: $297 + GST \nREGISTER HERE \nWelcome to a singing community of sisterhood and support.\nI’m Julie Blue and I love to inspire women to sing with freedom. No matter if you’re a seasoned singer or someone just beginning who doesn’t quite believe you can sing. Together we will create a safe and sacred space to use our voices to raise joy\, connection and confidence. \nThe song circle with Julie not only helped me to be a better singer\, it helped me be more assertive and confident with the way I carry myself throughout the world. – Antonina \nYou will: \n\nBecome a more relaxed and expressive singer.\nLearn to use your voice for healing.\nUse movement\, ritual\, and visualization to release stress and make singing easy.\nLearn more about your range\, ear training\, vibrato\, and harmony.\nLearn well known songs\, some of my original songs\, African chants\, Sanskrit chants and songs from around the world.\nYou’ll receive all of the songs and lyrics in a weekly email.\n\nI came to the Radiant Heart Song Circle to learn how to better use my voice\, but what I learned most was how to use my authenticity. The warmth and inclusion of the group\, and the opportunity to check in and share\, made me feel comfortable enough to explore and expose parts of myself I would often keep hidden away. Julie is a master of music but also of intuition\, and her instinctive nudging guided me to experiment in different ways within my own body and surprised me as to how effective her techniques are. — Vanessa \nSing Into Fall.\nCome and try the first week for free! All levels welcome to this special women’s song circle. This FREE EVENT begins a new cycle of 8 weekly Radiant Heart Song Circles.  We have two in person Song Circles to choose from at the beautiful Bridge and Enrich sacred space in Vancouver\, and 1 online circle from the comfort of your home. \nRadiant Heart Song Circle: inspiring self-empowerment\, creativity and community building through the power of singing.  \nMore info and to register for 8 week course
URL:https://www.bridgeandenrich.com/event/8-week-song-circle-thursday-sep-8-oct-27-3/
LOCATION:Bridge & Enrich Lives Society\, 718 East 20th Avenue\, Vancouver\, British Columbia\, V5V 1N3\, Canada
CATEGORIES:5 to 8 Week Progressive Classes
END:VEVENT
END:VCALENDAR