BEGIN:VCALENDAR
VERSION:2.0
PRODID:-//Bridge &amp; Enrich Lives Society - ECPv6.15.13//NONSGML v1.0//EN
CALSCALE:GREGORIAN
METHOD:PUBLISH
X-ORIGINAL-URL:https://www.bridgeandenrich.com
X-WR-CALDESC:Events for Bridge &amp; Enrich Lives Society
REFRESH-INTERVAL;VALUE=DURATION:PT1H
X-Robots-Tag:noindex
X-PUBLISHED-TTL:PT1H
BEGIN:VTIMEZONE
TZID:America/Vancouver
BEGIN:DAYLIGHT
TZOFFSETFROM:-0800
TZOFFSETTO:-0700
TZNAME:PDT
DTSTART:20210314T100000
END:DAYLIGHT
BEGIN:STANDARD
TZOFFSETFROM:-0700
TZOFFSETTO:-0800
TZNAME:PST
DTSTART:20211107T090000
END:STANDARD
BEGIN:DAYLIGHT
TZOFFSETFROM:-0800
TZOFFSETTO:-0700
TZNAME:PDT
DTSTART:20220313T100000
END:DAYLIGHT
BEGIN:STANDARD
TZOFFSETFROM:-0700
TZOFFSETTO:-0800
TZNAME:PST
DTSTART:20221106T090000
END:STANDARD
BEGIN:DAYLIGHT
TZOFFSETFROM:-0800
TZOFFSETTO:-0700
TZNAME:PDT
DTSTART:20230312T100000
END:DAYLIGHT
BEGIN:STANDARD
TZOFFSETFROM:-0700
TZOFFSETTO:-0800
TZNAME:PST
DTSTART:20231105T090000
END:STANDARD
END:VTIMEZONE
BEGIN:VEVENT
DTSTART;TZID=America/Vancouver:20221025T130000
DTEND;TZID=America/Vancouver:20221025T153000
DTSTAMP:20260423T105354
CREATED:20220815T163318Z
LAST-MODIFIED:20220815T163318Z
UID:10001387-1666702800-1666711800@www.bridgeandenrich.com
SUMMARY:8 week Song Circle: Tuesday\, Sep 6 - Oct 25
DESCRIPTION:Sign up for the Radiant Heart Song Circle: \nNew Member Pricing: $333 + GST for new members for the 8 week series\, music downloads & vocal warm ups.  \nReturning Member Pricing: $297 + GST \nREGISTER HERE \nAbout Radiant Heart Song Circle\nWelcome to a singing community of sisterhood and support.\nI’m Julie Blue and I love to inspire women to sing with freedom. No matter if you’re a seasoned singer or someone just beginning who doesn’t quite believe you can sing. Together we will create a safe and sacred space to use our voices to raise joy\, connection and confidence. \nThe song circle with Julie not only helped me to be a better singer\, it helped me be more assertive and confident with the way I carry myself throughout the world. – Antonina \nYou will: \n\nBecome a more relaxed and expressive singer.\nLearn to use your voice for healing.\nUse movement\, ritual\, and visualization to release stress and make singing easy.\nLearn more about your range\, ear training\, vibrato\, and harmony.\nLearn well known songs\, some of my original songs\, African chants\, Sanskrit chants and songs from around the world.\nYou’ll receive all of the songs and lyrics in a weekly email.\n\nI came to the Radiant Heart Song Circle to learn how to better use my voice\, but what I learned most was how to use my authenticity. The warmth and inclusion of the group\, and the opportunity to check in and share\, made me feel comfortable enough to explore and expose parts of myself I would often keep hidden away. Julie is a master of music but also of intuition\, and her instinctive nudging guided me to experiment in different ways within my own body and surprised me as to how effective her techniques are. — Vanessa \nSing Into Fall.\n8 song circles from Tuesday\, September 6th – October 25th 1:00 – 3:30
URL:https://www.bridgeandenrich.com/event/8-week-song-circle-tuesday-sep-6-oct-25-7/
LOCATION:Bridge & Enrich Lives Society\, 718 East 20th Avenue\, Vancouver\, British Columbia\, V5V 1N3\, Canada
CATEGORIES:5 to 8 Week Progressive Classes
END:VEVENT
END:VCALENDAR