BEGIN:VCALENDAR
VERSION:2.0
PRODID:-//Bridge &amp; Enrich Lives Society - ECPv6.15.13//NONSGML v1.0//EN
CALSCALE:GREGORIAN
METHOD:PUBLISH
X-WR-CALNAME:Bridge &amp; Enrich Lives Society
X-ORIGINAL-URL:https://www.bridgeandenrich.com
X-WR-CALDESC:Events for Bridge &amp; Enrich Lives Society
REFRESH-INTERVAL;VALUE=DURATION:PT1H
X-Robots-Tag:noindex
X-PUBLISHED-TTL:PT1H
BEGIN:VTIMEZONE
TZID:America/Vancouver
BEGIN:DAYLIGHT
TZOFFSETFROM:-0800
TZOFFSETTO:-0700
TZNAME:PDT
DTSTART:20230312T100000
END:DAYLIGHT
BEGIN:STANDARD
TZOFFSETFROM:-0700
TZOFFSETTO:-0800
TZNAME:PST
DTSTART:20231105T090000
END:STANDARD
BEGIN:DAYLIGHT
TZOFFSETFROM:-0800
TZOFFSETTO:-0700
TZNAME:PDT
DTSTART:20240310T100000
END:DAYLIGHT
BEGIN:STANDARD
TZOFFSETFROM:-0700
TZOFFSETTO:-0800
TZNAME:PST
DTSTART:20241103T090000
END:STANDARD
BEGIN:DAYLIGHT
TZOFFSETFROM:-0800
TZOFFSETTO:-0700
TZNAME:PDT
DTSTART:20250309T100000
END:DAYLIGHT
BEGIN:STANDARD
TZOFFSETFROM:-0700
TZOFFSETTO:-0800
TZNAME:PST
DTSTART:20251102T090000
END:STANDARD
END:VTIMEZONE
BEGIN:VEVENT
DTSTART;TZID=America/Vancouver:20240516T083000
DTEND;TZID=America/Vancouver:20240516T173000
DTSTAMP:20260421T133601
CREATED:20240405T180428Z
LAST-MODIFIED:20240405T180428Z
UID:10001975-1715848200-1715880600@www.bridgeandenrich.com
SUMMARY:Dance Circle with Alyssa
DESCRIPTION:
URL:https://www.bridgeandenrich.com/event/dance-circle-with-alyssa-3/
LOCATION:Bridge & Enrich Lives Society\, 718 East 20th Avenue\, Vancouver\, British Columbia\, V5V 1N3\, Canada
CATEGORIES:Regular Weekly Classes
END:VEVENT
BEGIN:VEVENT
DTSTART;TZID=America/Vancouver:20240509T083000
DTEND;TZID=America/Vancouver:20240509T173000
DTSTAMP:20260421T133601
CREATED:20240405T180413Z
LAST-MODIFIED:20240405T180413Z
UID:10001974-1715243400-1715275800@www.bridgeandenrich.com
SUMMARY:Dance Circle with Alyssa
DESCRIPTION:
URL:https://www.bridgeandenrich.com/event/dance-circle-with-alyssa-2/
LOCATION:Bridge & Enrich Lives Society\, 718 East 20th Avenue\, Vancouver\, British Columbia\, V5V 1N3\, Canada
CATEGORIES:Regular Weekly Classes
END:VEVENT
BEGIN:VEVENT
DTSTART;TZID=America/Vancouver:20240502T083000
DTEND;TZID=America/Vancouver:20240502T173000
DTSTAMP:20260421T133601
CREATED:20240405T180305Z
LAST-MODIFIED:20240405T180305Z
UID:10001973-1714638600-1714671000@www.bridgeandenrich.com
SUMMARY:Dance Circle with Alyssa
DESCRIPTION:Details to come!
URL:https://www.bridgeandenrich.com/event/dance-circle-with-alyssa/
LOCATION:Bridge & Enrich Lives Society\, 718 East 20th Avenue\, Vancouver\, British Columbia\, V5V 1N3\, Canada
CATEGORIES:Regular Weekly Classes
END:VEVENT
END:VCALENDAR