BEGIN:VCALENDAR
VERSION:2.0
PRODID:-//Bridge &amp; Enrich Lives Society - ECPv6.15.13//NONSGML v1.0//EN
CALSCALE:GREGORIAN
METHOD:PUBLISH
X-ORIGINAL-URL:https://www.bridgeandenrich.com
X-WR-CALDESC:Events for Bridge &amp; Enrich Lives Society
REFRESH-INTERVAL;VALUE=DURATION:PT1H
X-Robots-Tag:noindex
X-PUBLISHED-TTL:PT1H
BEGIN:VTIMEZONE
TZID:America/Vancouver
BEGIN:DAYLIGHT
TZOFFSETFROM:-0800
TZOFFSETTO:-0700
TZNAME:PDT
DTSTART:20220313T100000
END:DAYLIGHT
BEGIN:STANDARD
TZOFFSETFROM:-0700
TZOFFSETTO:-0800
TZNAME:PST
DTSTART:20221106T090000
END:STANDARD
BEGIN:DAYLIGHT
TZOFFSETFROM:-0800
TZOFFSETTO:-0700
TZNAME:PDT
DTSTART:20230312T100000
END:DAYLIGHT
BEGIN:STANDARD
TZOFFSETFROM:-0700
TZOFFSETTO:-0800
TZNAME:PST
DTSTART:20231105T090000
END:STANDARD
BEGIN:DAYLIGHT
TZOFFSETFROM:-0800
TZOFFSETTO:-0700
TZNAME:PDT
DTSTART:20240310T100000
END:DAYLIGHT
BEGIN:STANDARD
TZOFFSETFROM:-0700
TZOFFSETTO:-0800
TZNAME:PST
DTSTART:20241103T090000
END:STANDARD
BEGIN:DAYLIGHT
TZOFFSETFROM:-0800
TZOFFSETTO:-0700
TZNAME:PDT
DTSTART:20250309T100000
END:DAYLIGHT
BEGIN:STANDARD
TZOFFSETFROM:-0700
TZOFFSETTO:-0800
TZNAME:PST
DTSTART:20251102T090000
END:STANDARD
END:VTIMEZONE
BEGIN:VEVENT
DTSTART;TZID=America/Vancouver:20240315T183000
DTEND;TZID=America/Vancouver:20240317T113000
DTSTAMP:20260421T070925
CREATED:20240309T203711Z
LAST-MODIFIED:20240309T203711Z
UID:10001952-1710527400-1710675000@www.bridgeandenrich.com
SUMMARY:Art of Living - Part 1
DESCRIPTION:Enjoy a transformative\, life-changing experience with an authentic practice designed by Gurudev Sri Sri Ravi Shankar. \n\n\nFee:  \nRegular: CAD395.00\nStudent: CAD295.00\nRepeater: CAD125.00\n\n\n\n\n\n \nTimes:  \nFRI: 6:30pm – 9:30pm\nSAT\, SUN: 8:30am – 11:30am\n\n\n\n\n \nTeachers:  \nChitrali Sharma\, Preksha Jain\n\n\n\n\n \nContact:\nPreksha Jain\, 6047862552\, preksha.jain@artofliving.ca\n\n \nCourse Id: BC2167
URL:https://www.bridgeandenrich.com/event/art-of-living-part-1/
LOCATION:Bridge & Enrich Lives Society\, 718 East 20th Avenue\, Vancouver\, British Columbia\, V5V 1N3\, Canada
CATEGORIES:Weekend Workshops
END:VEVENT
BEGIN:VEVENT
DTSTART;TZID=America/Vancouver:20230603T190000
DTEND;TZID=America/Vancouver:20230603T235900
DTSTAMP:20260421T070925
CREATED:20230520T165728Z
LAST-MODIFIED:20230520T165833Z
UID:10001406-1685818800-1685836740@www.bridgeandenrich.com
SUMMARY:Aum Yatra Encore Performance
DESCRIPTION:Our premiere concert immersed a sold-out audience into a musical kaleidoscopic of East and West. \nPeople told us they wanted more. \nOn June 3\, Aum Yatra’s encore performance will take you on another deep journey — once again\nguided by our mission: to bring peace\, love\, and harmony to the world through music. \nJoin us as seven virtuosic artists from varied cultures light your path to serene presence and deep tranquility. \nBliss is just the beginning. \nSeating options: please note there will be regular concert seating as well as floor space in front of the stage area for yoga mats\, pillows\, or other comfort items you’re welcome to bring with you (Available first-come-first-served). \nGET YOUR TICKETS HERE
URL:https://www.bridgeandenrich.com/event/aum-yatra-encore-performance/
LOCATION:Bridge & Enrich Lives Society\, 718 East 20th Avenue\, Vancouver\, British Columbia\, V5V 1N3\, Canada
CATEGORIES:Special Event
END:VEVENT
BEGIN:VEVENT
DTSTART;TZID=America/Vancouver:20230211T190000
DTEND;TZID=America/Vancouver:20230211T210000
DTSTAMP:20260421T070925
CREATED:20230127T215810Z
LAST-MODIFIED:20230127T215810Z
UID:10001564-1676142000-1676149200@www.bridgeandenrich.com
SUMMARY:Aum Yatra Premiere Performance
DESCRIPTION:Join Aum Yatra for an immersive meditative music experience.\nThis musical offering\, filled with Love\, Peace and Harmony\, will bring you into your peaceful presence. \nEast\, West\, Past and Present converge in a kaleidoscope of sound\, calling you home. \nAum Yatra is a collective of 7 accomplished musicians/recording artists of diverse backgrounds coming together on a mission to bring peace and harmony to this world. \n—————- \nAUM YATRA is:\nMatthew Kocel: “Cosmic Throat Singer” & World Instruments \nChloe Hurst: Vocals\, Keyboards \nSharnjeet Singh Mand: Sitar\, Vocals \nMark Fenster: Vocals\, Guitars\, Keyboards \nAnthony Anderson: Guitars\, Fx \nRon “Radar” Stelting: World Percussion \nStefan Nowarre: Sound & Production \nSteve Smith: Mix Master \nVisit Aum Yatra’s sound studio website to learn more and check out their sound. Then buy your tickets at the EventBrite link below! \nBUY YOUR TICKETS HERE
URL:https://www.bridgeandenrich.com/event/aum-yatra-premiere-performance/
LOCATION:Bridge & Enrich Lives Society\, 718 East 20th Avenue\, Vancouver\, British Columbia\, V5V 1N3\, Canada
CATEGORIES:Special Event
END:VEVENT
END:VCALENDAR