BEGIN:VCALENDAR
VERSION:2.0
PRODID:-//Bridge &amp; Enrich Lives Society - ECPv6.15.13//NONSGML v1.0//EN
CALSCALE:GREGORIAN
METHOD:PUBLISH
X-ORIGINAL-URL:https://www.bridgeandenrich.com
X-WR-CALDESC:Events for Bridge &amp; Enrich Lives Society
REFRESH-INTERVAL;VALUE=DURATION:PT1H
X-Robots-Tag:noindex
X-PUBLISHED-TTL:PT1H
BEGIN:VTIMEZONE
TZID:America/Vancouver
BEGIN:DAYLIGHT
TZOFFSETFROM:-0800
TZOFFSETTO:-0700
TZNAME:PDT
DTSTART:20220313T100000
END:DAYLIGHT
BEGIN:STANDARD
TZOFFSETFROM:-0700
TZOFFSETTO:-0800
TZNAME:PST
DTSTART:20221106T090000
END:STANDARD
BEGIN:DAYLIGHT
TZOFFSETFROM:-0800
TZOFFSETTO:-0700
TZNAME:PDT
DTSTART:20230312T100000
END:DAYLIGHT
BEGIN:STANDARD
TZOFFSETFROM:-0700
TZOFFSETTO:-0800
TZNAME:PST
DTSTART:20231105T090000
END:STANDARD
BEGIN:DAYLIGHT
TZOFFSETFROM:-0800
TZOFFSETTO:-0700
TZNAME:PDT
DTSTART:20240310T100000
END:DAYLIGHT
BEGIN:STANDARD
TZOFFSETFROM:-0700
TZOFFSETTO:-0800
TZNAME:PST
DTSTART:20241103T090000
END:STANDARD
END:VTIMEZONE
BEGIN:VEVENT
DTSTART;TZID=America/Vancouver:20231110T140000
DTEND;TZID=America/Vancouver:20231110T180000
DTSTAMP:20260421T083728
CREATED:20231105T171612Z
LAST-MODIFIED:20231105T171612Z
UID:10001508-1699624800-1699639200@www.bridgeandenrich.com
SUMMARY:Ayurveda Day
DESCRIPTION:Celebrate Ayurveda Day with us\n\n\n\n\n\n\nMingle with Ayurveda community & enjoy refreshments at Bridge & Enrich Lives Society on November 10\, 2023 from 2:00 PM-6:00 PM \n\n\n\n\n\nEveryone is welcome!\nAyurveda\, one of the oldest and well-documented systems of medicine\, remains relevant in modern times with its holistic approach\, emphasizing disease prevention and health promotion.\nRESERVE YOUR SPOT HERE \nProgram Details & Speakers\n  \nRESERVE YOUR SPOT HERE
URL:https://www.bridgeandenrich.com/event/ayurveda-day/
LOCATION:Bridge & Enrich Lives Society\, 718 East 20th Avenue\, Vancouver\, British Columbia\, V5V 1N3\, Canada
CATEGORIES:Special Event
ATTACH;FMTTYPE=image/png:https://www.bridgeandenrich.com/wp-content/uploads/2023/11/Screen-Shot-2023-11-05-at-9.03.21-AM.png
ORGANIZER;CN="Ayurveda Association of Canada":MAILTO:info@sewanti.com
END:VEVENT
END:VCALENDAR