BEGIN:VCALENDAR
VERSION:2.0
PRODID:-//Bridge &amp; Enrich Lives Society - ECPv6.15.13//NONSGML v1.0//EN
CALSCALE:GREGORIAN
METHOD:PUBLISH
X-WR-CALNAME:Bridge &amp; Enrich Lives Society
X-ORIGINAL-URL:https://www.bridgeandenrich.com
X-WR-CALDESC:Events for Bridge &amp; Enrich Lives Society
REFRESH-INTERVAL;VALUE=DURATION:PT1H
X-Robots-Tag:noindex
X-PUBLISHED-TTL:PT1H
BEGIN:VTIMEZONE
TZID:America/Vancouver
BEGIN:DAYLIGHT
TZOFFSETFROM:-0800
TZOFFSETTO:-0700
TZNAME:PDT
DTSTART:20220313T100000
END:DAYLIGHT
BEGIN:STANDARD
TZOFFSETFROM:-0700
TZOFFSETTO:-0800
TZNAME:PST
DTSTART:20221106T090000
END:STANDARD
BEGIN:DAYLIGHT
TZOFFSETFROM:-0800
TZOFFSETTO:-0700
TZNAME:PDT
DTSTART:20230312T100000
END:DAYLIGHT
BEGIN:STANDARD
TZOFFSETFROM:-0700
TZOFFSETTO:-0800
TZNAME:PST
DTSTART:20231105T090000
END:STANDARD
BEGIN:DAYLIGHT
TZOFFSETFROM:-0800
TZOFFSETTO:-0700
TZNAME:PDT
DTSTART:20240310T100000
END:DAYLIGHT
BEGIN:STANDARD
TZOFFSETFROM:-0700
TZOFFSETTO:-0800
TZNAME:PST
DTSTART:20241103T090000
END:STANDARD
BEGIN:DAYLIGHT
TZOFFSETFROM:-0800
TZOFFSETTO:-0700
TZNAME:PDT
DTSTART:20250309T100000
END:DAYLIGHT
BEGIN:STANDARD
TZOFFSETFROM:-0700
TZOFFSETTO:-0800
TZNAME:PST
DTSTART:20251102T090000
END:STANDARD
END:VTIMEZONE
BEGIN:VEVENT
DTSTART;TZID=America/Vancouver:20240223T190000
DTEND;TZID=America/Vancouver:20240223T203000
DTSTAMP:20260421T070927
CREATED:20240121T224109Z
LAST-MODIFIED:20240121T224130Z
UID:10001577-1708714800-1708720200@www.bridgeandenrich.com
SUMMARY:Ride The Rhythm (RtR): Ecstatic Dance/Conscious Movement/ Freestyle Dance
DESCRIPTION:Details to come\, check them out on EventBrite.
URL:https://www.bridgeandenrich.com/event/ride-the-rhythm-rtr-ecstatic-dance-conscious-movement-freestyle-dance-5/
LOCATION:Bridge & Enrich Lives Society\, 718 East 20th Avenue\, Vancouver\, British Columbia\, V5V 1N3\, Canada
CATEGORIES:Special Event
END:VEVENT
BEGIN:VEVENT
DTSTART;TZID=America/Vancouver:20240126T190000
DTEND;TZID=America/Vancouver:20240126T203000
DTSTAMP:20260421T070927
CREATED:20240121T222357Z
LAST-MODIFIED:20240121T222357Z
UID:10001926-1706295600-1706301000@www.bridgeandenrich.com
SUMMARY:Ride The Rhythm (RtR): Ecstatic Dance/Conscious Movement/ Freestyle Dance
DESCRIPTION:Monthly Ecstatic Dance\, a safe and supportive space for you to connect with your body\, mind\, and community through movement and music! \n\nDate and time\n\n\n \n\nFri\, Jan 26\, 2024 7:00 PM – 8:30 PM PST\n\nAbout this event\nWe’re excited to invite you to our first 2024 Ecstatic Dance curated by by Tara Achkar\, also known as Jaguar. \nJoin us for an evening of dancing\, connection\, and authentic expression. Embrace the freedom to dance without boundaries and let your inner rhythms lead the way! \nJoin us for an evening of self-expression\, where each beat is a step towards self-discovery. This experience will be curated by Tara Achkar\, also known as Jaguar. Jaguar energy draws inspiration from the captivating qualities of the jaguar\, symbolizing strength\, enigma\, and a mystical feline essence. \nImmerse yourself in the music\, share the transformative power of movement\, and connect deeply with others. \nWe welcome all! A ll religions\, all gender identities\, all races\, all shapes and sizes\, all sexual orientations\, all abilities and disabilities\, all languages\, all ages\, we welcome all! \nEvent Details:\n📅 Date: Friday\, January 26\, 2024 \n⏰ Time: 7:00 PM – 8:30 PM \n📝 The Door opens at 6:45 PM \n📝The Door closes at 7:15 PM (Please try to arrive on time to land into the space with the community) \n💸 Ticket Price: \n– Regular Rate: $20\n– Supported Rate: $18\n– Supporter Rate: $25 \nHow to get your ticket:\n\nReserve your spot with an e-transfer to ridetherhythmdance@gmail.com (No Security question and answer\, auto deposit)\nTickets are available on Eventbrite (Fees will apply)\n\n\nDrop in and pay cash (Limited capacity)\n\nHere’s some extra information:\n\nBring your water bottle\nWear movement-friendly clothing\, preferably in layers\nThe space is drug-free\, substance-free\, scent-free\, and judgment-free\, and all participants are expected to respect themselves and one another\nPlease share the space respectfully and check in before hugging or touching another dancer\nThe dance floor is a nonverbal space\, If you need to have a conversation\, however brief\, please step outside\nP lease turn off your cell phone and put it away for the duration of the event\nPlease do not attend if you feel unwell or have any flu-related symptoms.\nNo experience is required\nNo street shoes on the dance floor\n\nWhat is Ecstatic Dance/Freestyle Conscious Movement Practice?\nIt’s a unique style of dance that’s all about free expression and letting your body move to the beat of your own drum. Unlike traditional dance classes\, there’s no choreography to follow or steps to learn – it’s all about letting go and allowing the music to guide you.In an Ecstatic Dance session\, you’ll be surrounded by a community of like-minded individuals who share a passion for movement and self-exploration. Whether you’re a seasoned dancer or a complete novice\, everyone is welcome to join in the fun. \nSo\, if you’re ready to let loose and experience the joy of dance in a safe and non-judgmental environment\, come join us!
URL:https://www.bridgeandenrich.com/event/ride-the-rhythm-rtr-ecstatic-dance-conscious-movement-freestyle-dance-4/
LOCATION:Bridge & Enrich Lives Society\, 718 East 20th Avenue\, Vancouver\, British Columbia\, V5V 1N3\, Canada
CATEGORIES:Special Event
END:VEVENT
BEGIN:VEVENT
DTSTART;TZID=America/Vancouver:20231215T190000
DTEND;TZID=America/Vancouver:20231215T203000
DTSTAMP:20260421T070927
CREATED:20231113T180508Z
LAST-MODIFIED:20231113T180508Z
UID:10001902-1702666800-1702672200@www.bridgeandenrich.com
SUMMARY:Ride The Rhythm (RtR) Ecstatic Dance/Conscious Movement/Freestyle Dance
DESCRIPTION:Monthly Ecstatic Dance event\, a safe and supportive space for you to connect with your body\, mind\, and community through movement and music! \nCome join us for an evening of dancing\, connection\, and authentic expression. Embrace the freedom to dance without boundaries and let your inner rhythms lead the way! \nWe welcome all! All religions\, all gender identities\, all races\, all shapes and sizes\, all sexual orientations\, all abilities and disabilities\, all languages\, all ages\, we welcome all! \nTICKETS HERE \nEvent Details:\n📅 Date: Friday\, December 15\, 2023 \n⏰ Time: 7:00 PM – 8:30 PM \n📝 The Door opens at 6:45 PM \n📝The Door closes at 7:15 PM (Please try to arrive on time to land into the space with the community) \n💸 Ticket Price: Sliding scale: $18 to $25 \nHow to get your ticket:\n\nReserve your spot with an e-transfer to ridetherhythmdance@gmail.com (No Security question and answer\, auto deposit)\nTickets are available on Eventbrite (Fees will apply)\n\n\nDrop in and pay cash (Limited capacity)\n\nHere’s some extra information:\n\nBring your water bottle\nWear movement-friendly clothing\, preferably in layers\nThe space is drug-free\, substance-free\, scent-free\, and judgment-free\, and all participants are expected to respect themselves and one another\nPlease share the space respectfully and check in before hugging or touching another dancer\nThe dance floor is a nonverbal space\, If you need to have a conversation\, however brief\, please step outside\nPlease turn off your cell phone and put it away for the duration of the event\nPlease do not attend if you feel unwell or have any flu-related symptoms.\nNo experience is required\nNo street shoes on the dance floor\n\nWhat is Ecstatic Dance/Freestyle Conscious Movement Practice?\nIt’s a unique style of dance that’s all about free expression and letting your body move to the beat of your own drum. Unlike traditional dance classes\, there’s no choreography to follow or steps to learn – it’s all about letting go and allowing the music to guide you.In an Ecstatic Dance session\, you’ll be surrounded by a community of like-minded individuals who share a passion for movement and self-exploration. Whether you’re a seasoned dancer or a complete novice\, everyone is welcome to join in the fun. \nSo\, if you’re ready to let loose and experience the joy of dance in a safe and non-judgmental environment\, come join us!
URL:https://www.bridgeandenrich.com/event/ride-the-rhythm-rtr-ecstatic-dance-conscious-movement-freestyle-dance-3/
LOCATION:Bridge & Enrich Lives Society\, 718 East 20th Avenue\, Vancouver\, British Columbia\, V5V 1N3\, Canada
CATEGORIES:Special Event
END:VEVENT
BEGIN:VEVENT
DTSTART;TZID=America/Vancouver:20231210T170000
DTEND;TZID=America/Vancouver:20231210T184500
DTSTAMP:20260421T070927
CREATED:20231203T182801Z
LAST-MODIFIED:20231203T182801Z
UID:10001906-1702227600-1702233900@www.bridgeandenrich.com
SUMMARY:Ride The Rhythm (RtR): Improvised Singing- Vocal Jam
DESCRIPTION:The practice of improvised singing can be an intimate expression of our shared being. Each of us has a voice! We aim to find that voice! \nAre you ready to explore the magic of improvised singing and let your voice resonate freely with the rhythm of your heart? \nIn this singing circle\, we will come together as a smaller community to embrace the power of vocal expression\, creativity\, and unity (Up to 10 participants) Let your voice take flight in a safe and nurturing space where you can improvise\, harmonize\, and simply be YOU through the power of vocal expression. \n📅 Date: Sunday\, December 3rd and December 10th\, 2023 \n⏰ Time: 5:00 PM – 6:45 PM \n🚗 Note: Free street parking is available! \n💸 Ticket Price: $30 \nWe respectfully acknowledge that this event takes place on the traditional\, ancestral\, and unceded territory of the xʷməθkʷəy̓əm (Musqueam)\, Sḵwx̱wú7mesh (Squamish)\, and səlilwətaɬ (Tsleil-Waututh) Nations. \nHow to get your ticket: \nChoose from one of the following options: \n– Reserve your spot with an e-transfer to ridetherhythmdance@gmail.com (No Security question and answer\, auto deposit) \n– Tickets are available on Eventbrite (Fees will apply) \n– Drop in and pay cash (Limited capacity\, please contact us to make sure tickets are available before heading to the venue) \nWhat is Vocal Expression through Improvised Singing Practice? \nThe art and practice of improvised singing can be an intimate expression of our shared being. Each of us has a voice whether we believe we can sing or not\, and that voice isn’t just in our throats – it’s in our entire body. This miracle of breath and vibration- our unique sound – can be released and shared with others through vocal expression. Improvised singing isn’t the same as choir practice or learning songs – those are wonderful too. But singing doesn’t need words and it doesn’t have to be someone’s idea of beautiful. It doesn’t have to be something composed by someone first. To make improv singing come alive all we really have to do is show up together\, listen to each other\, open our mouths and make some noise! The rest is practice\, practice\, practice. Soon the noise becomes something more\, something other. The art and practice of shared vocal expression are almost always fun and sometimes challenging as we learn some basic building blocks and techniques – but with these tools\, we can find new and wonderful ways to express ourselves and create together. \nIf these words are pointing in a direction you’d really like to travel in\, then join this group and let the journey begin!
URL:https://www.bridgeandenrich.com/event/ride-the-rhythm-rtr-improvised-singing-vocal-jam-2/
LOCATION:Bridge & Enrich Lives Society\, 718 East 20th Avenue\, Vancouver\, British Columbia\, V5V 1N3\, Canada
CATEGORIES:Special Event
ATTACH;FMTTYPE=image/jpeg:https://www.bridgeandenrich.com/wp-content/uploads/2023/12/https___cdn.evbuc_.com_images_649997029_378213886551_1_original.jpeg
END:VEVENT
BEGIN:VEVENT
DTSTART;TZID=America/Vancouver:20231203T170000
DTEND;TZID=America/Vancouver:20231203T184500
DTSTAMP:20260421T070927
CREATED:20231203T182514Z
LAST-MODIFIED:20231203T182606Z
UID:10001905-1701622800-1701629100@www.bridgeandenrich.com
SUMMARY:Ride The Rhythm (RtR): Improvised Singing- Vocal Jam
DESCRIPTION:The practice of improvised singing can be an intimate expression of our shared being. Each of us has a voice! We aim to find that voice! \nAre you ready to explore the magic of improvised singing and let your voice resonate freely with the rhythm of your heart? \nIn this singing circle\, we will come together as a smaller community to embrace the power of vocal expression\, creativity\, and unity (Up to 10 participants) Let your voice take flight in a safe and nurturing space where you can improvise\, harmonize\, and simply be YOU through the power of vocal expression. \n📅 Date: Sunday\, December 3rd and December 10th\, 2023 \n⏰ Time: 5:00 PM – 6:45 PM \n🚗 Note: Free street parking is available! \n💸 Ticket Price: $30 \nWe respectfully acknowledge that this event takes place on the traditional\, ancestral\, and unceded territory of the xʷməθkʷəy̓əm (Musqueam)\, Sḵwx̱wú7mesh (Squamish)\, and səlilwətaɬ (Tsleil-Waututh) Nations. \nHow to get your ticket: \nChoose from one of the following options: \n– Reserve your spot with an e-transfer to ridetherhythmdance@gmail.com (No Security question and answer\, auto deposit) \n– Tickets are available on Eventbrite (Fees will apply) \n– Drop in and pay cash (Limited capacity\, please contact us to make sure tickets are available before heading to the venue) \nWhat is Vocal Expression through Improvised Singing Practice? \nThe art and practice of improvised singing can be an intimate expression of our shared being. Each of us has a voice whether we believe we can sing or not\, and that voice isn’t just in our throats – it’s in our entire body. This miracle of breath and vibration- our unique sound – can be released and shared with others through vocal expression. Improvised singing isn’t the same as choir practice or learning songs – those are wonderful too. But singing doesn’t need words and it doesn’t have to be someone’s idea of beautiful. It doesn’t have to be something composed by someone first. To make improv singing come alive all we really have to do is show up together\, listen to each other\, open our mouths and make some noise! The rest is practice\, practice\, practice. Soon the noise becomes something more\, something other. The art and practice of shared vocal expression are almost always fun and sometimes challenging as we learn some basic building blocks and techniques – but with these tools\, we can find new and wonderful ways to express ourselves and create together. \nIf these words are pointing in a direction you’d really like to travel in\, then join this group and let the journey begin!
URL:https://www.bridgeandenrich.com/event/ride-the-rhythm-rtr-improvised-singing-vocal-jam/
LOCATION:Bridge & Enrich Lives Society\, 718 East 20th Avenue\, Vancouver\, British Columbia\, V5V 1N3\, Canada
CATEGORIES:Special Event
ATTACH;FMTTYPE=image/jpeg:https://www.bridgeandenrich.com/wp-content/uploads/2023/12/https___cdn.evbuc_.com_images_649997029_378213886551_1_original.jpeg
END:VEVENT
BEGIN:VEVENT
DTSTART;TZID=America/Vancouver:20231124T180000
DTEND;TZID=America/Vancouver:20231124T210000
DTSTAMP:20260421T070927
CREATED:20231028T181643Z
LAST-MODIFIED:20231028T181853Z
UID:10001497-1700848800-1700859600@www.bridgeandenrich.com
SUMMARY:Expressive Arts & Ecstatic Dance Night
DESCRIPTION:Information to come!
URL:https://www.bridgeandenrich.com/event/expressive-arts-ecstatic-dance-night/
LOCATION:Bridge & Enrich Lives Society\, 718 East 20th Avenue\, Vancouver\, British Columbia\, V5V 1N3\, Canada
CATEGORIES:Special Event
END:VEVENT
BEGIN:VEVENT
DTSTART;TZID=America/Vancouver:20231112T180000
DTEND;TZID=America/Vancouver:20231112T193000
DTSTAMP:20260421T070927
CREATED:20231106T200500Z
LAST-MODIFIED:20231106T200500Z
UID:10001523-1699812000-1699817400@www.bridgeandenrich.com
SUMMARY:Vocal Expression thru Improvised Singing
DESCRIPTION:The practice of improvised singing can be an intimate expression of our shared being. Each of us has a voice! We aim to find that voice! \nSun\, Nov 12\, 2023 6:00 PM – 7:30 PM PST \n✨ 🎶 Vocal Expression through Improvised Singing 🎶✨\nAre you ready to explore the magic of improvised singing and let your voice resonate freely with the rhythm of your heart? \nJoin us on Sundays\, November 05th and November 12th from 6:00 PM to 7:30 PM at the Bridge & Enrich Lives Society (“BE”) \nIn this singing circle\, we will come together as a smaller community to embrace the power of vocal expression\, creativity\, and unity (Up to 10 participants) Let your voice take flight in a safe and nurturing space where you can improvise\, harmonize\, and simply be YOU through the power of vocal expression. \n\n\n\n\nHow to get your ticket:\nChoose from one of the following options: \n– Reserve your spot with an e-transfer to ridetherhythmdance@gmail.com (No Security question and answer\, auto deposit) \n– Tickets are available on Eventbrite (Fees will apply) \n– Drop in and pay cash (Limited capacity\, please contact us to make sure tickets are available before heading to the venue) \nWhat is Vocal Expression through Improvised Singing Practice?\nThe art and practice of improvised singing can be an intimate expression of our shared being. Each of us has a voice whether we believe we can sing or not\, and that voice isn’t just in our throats – it’s in our entire body. This miracle of breath and vibration- our unique sound – can be released and shared with others through vocal expression. Improvised singing isn’t the same as choir practice or learning songs – those are wonderful too. But singing doesn’t need words and it doesn’t have to be someone’s idea of beautiful. It doesn’t have to be something composed by someone first. To make improv singing come alive all we really have to do is show up together\, listen to each other\, open our mouths and make some noise! The rest is practice\, practice\, practice. Soon the noise becomes something more\, something other. The art and practice of shared vocal expression are almost always fun and sometimes challenging as we learn some basic building blocks and techniques – but with these tools\, we can find new and wonderful ways to express ourselves and create together. \n If these words are pointing in a direction you’d really like to travel in\, then join this group and let the journey begin! \n\n\n\n\n\n\n 
URL:https://www.bridgeandenrich.com/event/vocal-expression-thru-improvised-singing-2/
LOCATION:Bridge & Enrich Lives Society\, 718 East 20th Avenue\, Vancouver\, British Columbia\, V5V 1N3\, Canada
CATEGORIES:Special Event
ATTACH;FMTTYPE=image/jpeg:https://www.bridgeandenrich.com/wp-content/uploads/2023/11/https___cdn.evbuc_.com_images_633165269_378213886551_1_original.jpeg
END:VEVENT
BEGIN:VEVENT
DTSTART;TZID=America/Vancouver:20231110T190000
DTEND;TZID=America/Vancouver:20231110T203000
DTSTAMP:20260421T070927
CREATED:20231028T182243Z
LAST-MODIFIED:20231028T182401Z
UID:10001501-1699642800-1699648200@www.bridgeandenrich.com
SUMMARY:Ride The Rhythm (RtR) Ecstatic Dance/Conscious Movement/ Freestyle Dance
DESCRIPTION:Monthly Ecstatic Dance event\, a safe and supportive space for you to connect with your body\, mind\, and community through movement and music! \nCome join us for an evening of dancing\, connection\, and authentic expression. Embrace the freedom to dance without boundaries and let your inner rhythms lead the way! \nWe welcome all! All religions\, all gender identities\, all races\, all shapes and sizes\, all sexual orientations\, all abilities and disabilities\, all languages\, all ages\, we welcome all! \nTICKETS HERE \nEvent Details:\n📅 Date: Friday\, November 10\, 2023 \n⏰ Time: 7:00 PM – 8:30 PM \n📝 The Door opens at 6:45 PM \n📝The Door closes at 7:15 PM (Please try to arrive on time to land into the space with the community) \n💸 Ticket Price: Sliding scale: $18 to $25 \nHow to get your ticket:\n\nReserve your spot with an e-transfer to ridetherhythmdance@gmail.com (No Security question and answer\, auto deposit)\nTickets are available on Eventbrite (Fees will apply)\n\n\nDrop in and pay cash (Limited capacity)\n\nHere’s some extra information:\n\nBring your water bottle\nWear movement-friendly clothing\, preferably in layers\nThe space is drug-free\, substance-free\, scent-free\, and judgment-free\, and all participants are expected to respect themselves and one another\nPlease share the space respectfully and check in before hugging or touching another dancer\nThe dance floor is a nonverbal space\, If you need to have a conversation\, however brief\, please step outside\nPlease turn off your cell phone and put it away for the duration of the event\nPlease do not attend if you feel unwell or have any flu-related symptoms.\nNo experience is required\nNo street shoes on the dance floor\n\nWhat is Ecstatic Dance/Freestyle Conscious Movement Practice?\nIt’s a unique style of dance that’s all about free expression and letting your body move to the beat of your own drum. Unlike traditional dance classes\, there’s no choreography to follow or steps to learn – it’s all about letting go and allowing the music to guide you.In an Ecstatic Dance session\, you’ll be surrounded by a community of like-minded individuals who share a passion for movement and self-exploration. Whether you’re a seasoned dancer or a complete novice\, everyone is welcome to join in the fun. \nSo\, if you’re ready to let loose and experience the joy of dance in a safe and non-judgmental environment\, come join us!
URL:https://www.bridgeandenrich.com/event/ride-the-rhythm-rtr-ecstatic-dance-conscious-movement-freestyle-dance-2/
LOCATION:Bridge & Enrich Lives Society\, 718 East 20th Avenue\, Vancouver\, British Columbia\, V5V 1N3\, Canada
CATEGORIES:Special Event
END:VEVENT
BEGIN:VEVENT
DTSTART;TZID=America/Vancouver:20231029T170000
DTEND;TZID=America/Vancouver:20231029T183000
DTSTAMP:20260421T070927
CREATED:20231028T182041Z
LAST-MODIFIED:20231028T182041Z
UID:10001499-1698598800-1698604200@www.bridgeandenrich.com
SUMMARY:Vocal Expression thru Improvised Singing
DESCRIPTION:The practice of improvised singing can be an intimate expression of our shared being. Each of us has a voice! We aim to find that voice! \n✨ 🎶 Vocal Expression through Improvised Singing 🎶✨\nAre you ready to explore the magic of improvised singing and let your voice resonate freely with the rhythm of your heart?\nJoin us every Sunday in the month of October from 5:00 PM to 6:30 PM at the Bridge & Enrich Lives Society (“BE”)\nIn this singing circle\, we will come together as a smaller community to embrace the power of vocal expression\, creativity\, and unity (Up to 10 participants) Let your voice take flight in a safe and nurturing space where you can improvise\, harmonize\, and simply be YOU through the power of vocal expression.
URL:https://www.bridgeandenrich.com/event/vocal-expression-thru-improvised-singing/
LOCATION:Bridge & Enrich Lives Society\, 718 East 20th Avenue\, Vancouver\, British Columbia\, V5V 1N3\, Canada
CATEGORIES:Special Event
END:VEVENT
BEGIN:VEVENT
DTSTART;TZID=America/Vancouver:20230721T190000
DTEND;TZID=America/Vancouver:20230721T203000
DTSTAMP:20260421T070927
CREATED:20230721T163830Z
LAST-MODIFIED:20230721T172152Z
UID:10001741-1689966000-1689971400@www.bridgeandenrich.com
SUMMARY:Ride the Rhythm
DESCRIPTION:Join DJ Existence-Haasti Hamidi for Ride the Rhythm! \nHassti Hamidi\, also known as DJ Existence\, is a music curator of Iranian Canadian descent\, with roots in Tehran\, Iran\, where she was born and raised in a family that shared her passion for music. Growing up\, traditional Iranian music was an integral part of her life\, but she was introduced to rock and alternative rock music as a teenager and developed a deep love for iconic bands such as Pink Floyd and The Doors. Music has been a guiding force throughout her life\, connecting her with people from all walks of life. Curating music has been her passion since her early teenage years\, when she would create selections on cassette tapes as gifts for her friends and family. \nTo get a taste of the music that awaits you\, listen to free waves on DJ Existence’s Soundcloud page. \n\nFor EVENTBRITE TICKETS and more DETAILS\, Click here \n 
URL:https://www.bridgeandenrich.com/event/ride-the-rhythm-2/
LOCATION:Bridge & Enrich Lives Society\, 718 East 20th Avenue\, Vancouver\, British Columbia\, V5V 1N3\, Canada
END:VEVENT
END:VCALENDAR