BEGIN:VCALENDAR
VERSION:2.0
PRODID:-//Bridge &amp; Enrich Lives Society - ECPv6.15.13//NONSGML v1.0//EN
CALSCALE:GREGORIAN
METHOD:PUBLISH
X-ORIGINAL-URL:https://www.bridgeandenrich.com
X-WR-CALDESC:Events for Bridge &amp; Enrich Lives Society
REFRESH-INTERVAL;VALUE=DURATION:PT1H
X-Robots-Tag:noindex
X-PUBLISHED-TTL:PT1H
BEGIN:VTIMEZONE
TZID:America/Vancouver
BEGIN:DAYLIGHT
TZOFFSETFROM:-0800
TZOFFSETTO:-0700
TZNAME:PDT
DTSTART:20240310T100000
END:DAYLIGHT
BEGIN:STANDARD
TZOFFSETFROM:-0700
TZOFFSETTO:-0800
TZNAME:PST
DTSTART:20241103T090000
END:STANDARD
BEGIN:DAYLIGHT
TZOFFSETFROM:-0800
TZOFFSETTO:-0700
TZNAME:PDT
DTSTART:20250309T100000
END:DAYLIGHT
BEGIN:STANDARD
TZOFFSETFROM:-0700
TZOFFSETTO:-0800
TZNAME:PST
DTSTART:20251102T090000
END:STANDARD
BEGIN:DAYLIGHT
TZOFFSETFROM:-0800
TZOFFSETTO:-0700
TZNAME:PDT
DTSTART:20260308T100000
END:DAYLIGHT
BEGIN:STANDARD
TZOFFSETFROM:-0700
TZOFFSETTO:-0800
TZNAME:PST
DTSTART:20261101T090000
END:STANDARD
END:VTIMEZONE
BEGIN:VEVENT
DTSTART;VALUE=DATE:20251115
DTEND;VALUE=DATE:20251117
DTSTAMP:20260420T033538
CREATED:20251104T043706Z
LAST-MODIFIED:20251104T043813Z
UID:10003834-1763164800-1763337599@www.bridgeandenrich.com
SUMMARY:The Heart of Who We Are: Return to Belonging
DESCRIPTION:With Caverly Morgan\n \nWe all long to be happy. We all long to feel at ease\, to be at peace\, and to know that we’re okay and we belong. When it feels like the world is on fire\, when divisiveness is commonplace\, it can seem harder than ever to access such belonging — both personally and collectively. \nMost of us are deeply habituated to believe that we are separate — from one another\, from the world\, and even from ourselves. We are habituated to fall for the story that we must fix ourselves in order to earn and experience deep connection. \nWe forget that belonging is already seated in the heart of who we are — and that it’s always available if only we look within. When we do\, we can transform far more than just our own lives. \nAsk yourself these questions: \n\nHave you ever touched this peace\, this contentment\, this deep return to belonging but then feared losing this experience?\nHave you ever struggled because you recognized the world around you did not reflect this experience of your true nature?\n\nThese questions will guide our time together as we explore how meditation\, mindfulness\, and contemplative technologies can — and must — be applied collectively. Our guided meditations will serve as a framework onto which we will begin to weave teachings with personal reflections. You will have the opportunity to connect to yourself\, others\, and the world beyond in solo and group exercises and discussions that inspire us to put our values into action. \nJoin us in this return to belonging — this remembering of the deepest truth of who we are — with the intention of using this understanding to transform our own lives and the world we share. \nRecommended\, but not required\, reading:\nThe Heart of Who We Are: Realizing Freedom Together by Caverly Morgan \nFULL DETAILS AND REGISTRATION HERE
URL:https://www.bridgeandenrich.com/event/the-heart-of-who-we-are-return-to-belonging/
LOCATION:Bridge & Enrich Lives Society\, 718 East 20th Avenue\, Vancouver\, British Columbia\, V5V 1N3\, Canada
CATEGORIES:Weekend Workshops
END:VEVENT
END:VCALENDAR